{"text_format":"1","workbook":"xlsx","n_sheets":44,"sheets":["Ex 1 HDD","Exhibit 1.1","Exhibit 1.2","Exhibit 1.3","Ex 2 Clay Basin","Ex 2 Aquifers","Ex 2 Spire Storage West","Exhibit 2.1","Exhibit 2.2","Exhibit 2.3","Exhibit 2.3 ","Exhibit 2.4 ","Exhibit 2.6","Exhibit Firm Sales Volume","Exhibit 3.1","Exhibit 3.2","Exhibit 3.3","Exhibit 3.4","Ex 4 Purchase Gas","Exhibit 4.1","Exhibit 4.2","Exhibit 4.3","Ex 5 Purchase Gas Cost","Exhibit 5.1","Exhibit 5.2","Exhibit 5.3","Ex 6 Purch Gas Unit Cost","Exhibit 6.1","Exhibit 6.2","Ex 7 Co. Owned Gas","Exhibit 7.1","Exhibit 7.2","Exhibit 7.3","Ex 8 New Drill","Exhibit 8.1","Exhibit 8.2","Exhibit 8.3","Sheet10","Normal Purchase %","IRP Pruch Cover Sheet","Sheet1","Shut-In","Deleted Exhibit 2.5","Deleted Exhibit 2.6"],"not_rendered":{"charts":28,"images":0,"macros":1,"external_links":11,"defined_names":1378,"comments":1,"pivot_tables":0},"unopened":[],"bounds":{"document_bytes":16777216,"sheet_cells":100000,"rows_first":2000,"rows_last":500,"rows_between":2000,"halvings":0,"cell_chars":16384,"cell_head_chars":4096},"cells_cut":0,"cells_raw":0,"read":"whole","date_system":"1900"}

{"sheet":"Ex 1 HDD","index":0,"n_rows":20,"n_cols":9,"rows_kept":20,"cut":false,"hidden":false,"merged":[[0,0,0,5],[1,0,1,5],[1,8,1,9],[26,0,26,6],[4,0,4,6]]}
["Heating Degree Days",null,null,null,null,null,"Docket",null,"Dominion Energy Utah"]
[null,null,null,null,null,null,null,null,"Docket No. 22-057-02"]
[null,null,null,null,null,null,null,null,"DEU Variance Exhibit"]
[]
[]
[]
["Month/Year","Actual","Normal",null,null,"Actual","Normal"]
["2022-06-01",22,37.520000000000003,{"$f":"B8-C8","v":-15.520000000000003},null,{"$f":"B8","v":22},{"$f":"C8","v":37.520000000000003}]
["2022-07-01",0,0,{"$f":"B9-C9","v":0},null,{"$f":"B9+F8","v":22},{"$f":"G8+C9","v":37.520000000000003}]
["2022-08-01",0,1.8699999999999903,-1.8699999999999903,null,22,{"$f":"G9+C10","v":39.389999999999993}]
["2022-09-01",5,61.409999999999989,-56.409999999999989,null,27,100.79999999999998]
["2022-10-01",253,342.03,-89.029999999999973,null,{"$f":"B12+F11","v":280},442.82999999999993]
["2022-11-01",865,711.57999999999993,153.42000000000007,null,{"$f":"B13+F12","v":1145},1154.4099999999999]
["2022-12-01",1009,1054.6899999999998,-45.689999999999827,null,2154,2209.0999999999995]
["2023-01-01",978,1083.33,-105.32999999999993,null,3132,3292.4299999999994]
["2023-02-01",917,819.68000000000006,97.319999999999936,null,4049,4112.1099999999997]
["2023-03-01",807,620.29999999999995,186.70000000000005,null,4856,4732.41]
["2023-04-01",439,423.68999999999983,15.310000000000173,null,5295,5156.0999999999995]
["2023-05-01",63,196.79999999999998,-133.79999999999998,null,5358,5352.9]
[null,{"$f":"SUM(B8:B19)","v":5358},{"$f":"SUM(G8:G19)","v":26667.519999999997},{"$f":"SUM(D8:D19)","v":5.1000000000005343}]

{"sheet":"Exhibit 1.1","index":1,"n_rows":32,"n_cols":17,"rows_kept":32,"cut":false,"hidden":false,"merged":[]}
[]
[]
[]
[]
[]
[]
[]
[]
[]
[]
[]
[]
[]
[]
[]
[]
[]
[]
[]
[]
[]
[]
[]
[]
[]
[]
[]
[]
[]
[]
[null,null,null,null,null,null,null,null,null,null,null,null,null,null,{"$f":"'Ex 1 HDD'!I3","v":"DEU Variance Exhibit"},{"$f":"'Ex 1 HDD'!I2","v":"Docket No. 22-057-02"},{"$f":"'Ex 1 HDD'!I1","v":"Dominion Energy Utah"}]
[null,null,null,null,null,null,null,null,null,null,null,null,null,null,1.1000000000000001]

{"sheet":"Exhibit 1.2","index":2,"n_rows":32,"n_cols":17,"rows_kept":32,"cut":false,"hidden":false,"merged":[]}
[]
[]
[]
[]
[]
[]
[]
[]
[]
[]
[]
[]
[]
[]
[]
[]
[]
[]
[]
[]
[]
[]
[]
[]
[]
[]
[]
[]
[]
[]
[null,null,null,null,null,null,null,null,null,null,null,null,null,null,{"$f":"'Ex 1 HDD'!I3","v":"DEU Variance Exhibit"},{"$f":"'Ex 1 HDD'!I2","v":"Docket No. 22-057-02"},{"$f":"'Ex 1 HDD'!I1","v":"Dominion Energy Utah"}]
[null,null,null,null,null,null,null,null,null,null,null,null,null,null,1.2]

{"sheet":"Exhibit 1.3","index":3,"n_rows":32,"n_cols":17,"rows_kept":32,"cut":false,"hidden":false,"merged":[]}
[]
[]
[]
[]
[]
[]
[]
[]
[]
[]
[]
[]
[]
[]
[]
[]
[]
[]
[]
[]
[]
[]
[]
[]
[]
[]
[]
[]
[]
[]
[null,null,null,null,null,null,null,null,null,null,null,null,null,null,{"$f":"'Ex 1 HDD'!I3","v":"DEU Variance Exhibit"},{"$f":"'Ex 1 HDD'!I2","v":"Docket No. 22-057-02"},{"$f":"'Ex 1 HDD'!I1","v":"Dominion Energy Utah"}]
[null,null,null,null,null,null,null,null,null,null,null,null,null,null,1.3]

{"sheet":"Ex 2 Clay Basin","index":4,"n_rows":19,"n_cols":9,"rows_kept":19,"cut":false,"hidden":false,"merged":[[3,0,3,8],[0,0,0,8],[4,0,4,8],[1,0,1,4],[2,0,2,5]]}
["Clay Basin Ending Inventory (MDths)"]
[]
[]
[]
[]
[]
["Month/Year","Actual","Normal",null,"Actual","Actual/1000",null,"Actual","Normal"]
["2022-06-01",{"$f":"F8","v":1571.0619999999999},2789.9070000000002,{"$f":"B8-C8","v":-1218.8450000000003},1571062,{"$f":"E8/1000","v":1571.0619999999999},null,{"$f":"F8","v":1571.0619999999999},{"$f":"C8","v":2789.9070000000002}]
["2022-07-01",{"$f":"F9","v":3832.058},4555.2740000000003,-723.21600000000035,3832058,{"$f":"E9/1000","v":3832.058},null,{"$f":"H8+F9","v":5403.12},{"$f":"C9+I8","v":7345.1810000000005}]
["2022-08-01",5408.2569999999996,6242.4279999999999,-834.17100000000028,5408257,5408.2569999999996,null,{"$f":"H9+F10","v":10811.377},13587.609]
["2022-09-01",7778.0389999999998,8168.72,-390.68100000000049,7778039,7778.0389999999998,null,18589.416000000001,{"$f":"C11+I10","v":21756.329000000002}]
["2022-10-01",10327.441000000001,9745.5740000000005,581.86700000000019,10327441,10327.441000000001,null,28916.857000000004,31501.903000000002]
["2022-11-01",9565.4130000000005,9900.1440000000002,-334.73099999999977,9565413,9565.4130000000005,null,38482.270000000004,41402.047000000006]
["2022-12-01",6998.5119999999997,6490.0940000000001,508.41799999999967,6998512,6998.5119999999997,null,45480.782000000007,47892.141000000003]
["2023-01-01",4025.585,3080.0450000000001,945.54,4025585,4025.585,null,49506.367000000006,50972.186000000002]
["2023-02-01",1480.2940000000001,0,1480.2940000000001,1480294,1480.2940000000001,null,50986.661000000007,50972.186000000002]
["2023-03-01",453.65800000000002,805.14,-351.48199999999997,453658,453.65800000000002,null,51440.31900000001,51777.326000000001]
["2023-04-01",222.245,941.61699999999996,-719.37199999999996,222245,222.245,null,51662.564000000013,52718.942999999999]
["2023-05-01",2464.7260000000001,3359.6170000000002,-894.89100000000008,2464726,2464.7260000000001,null,54127.290000000015,56078.559999999998]

{"sheet":"Ex 2 Aquifers","index":5,"n_rows":20,"n_cols":17,"rows_kept":20,"cut":false,"hidden":false,"merged":[[2,0,2,14],[1,0,1,14],[3,0,3,9]]}
["Total Aquifer Storage Ending Inventory (MDths)"]
[]
[]
[null,null,null,null,null,null,null,null,null,null,null,null,null,null,1082,1106]
[]
[null,null,null,null,null,null,null,1.0549999999999999,null,null,null,null,"Month/Year","Month","Inj","With","Total"]
["Month/Year","Actual","Normal",null,"Actual","IRP",null,"MCF","DTH","MDTH",null,null,null,null,null,null,775.99800000000005]
[{"$f":"'Ex 1 HDD'!$A$8","v":"2022-06-01"},{"$f":"J8","v":808.93399999999997},{"$f":"Q8","v":775.99800000000005},{"$f":"B8-C8","v":32.935999999999922},{"$f":"B8","v":808.93399999999997},{"$f":"C8","v":775.99800000000005},null,{"$f":"I8/$H$6","v":766762.08530805691},808934,{"$f":"I8/1000","v":808.93399999999997},null,null,{"$f":"A8","v":"2022-06-01"},{"$f":"Q7","v":775.99800000000005},0,0,{"$f":"N8+O8-P8","v":775.99800000000005}]
[{"$f":"'Ex 1 HDD'!$A$9","v":"2022-07-01"},{"$f":"J9","v":819.64},{"$f":"Q9","v":775.99800000000005},{"$f":"B9-C9","v":43.641999999999939},{"$f":"B9+E8","v":1628.5740000000001},{"$f":"C9+F8","v":1551.9960000000001},null,{"$f":"I9/$H$6","v":776909.95260663517},819640,{"$f":"I9/1000","v":819.64},null,null,{"$f":"A9","v":"2022-07-01"},{"$f":"Q8","v":775.99800000000005},0,0,775.99800000000005]
[{"$f":"'Ex 1 HDD'!$A$10","v":"2022-08-01"},836.66700000000003,775.99800000000005,{"$f":"B10-C10","v":60.668999999999983},{"$f":"B10+E9","v":2465.241},2327.9940000000001,null,793049.28909952613,836667,836.66700000000003,null,null,"2022-08-01",{"$f":"Q9","v":775.99800000000005},0,0,775.99800000000005]
[{"$f":"'Ex 1 HDD'!$A$11","v":"2022-09-01"},{"$f":"J11","v":1136.9659999999999},{"$f":"Q11","v":881.49800000000005},{"$f":"B11-C11","v":255.46799999999985},{"$f":"B11+E10","v":3602.2069999999999},3209.4920000000002,null,{"$f":"I11/$H$6","v":1077692.8909952608},1136966,{"$f":"I11/1000","v":1136.9659999999999},null,null,"2022-09-01",775.99800000000005,105.5,0,881.49800000000005]
[{"$f":"'Ex 1 HDD'!$A12","v":"2022-10-01"},1377.7349999999999,1339.298,38.436999999999898,4979.942,4548.79,null,{"$f":"I12/$H$6","v":1305909.9526066352},1377735,{"$f":"I12/1000","v":1377.7349999999999},null,null,"2022-10-01",881.49800000000005,457.8,0,1339.298]
[{"$f":"'Ex 1 HDD'!$A13","v":"2022-11-01"},1735.7840000000001,1829.202,-93.417999999999893,6715.7260000000006,6377.9920000000002,null,1645292.8909952608,1735784,1735.7840000000001,null,null,"2022-11-01",1339.298,489.904,0,1829.202]
[{"$f":"'Ex 1 HDD'!$A14","v":"2022-12-01"},1633.3330000000001,1928.3679999999999,-295.03499999999985,8349.0590000000011,8306.36,null,{"$f":"I14/$H$6","v":1548182.9383886256},1633333,1633.3330000000001,null,null,"2022-12-01",1829.202,99.165999999999997,0,1928.3679999999999]
[{"$f":"'Ex 1 HDD'!$A15","v":"2023-01-01"},1455.932,923.32399999999996,532.60800000000006,9804.9910000000018,9229.6840000000011,null,1380030.3317535545,1455932,1455.932,null,null,"2023-01-01",1928.3679999999999,0,1005.044,{"$f":"N15+O15-P15","v":923.32399999999996}]
[{"$f":"'Ex 1 HDD'!$A16","v":"2023-02-01"},1728.6479999999999,598.30899999999997,1130.3389999999999,11533.639000000001,9827.9930000000004,null,1638528.9099526068,1728648,{"$f":"I16/1000","v":1728.6479999999999},null,null,"2023-02-01",923.32399999999996,361.11,686.125,598.30899999999997]
[{"$f":"'Ex 1 HDD'!$A17","v":"2023-03-01"},{"$f":"J17","v":1143.6659999999999},{"$f":"Q17","v":803.68399999999997},339.98199999999997,12677.305,10631.677,null,1084043.6018957347,1143666,{"$f":"I17/1000","v":1143.6659999999999},null,null,"2023-03-01",598.30899999999997,317.5,112.125,803.68399999999997]
[{"$f":"'Ex 1 HDD'!$A18","v":"2023-04-01"},804.07600000000002,803.68399999999997,0.39200000000005275,13481.381000000001,11435.360999999999,null,762157.34597156406,804076,{"$f":"I18/1000","v":804.07600000000002},null,null,"2023-04-01",803.68399999999997,0,0,803.68399999999997]
[{"$f":"'Ex 1 HDD'!$A19","v":"2023-05-01"},803.822,803.68399999999997,0.13800000000003365,14285.203000000001,12239.044999999998,null,761916.58767772513,803822,{"$f":"I19/1000","v":803.822},null,null,"2023-05-01",803.68399999999997,0,0,803.68399999999997]
[null,null,null,null,null,null,null,null,null,null,null,null,null,null,{"$f":"SUM(O8:O19)","v":1830.98},{"$f":"SUM(P8:P19)","v":1803.2939999999999}]

{"sheet":"Ex 2 Spire Storage West","index":6,"n_rows":21,"n_cols":17,"rows_kept":21,"cut":false,"hidden":true,"merged":[]}
[]
[]
[]
[]
[null,null,null,null,null,null,null,null,null,null,null,null,null,null,1082,1106]
[null,null,null,null,null,null,null,1000,null,null,null,null,null,"Month","Inj","With","Total"]
[{"$f":"'Ex 1 HDD'!A7","v":"Month/Year"},"Actual","Normal","Days","Daily Demand",null,"Actual Dth","MDth",null,"Actual","Normal",null,null,null,null,null,731]
[{"$f":"'Ex 1 HDD'!A8","v":"2022-06-01"},{"$f":"H8","v":799.21500000000003},{"$f":"Q8","v":1072.73},{"$f":"DAY(EOMONTH(A8,0))","v":30},{"$f":"C8/D8","v":35.757666666666665},null,799215,{"$f":"G8/$H$6","v":799.21500000000003},null,949.73599999999999,{"$f":"C8","v":1072.73},null,{"$f":"A8","v":"2022-06-01"},{"$f":"Q7","v":731},341.73,0,{"$f":"N8+O8-P8","v":1072.73}]
[{"$f":"'Ex 1 HDD'!A9","v":"2022-07-01"},{"$f":"H9","v":1151.3440000000001},{"$f":"Q9","v":1425.85},{"$f":"DAY(EOMONTH(A9,0))","v":31},{"$f":"C9/D9","v":45.995161290322578},null,1151344,{"$f":"G9/$H$6","v":1151.3440000000001},null,{"$f":"B9+J8","v":2101.08},{"$f":"C9+K8","v":2498.58},null,{"$f":"A9","v":"2022-07-01"},{"$f":"Q8","v":1072.73},353.12,0,1425.85]
[{"$f":"'Ex 1 HDD'!A10","v":"2022-08-01"},{"$f":"H10","v":1503.473},1778.9699999999998,31,57.386129032258061,null,1503473,1503.473,null,3604.5529999999999,4277.5499999999993,null,"2022-08-01",{"$f":"Q9","v":1425.85},353.12,0,1778.9699999999998]
[{"$f":"'Ex 1 HDD'!A11","v":"2022-09-01"},{"$f":"H11","v":1844.2429999999999},2120.6999999999998,30,70.69,null,1844243,1844.2429999999999,null,5448.7960000000003,6398.2499999999991,null,"2022-09-01",1778.9699999999998,341.73,0,2120.6999999999998]
[{"$f":"'Ex 1 HDD'!A12","v":"2022-10-01"},2052.4560000000001,2473.819,31,79.800612903225812,null,2052456,2052.4560000000001,null,7501.2520000000004,8872.0689999999995,null,"2022-10-01",2120.6999999999998,353.11900000000003,0,2473.819]
[{"$f":"'Ex 1 HDD'!A13","v":"2022-11-01"},1782.492,2511.0070000000001,30,83.70023333333333,null,1782492,1782.492,null,9283.7440000000006,11383.075999999999,null,"2022-11-01",2473.819,37.188000000000002,0,2511.0070000000001]
[{"$f":"'Ex 1 HDD'!A14","v":"2022-12-01"},1267.8920000000001,2003.0070000000001,31,64.613129032258072,null,1267892,1267.8920000000001,null,10551.636,13386.082999999999,null,"2022-12-01",2511.0070000000001,0,508,2003.0070000000001]
[{"$f":"'Ex 1 HDD'!A15","v":"2023-01-01"},763.66700000000003,1488.4070000000002,31,48.013129032258071,null,763667,763.66700000000003,null,11315.303,14874.489999999998,null,"2023-01-01",2003.0070000000001,0,514.6,1488.4070000000002]
[{"$f":"'Ex 1 HDD'!A16","v":"2023-02-01"},398.46699999999998,1023.6070000000002,28,36.557392857142865,null,398467,398.46699999999998,null,11713.77,15898.096999999998,null,"2023-02-01",1488.4070000000002,0,464.8,1023.6070000000002]
[{"$f":"'Ex 1 HDD'!A17","v":"2023-03-01"},{"$f":"G17","v":0},509.00700000000018,31,16.419580645161297,null,null,0,null,11713.77,16407.103999999999,null,"2023-03-01",1023.6070000000002,0,514.6,509.00700000000018]
[{"$f":"'Ex 1 HDD'!A18","v":"2023-04-01"},0,11.007000000000176,30,0.36690000000000583,null,null,0,null,11713.77,16418.111000000001,null,"2023-04-01",509.00700000000018,0,498,11.007000000000176]
[{"$f":"'Ex 1 HDD'!A19","v":"2023-05-01"},0,11.007000000000176,31,0.35506451612903794,null,null,0,null,11713.77,16429.118000000002,null,"2023-05-01",11.007000000000176,0,0,11.007000000000176]
[]
[null,null,null,null,null,null,null,null,null,null,null,null,null,null,{"$f":"SUM(O8:O20)","v":1780.0070000000001},{"$f":"SUM(O8:O19)","v":1780.0070000000001},{"$f":"SUM(P8:P19)","v":2500}]

{"sheet":"Exhibit 2.1","index":7,"n_rows":32,"n_cols":17,"rows_kept":32,"cut":false,"hidden":false,"merged":[]}
[]
[]
[]
[]
[]
[]
[]
[]
[]
[]
[]
[]
[]
[]
[]
[]
[]
[]
[]
[]
[]
[]
[]
[]
[]
[]
[]
[]
[]
[]
[null,null,null,null,null,null,null,null,null,null,null,null,null,null,{"$f":"'Exhibit 1.1'!O31","v":"DEU Variance Exhibit"},{"$f":"'Exhibit 1.1'!P31","v":"Docket No. 22-057-02"},{"$f":"'Exhibit 1.1'!Q31","v":"Dominion Energy Utah"}]
[null,null,null,null,null,null,null,null,null,null,null,null,null,null,2.1]

{"sheet":"Exhibit 2.2","index":8,"n_rows":32,"n_cols":17,"rows_kept":32,"cut":false,"hidden":false,"merged":[]}
[]
[]
[]
[]
[]
[]
[]
[]
[]
[]
[]
[]
[]
[]
[]
[]
[]
[]
[]
[]
[]
[]
[]
[]
[]
[]
[]
[]
[]
[]
[null,null,null,null,null,null,null,null,null,null,null,null,null,null,{"$f":"'Exhibit 1.1'!O31","v":"DEU Variance Exhibit"},{"$f":"'Exhibit 1.1'!P31","v":"Docket No. 22-057-02"},{"$f":"'Exhibit 1.1'!Q31","v":"Dominion Energy Utah"}]
[null,null,null,null,null,null,null,null,null,null,null,null,null,null,2.2000000000000002]

{"sheet":"Exhibit 2.3","index":9,"n_rows":32,"n_cols":17,"rows_kept":32,"cut":false,"hidden":true,"merged":[]}
[]
[]
[]
[]
[]
[]
[]
[]
[]
[]
[]
[]
[]
[]
[]
[]
[]
[]
[]
[]
[]
[]
[]
[]
[]
[]
[]
[]
[]
[]
[null,null,null,null,null,null,null,null,null,null,null,null,null,null,{"$f":"'Exhibit 1.1'!O31","v":"DEU Variance Exhibit"},{"$f":"'Exhibit 1.1'!P31","v":"Docket No. 22-057-02"},{"$f":"'Exhibit 1.1'!Q31","v":"Dominion Energy Utah"}]
[null,null,null,null,null,null,null,null,null,null,null,null,null,null,2.2999999999999998]

{"sheet":"Exhibit 2.3 ","index":10,"n_rows":32,"n_cols":17,"rows_kept":32,"cut":false,"hidden":false,"merged":[]}
[]
[]
[]
[]
[]
[]
[]
[]
[]
[]
[]
[]
[]
[]
[]
[]
[]
[]
[]
[]
[]
[]
[]
[]
[]
[]
[]
[]
[]
[]
[null,null,null,null,null,null,null,null,null,null,null,null,null,null,{"$f":"'Exhibit 1.1'!O31","v":"DEU Variance Exhibit"},{"$f":"'Exhibit 1.1'!P31","v":"Docket No. 22-057-02"},{"$f":"'Exhibit 1.1'!Q31","v":"Dominion Energy Utah"}]
[null,null,null,null,null,null,null,null,null,null,null,null,null,null,2.2999999999999998]

{"sheet":"Exhibit 2.4 ","index":11,"n_rows":32,"n_cols":17,"rows_kept":32,"cut":false,"hidden":false,"merged":[]}
[]
[]
[]
[]
[]
[]
[]
[]
[]
[]
[]
[]
[]
[]
[]
[]
[]
[]
[]
[]
[]
[]
[]
[]
[]
[]
[]
[]
[]
[]
[null,null,null,null,null,null,null,null,null,null,null,null,null,null,{"$f":"'Exhibit 1.1'!O31","v":"DEU Variance Exhibit"},{"$f":"'Exhibit 1.1'!P31","v":"Docket No. 22-057-02"},{"$f":"'Exhibit 1.1'!Q31","v":"Dominion Energy Utah"}]
[null,null,null,null,null,null,null,null,null,null,null,null,null,null,2.4]

{"sheet":"Exhibit 2.6","index":12,"n_rows":32,"n_cols":17,"rows_kept":32,"cut":false,"hidden":true,"merged":[]}
[]
[]
[]
[]
[]
[]
[]
[]
[]
[]
[]
[]
[]
[]
[]
[]
[]
[]
[]
[]
[]
[]
[]
[]
[]
[]
[]
[]
[]
[]
[null,null,null,null,null,null,null,null,null,null,null,null,null,null,{"$f":"'Exhibit 1.1'!O31","v":"DEU Variance Exhibit"},{"$f":"'Exhibit 1.1'!P31","v":"Docket No. 22-057-02"},{"$f":"'Exhibit 1.1'!Q31","v":"Dominion Energy Utah"}]
[null,null,null,null,null,null,null,null,null,null,null,null,null,null,2.6]

{"sheet":"Exhibit Firm Sales Volume","index":13,"n_rows":20,"n_cols":8,"rows_kept":20,"cut":false,"hidden":false,"merged":[[1,0,1,9],[5,6,5,8]]}
["Demand"]
[]
[]
[]
[]
[null,null,null,null,null,null,"Cumulative"]
[{"$f":"'Ex 1 HDD'!A7","v":"Month/Year"},"Actual","IRP Normal","Days","Daily Demand",null,"Actual","IRP Normal"]
["2022-06-01",2802.9350370000002,3129.067,{"$f":"DAY(EOMONTH(A8,0))","v":30},{"$f":"C8/D8","v":104.30223333333333},null,{"$f":"B8","v":2802.9350370000002},{"$f":"C8","v":3129.067}]
["2022-07-01",2610.7352989999999,2605.136,{"$f":"DAY(EOMONTH(A9,0))","v":31},{"$f":"C9/D9","v":84.036645161290323},null,{"$f":"B9+G8","v":5413.6703360000001},{"$f":"C9+H8","v":5734.2029999999995}]
["2022-08-01",2511.3532609999997,2567.1759999999999,31,82.812129032258056,null,{"$f":"B10+G9","v":7925.0235969999994},{"$f":"C10+H9","v":8301.378999999999}]
["2022-09-01",2720.3927439999998,3028.82,30,100.96066666666667,null,10645.416341,11330.198999999999]
["2022-10-01",5519.6106290000007,7331.2139999999999,31,236.49077419354839,null,16165.026970000001,18661.413]
["2022-11-01",16427.418068999999,12659.933999999999,30,421.99779999999998,null,32592.445038999998,31321.347000000002]
["2022-12-01",20807.623780000002,19257.5,31,621.20967741935488,null,53400.068819,50578.847000000002]
["2023-01-01",22066.428840999997,21030.833999999999,31,678.41399999999999,null,75466.497659999994,71609.680999999997]
["2023-02-01",19509.156864999997,17592.297999999999,28,628.29635714285712,null,94975.654524999991,89201.978999999992]
["2023-03-01",17967.818435999998,13834.956,31,446.28890322580645,null,112943.47296099999,103036.935]
["2023-04-01",10884.274485000002,9305.893,30,310.19643333333335,null,123827.74744599999,112342.82799999999]
["2023-05-01",3932.8029689999998,5581.4179999999997,31,180.04574193548385,null,127760.55041499999,117924.246]
[null,null,{"$f":"SUM(C8:C19)","v":117924.246}]

{"sheet":"Exhibit 3.1","index":14,"n_rows":32,"n_cols":17,"rows_kept":32,"cut":false,"hidden":false,"merged":[]}
[]
[]
[]
[]
[]
[]
[]
[]
[]
[]
[]
[]
[]
[]
[]
[]
[]
[]
[]
[]
[]
[]
[]
[]
[]
[]
[]
[]
[]
[]
[null,null,null,null,null,null,null,null,null,null,null,null,null,null,"DEU Variance Exhibit ","Docket No. 22-057-02","Dominion Energy Utah"]
[null,null,null,null,null,null,null,null,null,null,null,null,null,null,3.1]

{"sheet":"Exhibit 3.2","index":15,"n_rows":32,"n_cols":17,"rows_kept":32,"cut":false,"hidden":false,"merged":[]}
[]
[]
[]
[]
[]
[]
[]
[]
[]
[]
[]
[]
[]
[]
[]
[]
[]
[]
[]
[]
[]
[]
[]
[]
[]
[]
[]
[]
[]
[]
[null,null,null,null,null,null,null,null,null,null,null,null,null,null,"DEU Variance Exhibit ","Docket No. 22-057-02","Dominion Energy Utah"]
[null,null,null,null,null,null,null,null,null,null,null,null,null,null,3.2]

{"sheet":"Exhibit 3.3","index":16,"n_rows":32,"n_cols":17,"rows_kept":32,"cut":false,"hidden":false,"merged":[]}
[]
[]
[]
[]
[]
[]
[]
[]
[]
[]
[]
[]
[]
[]
[]
[]
[]
[]
[]
[]
[]
[]
[]
[]
[]
[]
[]
[]
[]
[]
[null,null,null,null,null,null,null,null,null,null,null,null,null,null,"DEU Variance Exhibit ","Docket No. 22-057-02","Dominion Energy Utah"]
[null,null,null,null,null,null,null,null,null,null,null,null,null,null,3.3]

{"sheet":"Exhibit 3.4","index":17,"n_rows":55,"n_cols":8,"rows_kept":55,"cut":false,"hidden":false,"merged":[[8,2,8,3],[8,4,8,5],[8,6,8,7]]}
[null,null,null,null,null,null,null,"Dominion Energy Utah"]
[null,null,null,null,null,null,"Docket No. 22-057-02"]
[null,null,null,null,null,null,null,"DEU Variance Exhibit 3.4"]
[]
[]
[null,"IRP Variance"]
[]
[null,"Actual Results "]
[null,null,"2023-03-07",null,"2023-04-07",null,"2023-05-08"]
[null,"SUPPLY","Actual","IRP","Actual","IRP","Actual","IRP"]
[1,"Cost of Service Prod (Mbtu)",4744.9070000000002,4780.2649999999994,4629.4710000000014,4524.5630000000001,4938.2420000000011,4577.2050000000008]
[{"$f":"A11+1","v":2},"Purchases (Mbtu)",11815.370999999999,8732.7219999999998,6094.8829999999998,4825.1480000000001,1815.5889999999999,3597.9140000000002]
[{"$f":"A12+1","v":3},"Clay Basin With (Mbtu)",1171.05,0,625.82500000000005,0,0,0]
[{"$f":"A13+1","v":4},"Acquifers With (Mbtu)",590.202,112.125,768.70100000000002,0,107.60899999999999,0]
[{"$f":"A14+1","v":5},"LNG With (Mbtu)",30.202999999999999,1230,31.765000000000001,0,77.293000000000006,0]
[{"$f":"A15+1","v":6},"Off-System ",11.62771,39.677,8.7683800000000005,38.396999999999998,2.91092,39.677]
[]
[{"$f":"A16+1","v":7},"Total Supply",18363.360710000001,14894.788999999999,12159.41338,9388.1080000000002,6941.6439200000013,8214.7960000000003]
[]
[null,"DEMAND"]
[{"$f":"A18+1","v":8},"Firm Sales (Mbtu)",17967.818435999998,13397.348000000002,10884.274485000002,8957.362000000001,3932.8029689999998,5266.92]
[{"$f":"A21+1","v":9},"Interruptible Sales (Mbtu)",56.982264999999998,46.071999999999996,25.574004000000002,40.395000000000003,38.284169999999996,28.096999999999998]
[{"$f":"A22+1","v":10},"Clay Basin Inj (Mbtu)",144.59399999999999,805.14,394.43799999999999,136.477,2242.489,2418.0009999999997]
[{"$f":"A23+1","v":11},"Acquifers Inj (Mbtu)",12.941000000000001,317.5,444.22399999999999,0,112.33,0]
[{"$f":"A24+1","v":12},"LNG Inj (Mbtu)",16.739999999999998,0,54.54,0,59.014000000000003,279]
[13,"Off-System ",11.62771,36.960999999999999,8.7683800000000005,35.802999999999997,2.91092,37.010000000000005]
[14,"Fuel",89.674000000000007,216.62,77.134,167.77399999999997,71.338999999999999,156.16900000000001]
[{"$f":"A27+1","v":15},"Company Use / L&U",62.983240000000002,75.147999999999996,270.46063299999997,50.297000000000004,482.47390200000001,29.599]
[]
[{"$f":"A28+1","v":16},"Total Demand",18363.360650999999,14894.789000000001,12159.413502000003,9388.108000000002,6941.6439609999998,8214.7960000000003]
[null," "]
[]
[{"$f":"A30+1","v":17},"Clay Basin Fuel Usage Adjustment",-0.18,0,-2.5999999999999999E-2,0,-8.0000000000000002E-3,0]
[{"$f":"A33+1","v":18},"Clay Basin Transfers",0,0,0,0,0,0]
[19,"Acquifers Fuel Usage Adjustment",-7.7210000000000001,0,-15.113,0,-4.9749999999999996,0]
[20,"Acquifers Transfers",0,0,0,0,0,0]
[21,"Clay Basin Current Bal",453.65800000000019,9.9999999974897946E-4,222.24500000000018,945.00099999999975,2464.7260000000006,3363.0019999999995]
[22,"Acquifers Current Bal",1143.6660000000002,0,804.07600000000002,0,803.822,0]
[23,"LNG Current Bal",130.32399999999998,0,153.09899999999999,0,134.82,0]
[]
[{"$f":"+A39+1","v":24},"Purchases($/Dth)",5.5266517196116807,4.7264701658887116,4.2237436559487715,3.618332536121172,1.7748661866755091,3.3661171445454223]
[{"$f":"A41+1","v":25},"Purchases $ (000)",65299.440454999982,41274.949999999997,25743.223405000015,17458.990000000002,3222.427525000001,12111]
[]
[]
[null,"Variances"]
[{"$f":"A42+1","v":26},"Cost of service volumes",0,0,104.90800000000127,0,361.03700000000026,0]
[{"$f":"A46+1","v":27},"Purchase volumes",3082.6489999999994,0,1269.7349999999997,0,0,0]
[28,"Purchase $ Act over (under) IRP",24024.490454999985,0,8284.2334050000136,0,0,-8888.572474999999]
[29,"Purchase Variance",14570.048530406668,0,4594.323462751815,0,0,-5999.5147396519205]
[30,"$ Variance",9454.4419245933095,0,3689.9099422481991,0,0,-2889.0577353480776]
[31,"Check",0,0,0,0,0,0]
[32,"Quarter Variance",null,null,null,null,23420.151384999997]
[33,"Purchase Variance",null,null,null,null,13164.857253506561]
[34,"$ Variance",null,null,null,null,10255.294131493432]
[35,"Check",null,null,null,null,0]

{"sheet":"Ex 4 Purchase Gas","index":18,"n_rows":21,"n_cols":13,"rows_kept":21,"cut":false,"hidden":false,"merged":[[5,6,5,7]]}
["Purchase Gas Variance (Brady Included) MDths"]
[]
[]
[]
[]
[null,null,null,null,null,null,"Cumulative"]
["Month/Year","Actual","IRP Normal",null,"Month/Year","Actual","IRP Normal",null,"Month/Year","DTHS","MDTHS","$'S","$1,000'S"]
[{"$f":"'Ex 1 HDD'!A8","v":"2022-06-01"},{"$f":"K8","v":483.77},619.59299999999996,null,{"$f":"A8","v":"2022-06-01"},{"$f":"K8","v":483.77},{"$f":"C8","v":619.59299999999996},null,{"$f":"A8","v":"2022-06-01"},483770,{"$f":"J8/1000","v":483.77},3039770.37,{"$f":"L8/1000","v":3039.7703700000002}]
[{"$f":"'Ex 1 HDD'!A9","v":"2022-07-01"},{"$f":"K9","v":252.06100000000001},0,null,"2022-07-01",{"$f":"F8+K9","v":735.83100000000002},{"$f":"G8+C9","v":619.59299999999996},null,"2022-07-01",252061,{"$f":"J9/1000","v":252.06100000000001},1510942.29,1510.94229]
[{"$f":"'Ex 1 HDD'!A10","v":"2022-08-01"},276.96699999999998,0,null,"2022-08-01",1012.798,619.59299999999996,null,"2022-08-01",276967,{"$f":"J10/1000","v":276.96699999999998},2379539.87,2379.5398700000001]
[{"$f":"'Ex 1 HDD'!A11","v":"2022-09-01"},1317.673,1212.3869999999999,null,"2022-09-01",2330.471,1831.98,null,"2022-09-01",1317673,1317.673,8540704.1049999967,8540.7041049999971]
[{"$f":"'Ex 1 HDD'!A12","v":"2022-10-01"},5048.6930000000002,5386.2150000000001,null,"2022-10-01",7379.1640000000007,7218.1949999999997,null,"2022-10-01",5048693,5048.6930000000002,25851201.679999996,25851.201679999995]
[{"$f":"'Ex 1 HDD'!A13","v":"2022-11-01"},12361.26,8236.6980000000003,null,"2022-11-01",19740.423999999999,15454.893,null,"2022-11-01",12361260,12361.26,95422606.359999999,95422.606360000005]
[{"$f":"'Ex 1 HDD'!A14","v":"2022-12-01"},13268.09,11121.36,null,"2022-12-01",33008.513999999996,26576.253000000001,null,"2022-12-01",13268090,13268.09,257032334.00999999,257032.33400999999]
[{"$f":"'Ex 1 HDD'!A15","v":"2023-01-01"},14474.545,11959.41,null,"2023-01-01",47483.058999999994,38535.663,null,"2023-01-01",14474545,14474.545,396229609.97000003,396229.60997000005]
[{"$f":"'Ex 1 HDD'!A16","v":"2023-02-01"},13515.505999999999,9791.5910000000003,null,"2023-02-01",60998.564999999995,48327.254000000001,null,"2023-02-01",13515506,13515.505999999999,139662740.96000001,139662.74096]
[{"$f":"'Ex 1 HDD'!A17","v":"2023-03-01"},11815.370999999999,8732.7219999999998,null,"2023-03-01",72813.935999999987,57059.976000000002,null,"2023-03-01",11815371,11815.370999999999,65299440.454999983,65299.440454999982]
[{"$f":"'Ex 1 HDD'!A18","v":"2023-04-01"},6094.8829999999998,4825.1480000000001,null,"2023-04-01",78908.818999999989,{"$f":"G17+C18","v":61885.124000000003},null,"2023-04-01",6094883,6094.8829999999998,25743223.405000016,25743.223405000015]
[{"$f":"'Ex 1 HDD'!A19","v":"2023-05-01"},1815.5889999999999,3597.9140000000002,null,"2023-05-01",80724.407999999996,65483.038,null,"2023-05-01",1815589,1815.5889999999999,3222427.5250000008,3222.427525000001]
[]
[null,{"$f":"SUM(B8:B19)","v":80724.407999999996},{"$f":"SUM(C8:C20)","v":65483.038}]

{"sheet":"Exhibit 4.1","index":19,"n_rows":32,"n_cols":17,"rows_kept":32,"cut":false,"hidden":false,"merged":[]}
[]
[]
[]
[]
[]
[]
[]
[]
[]
[]
[]
[]
[]
[]
[]
[]
[]
[]
[]
[]
[]
[]
[]
[]
[]
[]
[]
[]
[]
[]
[null,null,null,null,null,null,null,null,null,null,null,null,null,null,{"$f":"'Exhibit 1.1'!O31","v":"DEU Variance Exhibit"},"Docket No. 22-057-02",{"$f":"'Exhibit 1.1'!Q31","v":"Dominion Energy Utah"}]
[null,null,null,null,null,null,null,null,null,null,null,null,null,null,4.0999999999999996]

{"sheet":"Exhibit 4.2","index":20,"n_rows":31,"n_cols":17,"rows_kept":31,"cut":false,"hidden":false,"merged":[]}
[]
[]
[]
[]
[]
[]
[]
[]
[]
[]
[]
[]
[]
[]
[]
[]
[]
[]
[]
[]
[]
[]
[]
[]
[]
[]
[]
[]
[]
[null,null,null,null,null,null,null,null,null,null,null,null,null,null,{"$f":"'Exhibit 1.1'!O31","v":"DEU Variance Exhibit"},"Docket No. 22-057-02",{"$f":"'Exhibit 1.1'!Q31","v":"Dominion Energy Utah"}]
[null,null,null,null,null,null,null,null,null,null,null,null,null,null,4.2]

{"sheet":"Exhibit 4.3","index":21,"n_rows":32,"n_cols":16,"rows_kept":32,"cut":false,"hidden":false,"merged":[]}
[]
[]
[]
[]
[]
[]
[]
[]
[]
[]
[]
[]
[]
[]
[]
[]
[]
[]
[]
[]
[]
[]
[]
[]
[]
[]
[]
[]
[]
[]
[null,null,null,null,null,null,null,null,null,null,null,null,null,{"$f":"'Exhibit 1.1'!O31","v":"DEU Variance Exhibit"},"Docket No. 22-057-02",{"$f":"'Exhibit 1.1'!Q31","v":"Dominion Energy Utah"}]
[null,null,null,null,null,null,null,null,null,null,null,null,null,null,4.3]

{"sheet":"Ex 5 Purchase Gas Cost","index":22,"n_rows":21,"n_cols":6,"rows_kept":21,"cut":false,"hidden":false,"merged":[[1,0,1,6],[0,0,0,6],[2,0,2,7],[5,4,5,5]]}
["Purchase Gas Cost Variance ($1,000's)"]
[]
[]
[]
[]
[null,null,null,null,"Cumulative"]
["Month/Year","Actual","Normal",null,"Actual","Normal"]
[{"$f":"'Ex 1 HDD'!A8","v":"2022-06-01"},{"$f":"'Ex 4 Purchase Gas'!M8","v":3039.7703700000002},3457.5050000000001,null,{"$f":"B8","v":3039.7703700000002},{"$f":"C8","v":3457.5050000000001}]
[{"$f":"'Ex 1 HDD'!A9","v":"2022-07-01"},{"$f":"'Ex 4 Purchase Gas'!M9","v":1510.94229},0,null,{"$f":"E8+B9","v":4550.7126600000001},{"$f":"C9+F8","v":3457.5050000000001}]
[{"$f":"'Ex 1 HDD'!A10","v":"2022-08-01"},{"$f":"'Ex 4 Purchase Gas'!M10","v":2379.5398700000001},0,null,6930.2525299999998,{"$f":"C10+F9","v":3457.5050000000001}]
[{"$f":"'Ex 1 HDD'!A11","v":"2022-09-01"},{"$f":"'Ex 4 Purchase Gas'!M11","v":8540.7041049999971},6266.0990000000002,null,15470.956634999997,9723.6039999999994]
[{"$f":"'Ex 1 HDD'!A12","v":"2022-10-01"},{"$f":"'Ex 4 Purchase Gas'!M12","v":25851.201679999995},27103.54,null,41322.158314999993,36827.144]
[{"$f":"'Ex 1 HDD'!A13","v":"2022-11-01"},{"$f":"'Ex 4 Purchase Gas'!M13","v":95422.606360000005},46541.06,null,136744.76467499998,83368.203999999998]
[{"$f":"'Ex 1 HDD'!A14","v":"2022-12-01"},{"$f":"'Ex 4 Purchase Gas'!M14","v":257032.33400999999},59564.76,null,393777.09868499998,142932.96400000001]
[{"$f":"'Ex 1 HDD'!A15","v":"2023-01-01"},{"$f":"'Ex 4 Purchase Gas'!M15","v":396229.60997000005},72886.91,null,790006.70865499997,215819.87400000001]
[{"$f":"'Ex 1 HDD'!A16","v":"2023-02-01"},{"$f":"'Ex 4 Purchase Gas'!M16","v":139662.74096},52464.89,null,929669.44961499993,268284.76400000002]
[{"$f":"'Ex 1 HDD'!A17","v":"2023-03-01"},{"$f":"'Ex 4 Purchase Gas'!M17","v":65299.440454999982},41274.949999999997,null,994968.89006999996,309559.71400000004]
[{"$f":"'Ex 1 HDD'!A18","v":"2023-04-01"},{"$f":"'Ex 4 Purchase Gas'!M18","v":25743.223405000015},17458.990000000002,null,1020712.113475,327018.70400000003]
[{"$f":"'Ex 1 HDD'!A19","v":"2023-05-01"},{"$f":"'Ex 4 Purchase Gas'!M19","v":3222.427525000001},12111,null,1023934.541,339129.70400000003]
[]
[null,null,{"$f":"SUM(C8:C19)","v":339129.70400000003}]

{"sheet":"Exhibit 5.1","index":23,"n_rows":32,"n_cols":16,"rows_kept":32,"cut":false,"hidden":false,"merged":[]}
[]
[]
[]
[]
[]
[]
[]
[]
[]
[]
[]
[]
[]
[]
[]
[]
[]
[]
[]
[]
[]
[]
[]
[]
[]
[]
[]
[]
[]
[]
[null,null,null,null,null,null,null,null,null,null,null,null,null,{"$f":"'Exhibit 1.1'!O31","v":"DEU Variance Exhibit"},"Docket No. 22-057-02",{"$f":"'Exhibit 1.1'!Q31","v":"Dominion Energy Utah"}]
[null,null,null,null,null,null,null,null,null,null,null,null,null,5.0999999999999996]

{"sheet":"Exhibit 5.2","index":24,"n_rows":32,"n_cols":17,"rows_kept":32,"cut":false,"hidden":false,"merged":[]}
[]
[]
[]
[]
[]
[]
[]
[]
[]
[]
[]
[]
[]
[]
[]
[]
[]
[]
[]
[]
[]
[]
[]
[]
[]
[]
[]
[]
[]
[]
[null,null,null,null,null,null,null,null,null,null,null,null,null,null,{"$f":"'Exhibit 1.1'!O31","v":"DEU Variance Exhibit"},"Docket No. 22-057-02",{"$f":"'Exhibit 1.1'!Q31","v":"Dominion Energy Utah"}]
[null,null,null,null,null,null,null,null,null,null,null,null,null,null,5.2]

{"sheet":"Exhibit 5.3","index":25,"n_rows":32,"n_cols":17,"rows_kept":32,"cut":false,"hidden":false,"merged":[]}
[]
[]
[]
[]
[]
[]
[]
[]
[]
[]
[]
[]
[]
[]
[]
[]
[]
[]
[]
[]
[]
[]
[]
[]
[]
[]
[]
[]
[]
[]
[null,null,null,null,null,null,null,null,null,null,null,null,null,null,{"$f":"'Exhibit 1.1'!O31","v":"DEU Variance Exhibit"},"Docket No. 22-057-02",{"$f":"'Exhibit 1.1'!Q31","v":"Dominion Energy Utah"}]
[null,null,null,null,null,null,null,null,null,null,null,null,null,null,5.3]

{"sheet":"Ex 6 Purch Gas Unit Cost","index":26,"n_rows":19,"n_cols":13,"rows_kept":19,"cut":false,"hidden":false,"merged":[[0,0,0,5],[1,0,1,7],[2,0,2,7],[46,2,46,13]]}
["Purchase Gas Unit Cost Variance ($1,000's)"]
[]
[]
[]
[]
[null,null,null,null,"Actual","Actual","Actual",null,"Normal","Normal","Normal"]
["Month/Year","Actual $/Dth","Normal $/Dth",null,"Dth","Cost","$/Dth",null,"Dth","Cost","$/Dth",null,"May Forward Strip"]
[{"$f":"'Ex 1 HDD'!A8","v":"2022-06-01"},{"$f":"G8","v":6.283503255679352},{"$f":"K8","v":5.5802841542754686},null,{"$f":"'Ex 4 Purchase Gas'!B8","v":483.77},{"$f":"'Ex 4 Purchase Gas'!M8","v":3039.7703700000002},{"$f":"IFERROR(F8/E8,0)","v":6.283503255679352},null,{"$f":"'Ex 4 Purchase Gas'!C8","v":619.59299999999996},{"$f":"'Ex 5 Purchase Gas Cost'!C8","v":3457.5050000000001},{"$f":"IFERROR(J8/I8,0)","v":5.5802841542754686},null,5.7]
[{"$f":"'Ex 1 HDD'!A9","v":"2022-07-01"},5.9943517243841766,{"$f":"K9","v":6.05},null,{"$f":"'Ex 4 Purchase Gas'!B9","v":252.06100000000001},{"$f":"'Ex 4 Purchase Gas'!M9","v":1510.94229},{"$f":"IFERROR(F9/E9,0)","v":5.9943517243841766},null,{"$f":"'Ex 4 Purchase Gas'!C9","v":0},{"$f":"'Ex 5 Purchase Gas Cost'!C9","v":0},6.05,null,6.05]
[{"$f":"'Ex 1 HDD'!A10","v":"2022-08-01"},8.5914201691898313,6.18,null,{"$f":"'Ex 4 Purchase Gas'!B10","v":276.96699999999998},{"$f":"'Ex 4 Purchase Gas'!M10","v":2379.5398700000001},8.5914201691898313,null,{"$f":"'Ex 4 Purchase Gas'!C10","v":0},{"$f":"'Ex 5 Purchase Gas Cost'!C10","v":0},6.18,null,6.18]
[{"$f":"'Ex 1 HDD'!A11","v":"2022-09-01"},6.4816567577843642,{"$f":"K11","v":5.1683983744464435},null,{"$f":"'Ex 4 Purchase Gas'!B11","v":1317.673},{"$f":"'Ex 4 Purchase Gas'!M11","v":8540.7041049999971},6.4816567577843642,null,{"$f":"'Ex 4 Purchase Gas'!C11","v":1212.3869999999999},{"$f":"'Ex 5 Purchase Gas Cost'!C11","v":6266.0990000000002},{"$f":"IFERROR(J11/I11,0)","v":5.1683983744464435},null,6.02]
[{"$f":"'Ex 1 HDD'!A12","v":"2022-10-01"},5.1203750515232347,{"$f":"K12","v":5.0320197021470552},null,{"$f":"'Ex 4 Purchase Gas'!B12","v":5048.6930000000002},{"$f":"'Ex 4 Purchase Gas'!M12","v":25851.201679999995},5.1203750515232347,null,{"$f":"'Ex 4 Purchase Gas'!C12","v":5386.2150000000001},{"$f":"'Ex 5 Purchase Gas Cost'!C12","v":27103.54},5.0320197021470552,null,5.27]
[{"$f":"'Ex 1 HDD'!A13","v":"2022-11-01"},7.7194886573051615,{"$f":"K13","v":5.6504511880853219},null,{"$f":"'Ex 4 Purchase Gas'!B13","v":12361.26},{"$f":"'Ex 4 Purchase Gas'!M13","v":95422.606360000005},7.7194886573051615,null,{"$f":"'Ex 4 Purchase Gas'!C13","v":8236.6980000000003},{"$f":"'Ex 5 Purchase Gas Cost'!C13","v":46541.06},{"$f":"IFERROR(J13/I13,0)","v":5.6504511880853219},null,5.89]
[{"$f":"'Ex 1 HDD'!A14","v":"2022-12-01"},19.372218157247953,5.3558881287900038,null,{"$f":"'Ex 4 Purchase Gas'!B14","v":13268.09},{"$f":"'Ex 4 Purchase Gas'!M14","v":257032.33400999999},19.372218157247953,null,{"$f":"'Ex 4 Purchase Gas'!C14","v":11121.36},{"$f":"'Ex 5 Purchase Gas Cost'!C14","v":59564.76},5.3558881287900038,null,6.63]
[{"$f":"'Ex 1 HDD'!A15","v":"2023-01-01"},27.374235941095215,6.0945238937372332,null,{"$f":"'Ex 4 Purchase Gas'!B15","v":14474.545},{"$f":"'Ex 4 Purchase Gas'!M15","v":396229.60997000005},27.374235941095215,null,{"$f":"'Ex 4 Purchase Gas'!C15","v":11959.41},{"$f":"'Ex 5 Purchase Gas Cost'!C15","v":72886.91},6.0945238937372332,null,7.15]
[{"$f":"'Ex 1 HDD'!A16","v":"2023-02-01"},10.333519215632771,5.3581578315515834,null,{"$f":"'Ex 4 Purchase Gas'!B16","v":13515.505999999999},{"$f":"'Ex 4 Purchase Gas'!M16","v":139662.74096},10.333519215632771,null,{"$f":"'Ex 4 Purchase Gas'!C16","v":9791.5910000000003},{"$f":"'Ex 5 Purchase Gas Cost'!C16","v":52464.89},5.3581578315515834,null,6.42]
[{"$f":"'Ex 1 HDD'!A17","v":"2023-03-01"},5.5266517196116807,4.7264701658887116,null,{"$f":"'Ex 4 Purchase Gas'!B17","v":11815.370999999999},{"$f":"'Ex 4 Purchase Gas'!M17","v":65299.440454999982},5.5266517196116807,null,{"$f":"'Ex 4 Purchase Gas'!C17","v":8732.7219999999998},{"$f":"'Ex 5 Purchase Gas Cost'!C17","v":41274.949999999997},4.7264701658887116,null,4.91]
[{"$f":"'Ex 1 HDD'!A18","v":"2023-04-01"},4.2237436559487715,3.618332536121172,null,{"$f":"'Ex 4 Purchase Gas'!B18","v":6094.8829999999998},{"$f":"'Ex 4 Purchase Gas'!M18","v":25743.223405000015},4.2237436559487715,null,{"$f":"'Ex 4 Purchase Gas'!C18","v":4825.1480000000001},{"$f":"'Ex 5 Purchase Gas Cost'!C18","v":17458.990000000002},3.618332536121172,null,3.79]
[{"$f":"'Ex 1 HDD'!A19","v":"2023-05-01"},1.7748661866755091,3.3661171445454223,null,{"$f":"'Ex 4 Purchase Gas'!B19","v":1815.5889999999999},{"$f":"'Ex 4 Purchase Gas'!M19","v":3222.427525000001},1.7748661866755091,null,{"$f":"'Ex 4 Purchase Gas'!C19","v":3597.9140000000002},{"$f":"'Ex 5 Purchase Gas Cost'!C19","v":12111},3.3661171445454223,null,3.49]

{"sheet":"Exhibit 6.1","index":27,"n_rows":32,"n_cols":17,"rows_kept":32,"cut":false,"hidden":false,"merged":[]}
[]
[]
[]
[]
[]
[]
[]
[]
[]
[]
[]
[]
[]
[]
[]
[]
[]
[]
[]
[]
[]
[]
[]
[]
[]
[]
[]
[]
[]
[]
[null,null,null,null,null,null,null,null,null,null,null,null,null,null,{"$f":"'Exhibit 1.1'!O31","v":"DEU Variance Exhibit"},"Docket No. 22-057-02",{"$f":"'Exhibit 1.1'!Q31","v":"Dominion Energy Utah"}]
[null,null,null,null,null,null,null,null,null,null,null,null,null,null,6.1]

{"sheet":"Exhibit 6.2","index":28,"n_rows":32,"n_cols":17,"rows_kept":32,"cut":false,"hidden":false,"merged":[]}
[]
[]
[]
[]
[]
[]
[]
[]
[]
[]
[]
[]
[]
[]
[]
[]
[]
[]
[]
[]
[]
[]
[]
[]
[]
[]
[]
[]
[]
[]
[null,null,null,null,null,null,null,null,null,null,null,null,null,null,{"$f":"'Exhibit 1.1'!O31","v":"DEU Variance Exhibit"},"Docket No. 22-057-02",{"$f":"'Exhibit 1.1'!Q31","v":"Dominion Energy Utah"}]
[null,null,null,null,null,null,null,null,null,null,null,null,null,null,6.2]

{"sheet":"Ex 7 Co. Owned Gas","index":29,"n_rows":21,"n_cols":17,"rows_kept":21,"cut":false,"hidden":false,"merged":[[0,0,0,7],[2,14,2,19],[1,0,1,7],[2,0,2,10]]}
["Cost-of-Service Gas Variance (MDths)"]
[]
[]
[]
[]
[null,null,null,null,null,null,null,"Cumulative"]
["Month/Year","Actual","Normal","Full Production","Shut-in Est. Month","Shut-in Daily",null,"Actual","Normal",null,"Days in Mo.","Dthms","Dthms/Day"]
[{"$f":"'Ex 1 HDD'!A8","v":"2022-06-01"},{"$f":"Sheet10!S120","v":4510.2119999999995},{"$f":"Sheet10!B129","v":4454.9400000000005},{"$f":"Sheet10!B135","v":4459.6989144662584},{"$f":"D8-C8","v":4.7589144662579201},{"$f":"(E8/30)*1000","v":158.63048220859736},null,{"$f":"B8","v":4510.2119999999995},{"$f":"C8","v":4454.9400000000005},null,{"$f":"DAY(EOMONTH(A8,0))","v":30},{"$f":"C8","v":4454.9400000000005},{"$f":"L8/K8","v":148.49800000000002},null,null,null,5754.4783839995334]
[{"$f":"'Ex 1 HDD'!A9","v":"2022-07-01"},{"$f":"Sheet10!W120","v":4737.1949999999988},{"$f":"Sheet10!C129","v":4482.0400000000009},{"$f":"Sheet10!C135","v":4486.9264858904498},4.8864858904489665,{"$f":"(E9/30)*1000","v":162.88286301496555},null,{"$f":"H8+B9","v":9247.4069999999992},{"$f":"I8+C9","v":8936.9800000000014},null,{"$f":"DAY(EOMONTH(A9,0))","v":31},{"$f":"C9","v":4482.0400000000009},{"$f":"L9/K9","v":144.58193548387101},null,null,null,5867.4130191810464]
[{"$f":"'Ex 1 HDD'!A10","v":"2022-08-01"},{"$f":"Sheet10!AA120","v":4406.2309999999998},{"$f":"Sheet10!D129","v":4411.1949999999997},{"$f":"Sheet10!D135","v":4416.0548328296672},4.859832829667539,161.99442765558464,null,13653.637999999999,13348.175000000001,null,31,4411.1949999999997,142.29661290322579,null,null,null,5986.08520467781]
[{"$f":"'Ex 1 HDD'!A11","v":"2022-09-01"},{"$f":"Sheet10!AK120","v":4399.6039999999994},{"$f":"Sheet10!E129","v":4056.7949999999996},{"$f":"Sheet10!E135","v":4061.4666401947247},4.6716401947251143,155.72133982417046,null,18053.241999999998,17404.97,null,30,4056.7949999999996,135.22649999999999,null,null,null,5618.719148733463]
[{"$f":"'Ex 1 HDD'!A12","v":"2022-10-01"},{"$f":"Sheet10!AO120","v":4894.5479999999998},{"$f":"Sheet10!F129","v":4129.5959999999986},{"$f":"Sheet10!F135","v":4134.398681490019},4.8026814900204045,160.08938300068016,null,22947.789999999997,21534.565999999999,null,31,4129.5959999999986,133.21277419354834,null,null,null,5665.4338021854201]
[{"$f":"'Ex 1 HDD'!A13","v":"2022-11-01"},{"$f":"Sheet10!AS120","v":4878.3959999999997},{"$f":"Sheet10!G129","v":5358.4269999999988},{"$f":"Sheet10!G135","v":5363.046601688141},4.6196016881422111,153.98672293807368,null,27826.185999999998,26892.992999999999,null,30,5358.4269999999988,178.61423333333329,null,null,null,5366.2612820765262]
[{"$f":"'Ex 1 HDD'!A14","v":"2022-12-01"},{"$f":"Sheet10!BC120","v":4905.8270000000002},{"$f":"Sheet10!H129","v":5247.6350000000002},{"$f":"Sheet10!H135","v":5252.3777476848236},4.7427476848233709,158.09158949411236,null,32732.012999999999,32140.627999999997,null,31,5247.6350000000002,169.27854838709678,null,null,null,5567.8766430258429]
[{"$f":"'Ex 1 HDD'!A15","v":"2023-01-01"},{"$f":"Sheet10!BG120","v":4202.4319999999998},{"$f":"Sheet10!I129","v":5052.2280000000001},{"$f":"Sheet10!I135","v":5056.9441633824254},4.7161633824252931,157.2054460808431,null,36934.445,37192.856,null,31,5052.2280000000001,162.97509677419356,null,null,null,5438.795676378295]
[{"$f":"'Ex 1 HDD'!A16","v":"2023-02-01"},{"$f":"Sheet10!BK120","v":4290.1219999999994},{"$f":"Sheet10!J129","v":4426.4930000000004},{"$f":"Sheet10!J135","v":4430.7271025302298},4.2341025302293929,141.13675100764641,null,41224.566999999995,41619.349000000002,null,28,4426.4930000000004,158.08903571428573,null,null,null,5101.5900718666953]
[{"$f":"'Ex 1 HDD'!A17","v":"2023-03-01"},{"$f":"Sheet10!BU120","v":4744.9070000000002},{"$f":"Sheet10!K129","v":4780.2639999999992},{"$f":"Sheet10!K135","v":4784.92775909176},4.6637590917607668,155.45863639202557,null,45969.473999999995,46399.612999999998,null,31,4780.2639999999992,154.20206451612901,null,null,null,5326.091885868781]
[{"$f":"'Ex 1 HDD'!A18","v":"2023-04-01"},{"$f":"Sheet10!BY120","v":4629.4710000000014},{"$f":"Sheet10!L129","v":4524.5640000000012},{"$f":"Sheet10!L135","v":4529.0493183888857},4.4853183888844796,149.51061296281597,null,50598.944999999992,50924.176999999996,null,30,4524.5640000000012,150.81880000000004,null,null,null,5051.585886710629]
[{"$f":"'Ex 1 HDD'!A19","v":"2023-05-01"},{"$f":"Sheet10!CC120","v":4938.2420000000011},{"$f":"Sheet10!M129","v":4577.2079999999996},{"$f":"Sheet10!M135","v":4581.8152634473463},4.6072634473466678,{"$f":"(E19/30)*1000","v":153.57544824488892},null,55537.186999999991,55501.384999999995,null,31,4577.2079999999996,147.65187096774193,null,null,null,5126.3058280721052]
[]
[null,{"$f":"SUM(B8:B19)","v":55537.186999999991},{"$f":"SUM(C8:C19)","v":55501.384999999995},{"$f":"SUM(D8:D19)","v":55557.433511084731}]

{"sheet":"Exhibit 7.1","index":30,"n_rows":33,"n_cols":17,"rows_kept":33,"cut":false,"hidden":false,"merged":[]}
[]
[]
[]
[]
[]
[]
[]
[]
[]
[]
[]
[]
[]
[]
[]
[]
[]
[]
[]
[]
[]
[]
[]
[]
[]
[]
[]
[]
[]
[]
[]
[null,null,null,null,null,null,null,null,null,null,null,null,null,null,{"$f":"'Exhibit 1.1'!O31","v":"DEU Variance Exhibit"},"Docket No. 22-057-02",{"$f":"'Exhibit 1.1'!Q31","v":"Dominion Energy Utah"}]
[null,null,null,null,null,null,null,null,null,null,null,null,null,null,7.1]

{"sheet":"Exhibit 7.2","index":31,"n_rows":32,"n_cols":17,"rows_kept":32,"cut":false,"hidden":false,"merged":[]}
[]
[]
[]
[]
[]
[]
[]
[]
[]
[]
[]
[]
[]
[]
[]
[]
[]
[]
[]
[]
[]
[]
[]
[]
[]
[]
[]
[]
[]
[]
[null,null,null,null,null,null,null,null,null,null,null,null,null,null,{"$f":"'Exhibit 1.1'!O31","v":"DEU Variance Exhibit"},"Docket No. 22-057-02",{"$f":"'Exhibit 1.1'!Q31","v":"Dominion Energy Utah"}]
[null,null,null,null,null,null,null,null,null,null,null,null,null,null,7.2]

{"sheet":"Exhibit 7.3","index":32,"n_rows":32,"n_cols":17,"rows_kept":32,"cut":false,"hidden":false,"merged":[]}
[]
[]
[]
[]
[]
[]
[]
[]
[]
[]
[]
[]
[]
[]
[]
[]
[]
[]
[]
[]
[]
[]
[]
[]
[]
[]
[]
[]
[]
[]
[null,null,null,null,null,null,null,null,null,null,null,null,null,null,{"$f":"'Exhibit 1.1'!O31","v":"DEU Variance Exhibit"},"Docket No. 22-057-02",{"$f":"'Exhibit 1.1'!Q31","v":"Dominion Energy Utah"}]
[null,null,null,null,null,null,null,null,null,null,null,null,null,null,7.3]

{"sheet":"Ex 8 New Drill","index":33,"n_rows":19,"n_cols":13,"rows_kept":19,"cut":false,"hidden":false,"merged":[[0,0,0,9],[1,0,1,9],[2,0,2,9]]}
["Isolated New Drill Component (MDths)"]
[]
[]
[]
[]
[null,null,null,null,null,null,null,null,null,"Cumulative",null,"Cumulative"]
["Month/Year","ND Actual","ND Normal","Legacy Actual","Legacy Normal",null,null,"Prod Actual","Prod Normal","ND Actual","ND Normal",{"$f":"D7","v":"Legacy Actual"},{"$f":"E7","v":"Legacy Normal"}]
[{"$f":"'Ex 1 HDD'!A8","v":"2022-06-01"},{"$f":"SUM(Sheet10!S91:S93,Sheet10!S106:S108)","v":0},{"$f":"Sheet10!B140","v":0},{"$f":"H8-B8","v":4510.2119999999995},{"$f":"I8-C8","v":4454.9400000000005},null,null,{"$f":"'Ex 7 Co. Owned Gas'!B8","v":4510.2119999999995},{"$f":"'Ex 7 Co. Owned Gas'!C8","v":4454.9400000000005},{"$f":"B8","v":0},{"$f":"C8","v":0},{"$f":"D8","v":4510.2119999999995},{"$f":"E8","v":4454.9400000000005}]
[{"$f":"'Ex 1 HDD'!A9","v":"2022-07-01"},{"$f":"SUM(Sheet10!W91:W93,Sheet10!W106:W108)","v":0},{"$f":"Sheet10!C140","v":64.549000000000007},4737.1949999999988,4417.4910000000009,null,null,{"$f":"'Ex 7 Co. Owned Gas'!B9","v":4737.1949999999988},{"$f":"'Ex 7 Co. Owned Gas'!C9","v":4482.0400000000009},{"$f":"B8+B9","v":0},{"$f":"K8+C9","v":64.549000000000007},9247.4069999999992,8872.4310000000005]
[{"$f":"'Ex 1 HDD'!A10","v":"2022-08-01"},{"$f":"SUM(Sheet10!AA91:AA93,Sheet10!AA106:AA108)","v":0},{"$f":"Sheet10!D140","v":54.17},4406.2309999999998,4357.0249999999996,null,null,{"$f":"'Ex 7 Co. Owned Gas'!B10","v":4406.2309999999998},{"$f":"'Ex 7 Co. Owned Gas'!C10","v":4411.1949999999997},{"$f":"J9+B10","v":0},118.71900000000001,13653.637999999999,13229.456]
[{"$f":"'Ex 1 HDD'!A11","v":"2022-09-01"},{"$f":"SUM(Sheet10!AK91:AK93,Sheet10!AK106:AK108)","v":106.24299999999999},{"$f":"Sheet10!E140","v":45.822000000000003},4293.360999999999,4010.9729999999995,null,null,{"$f":"'Ex 7 Co. Owned Gas'!B11","v":4399.6039999999994},{"$f":"'Ex 7 Co. Owned Gas'!C11","v":4056.7949999999996},106.24299999999999,{"$f":"K10+C11","v":164.541},{"$f":"L10+D11","v":17946.998999999996},{"$f":"M10+E11","v":17240.429}]
[{"$f":"'Ex 1 HDD'!A12","v":"2022-10-01"},{"$f":"SUM(Sheet10!AO91:AO93,Sheet10!AO106:AO108)","v":273.18300000000005},{"$f":"Sheet10!F140","v":42.445999999999998},4621.3649999999998,4087.1499999999987,null,null,{"$f":"'Ex 7 Co. Owned Gas'!B12","v":4894.5479999999998},{"$f":"'Ex 7 Co. Owned Gas'!C12","v":4129.5959999999986},379.42600000000004,206.98699999999999,{"$f":"L11+D12","v":22568.363999999994},21327.578999999998]
[{"$f":"'Ex 1 HDD'!A13","v":"2022-11-01"},{"$f":"SUM(Sheet10!AS91:AS93,Sheet10!AS106:AS108)","v":319.548},{"$f":"Sheet10!G140","v":1105.924},4558.848,4252.5029999999988,null,null,{"$f":"'Ex 7 Co. Owned Gas'!B13","v":4878.3959999999997},{"$f":"'Ex 7 Co. Owned Gas'!C13","v":5358.4269999999988},698.97400000000005,1312.9110000000001,27127.211999999992,25580.081999999995]
[{"$f":"'Ex 1 HDD'!A14","v":"2022-12-01"},{"$f":"SUM(Sheet10!BC91:BC93,Sheet10!BC106:BC108)","v":576.803},{"$f":"Sheet10!H140","v":912.18299999999999},4329.0240000000003,4335.4520000000002,null,null,{"$f":"'Ex 7 Co. Owned Gas'!B14","v":4905.8270000000002},{"$f":"'Ex 7 Co. Owned Gas'!C14","v":5247.6350000000002},1275.777,2225.0940000000001,31456.235999999994,29915.533999999996]
[{"$f":"'Ex 1 HDD'!A15","v":"2023-01-01"},{"$f":"SUM(Sheet10!BG91:BG93,Sheet10!BG106:BG108)","v":440.15900000000005},{"$f":"Sheet10!I140","v":772.12200000000007},3762.2729999999997,4280.1059999999998,null,null,{"$f":"'Ex 7 Co. Owned Gas'!B15","v":4202.4319999999998},{"$f":"'Ex 7 Co. Owned Gas'!C15","v":5052.2280000000001},1715.9360000000001,2997.2160000000003,35218.508999999991,34195.64]
[{"$f":"'Ex 1 HDD'!A16","v":"2023-02-01"},{"$f":"SUM(Sheet10!BK91:BK93,Sheet10!BK106:BK108)","v":410.73500000000001},{"$f":"Sheet10!J140","v":610.82799999999997},3879.3869999999993,3815.6650000000004,null,null,{"$f":"'Ex 7 Co. Owned Gas'!B16","v":4290.1219999999994},{"$f":"'Ex 7 Co. Owned Gas'!C16","v":4426.4930000000004},2126.6710000000003,3608.0440000000003,39097.895999999993,38011.305]
[{"$f":"'Ex 1 HDD'!A17","v":"2023-03-01"},{"$f":"SUM(Sheet10!BU91:BU93,Sheet10!BU106:BU108)","v":526.30900000000008},{"$f":"Sheet10!K140","v":605.74800000000005},4218.598,4174.5159999999996,null,null,{"$f":"'Ex 7 Co. Owned Gas'!B17","v":4744.9070000000002},{"$f":"'Ex 7 Co. Owned Gas'!C17","v":4780.2639999999992},2652.9800000000005,4213.7920000000004,43316.493999999992,42185.820999999996]
[{"$f":"'Ex 1 HDD'!A18","v":"2023-04-01"},{"$f":"SUM(Sheet10!BY91:BY93,Sheet10!BY106:BY108)","v":464.60399999999998},{"$f":"Sheet10!L140","v":533.48199999999997},4164.8670000000011,3991.0820000000012,null,null,{"$f":"'Ex 7 Co. Owned Gas'!B18","v":4629.4710000000014},{"$f":"'Ex 7 Co. Owned Gas'!C18","v":4524.5640000000012},3117.5840000000003,4747.2740000000003,47481.36099999999,46176.902999999998]
[{"$f":"'Ex 1 HDD'!A19","v":"2023-05-01"},{"$f":"SUM(Sheet10!CC91:CC93,Sheet10!CC106:CC108)","v":377.245},{"$f":"Sheet10!M140","v":507.66200000000003},4560.9970000000012,4069.5459999999994,null,null,{"$f":"'Ex 7 Co. Owned Gas'!B19","v":4938.2420000000011},{"$f":"'Ex 7 Co. Owned Gas'!C19","v":4577.2079999999996},3494.8290000000002,5254.9360000000006,52042.357999999993,50246.449000000001]

{"sheet":"Exhibit 8.1","index":34,"n_rows":32,"n_cols":17,"rows_kept":32,"cut":false,"hidden":false,"merged":[]}
[]
[]
[]
[]
[]
[]
[]
[]
[]
[]
[]
[]
[]
[]
[]
[]
[]
[]
[]
[]
[]
[]
[]
[]
[]
[]
[]
[]
[]
[]
[null,null,null,null,null,null,null,null,null,null,null,null,null,null,{"$f":"'Exhibit 1.1'!O31","v":"DEU Variance Exhibit"},"Docket No. 22-057-02",{"$f":"'Exhibit 1.1'!Q31","v":"Dominion Energy Utah"}]
[null,null,null,null,null,null,null,null,null,null,null,null,null,null,8.1]

{"sheet":"Exhibit 8.2","index":35,"n_rows":32,"n_cols":17,"rows_kept":32,"cut":false,"hidden":false,"merged":[]}
[]
[]
[]
[]
[]
[]
[]
[]
[]
[]
[]
[]
[]
[]
[]
[]
[]
[]
[]
[]
[]
[]
[]
[]
[]
[]
[]
[]
[]
[]
[null,null,null,null,null,null,null,null,null,null,null,null,null,null,{"$f":"'Exhibit 1.1'!O31","v":"DEU Variance Exhibit"},"Docket No. 22-057-02",{"$f":"'Exhibit 1.1'!Q31","v":"Dominion Energy Utah"}]
[null,null,null,null,null,null,null,null,null,null,null,null,null,null,8.1999999999999993]

{"sheet":"Exhibit 8.3","index":36,"n_rows":32,"n_cols":17,"rows_kept":32,"cut":false,"hidden":false,"merged":[]}
[]
[]
[]
[]
[]
[]
[]
[]
[]
[]
[]
[]
[]
[]
[]
[]
[]
[]
[]
[]
[]
[]
[]
[]
[]
[]
[]
[]
[]
[]
[null,null,null,null,null,null,null,null,null,null,null,null,null,null,{"$f":"'Exhibit 1.1'!O31","v":"DEU Variance Exhibit"},"Docket No. 22-057-02",{"$f":"'Exhibit 1.1'!Q31","v":"Dominion Energy Utah"}]
[null,null,null,null,null,null,null,null,null,null,null,null,null,null,8.3000000000000007]

{"sheet":"Sheet10","index":37,"n_rows":825,"n_cols":86,"rows_kept":825,"cut":false,"hidden":true,"merged":[[1,53,1,55],[1,57,1,59],[1,61,1,63],[1,65,1,67],[2,53,2,55],[2,57,2,59],[2,61,2,63],[2,65,2,67],[1,29,1,31],[2,29,2,31],[1,17,1,19],[2,17,2,19],[1,25,1,27],[2,25,2,27],[1,21,1,23],[2,21,2,23],[1,35,1,37],[1,39,1,41],[1,43,1,45],[1,47,1,49],[2,35,2,37],[2,39,2,41],[2,43,2,45],[2,47,2,49],[1,71,1,73],[1,75,1,77],[1,79,1,81],[1,83,1,85],[2,71,2,73],[2,75,2,77],[2,79,2,81],[2,83,2,85]]}
[]
[null,null,null,null,null,null,null,null,null,null,null,null,null,null,null,null,null,"June 2022 Cost-of-Service",null,null,null,"July 2022 Cost-of-Service",null,null,null,"August 2022 Cost-of-Service",null,null,null,"First Quarter Cost-of-Service",null,null,null,null,null,"September 2022 Cost-of-Service",null,null,null,"October 2022 Cost-of-Service",null,null,null,"November 2022 Cost-of-Service",null,null,null,"First Quarter Cost-of-Service",null,null,null,null,null,"December 2022 Cost-of-Service",null,null,null,"January 2023 Cost-of-Service",null,null,null,"February 2023 Cost-of-Service",null,null,null,"Third Quarter Cost-of-Service",null,null,null,null,null,"March 2023 Cost-of-Service",null,null,null,"April 2023 Cost-of-Service",null,null,null,"May 2023 Cost-of-Service",null,null,null,"Fourth Quarter Cost-of-Service"]
[null,null,null,null,null,null,null,null,null,null,null,null,null,null,null,null,null,"Variance   Mdth",null,null,null,"Variance   Mdth",null,null,null,"Variance   Mdth",null,null,null,"Variance   Mdth",null,null,null,null,null,"Variance   Mdth",null,null,null,"Variance   Mdth",null,null,null,"Variance   Mdth",null,null,null,"Variance   Mdth",null,null,null,null,null,"Variance   Mdth",null,null,null,"Variance   Mdth",null,null,null,"Variance   Mdth",null,null,null,"Variance   Mdth",null,null,null,null,null,"Variance   Mdth",null,null,null,"Variance   Mdth",null,null,null,"Variance   Mdth",null,null,null,"Variance   Mdth"]
[]
["Nom Group","2022-06-01","2022-07-01","2022-08-01","2022-09-01","2022-10-01","2022-11-01","2022-12-01","2023-01-01","2023-02-01","2023-03-01","2023-04-01","2023-05-01","Total",null,null,null,"Nom Group","Actual ","Normal",null,"Nom Group","Actual ","Normal",null,"Nom Group","Actual ","Normal",null,"Nom Group","Actual ","Normal",null,null,null,"Nom Group","Actual ","Normal",null,"Nom Group","Actual ","Normal",null,"Nom Group","Actual ","Normal",null,"Nom Group","Actual ","Normal",null,null,null,"Nom Group","Actual ","Normal",null,"Nom Group","Actual ","Normal",null,"Nom Group","Actual ","Normal",null,"Nom Group","Actual ","Normal",null,null,null,"Nom Group","Actual ","Normal",null,"Nom Group","Actual ","Normal",null,"Nom Group","Actual ","Normal",null,"Nom Group","Actual ","Normal"]
[null,116.29600000000001,119.407,118.65,114.098,117.16200000000001,112.676,115.709,114.994,103.226,113.586,109.251,112.20699999999999,1367.2619999999999,null,null,null,null,113.765,116.29600000000001,null,null,107.093,119.407,null,null,125.041,118.65,null,null,345.899,354.35300000000001,null,null,null,null,119.926,114.098,null,null,123.46,117.16200000000001,null,null,116.15600000000001,112.676,null,null,359.54199999999997,343.93599999999998,null,null,null,null,119.51300000000001,115.709,null,null,98.317999999999998,114.994,null,null,105.97799999999999,103.226,null,null,323.80900000000003,333.92899999999997,null,null,null,null,118.10299999999999,113.586,null,null,119.369,109.251,null,null,138.00200000000001,112.20699999999999,null,null,375.47399999999999,335.04399999999998]
[null,7.4119999999999999,7.5960000000000001,7.5339999999999998,7.2309999999999999,7.4109999999999996,7.1130000000000004,7.29,7.2309999999999999,6.4779999999999998,7.1130000000000004,6.827,6.9969999999999999,86.233999999999995,null,null,null,null,8.157,7.4119999999999999,null,null,8.5350000000000001,7.5960000000000001,null,null,7.7759999999999998,7.5339999999999998,null,null,24.468,22.541999999999998,null,null,null,null,5.5860000000000003,7.2309999999999999,null,null,4.92,7.4109999999999996,null,null,7.7949999999999999,7.1130000000000004,null,null,18.300999999999998,21.754999999999999,null,null,null,null,10.98,7.29,null,null,8.1679999999999993,7.2309999999999999,null,null,8.3819999999999997,6.4779999999999998,null,null,27.53,20.999000000000002,null,null,null,null,7.0069999999999997,7.1130000000000004,null,null,8.6189999999999998,6.827,null,null,8.9870000000000001,6.9969999999999999,null,null,24.613,20.937000000000001]
[null,1.9039999999999999,1.956,1.944,1.87,1.92,1.847,1.897,1.8859999999999999,1.6930000000000001,1.863,1.792,1.841,22.413,null,null,null,null,2.0369999999999999,1.9039999999999999,null,null,2.008,1.956,null,null,2.0790000000000002,1.944,null,null,6.1239999999999997,5.8040000000000003,null,null,null,null,1.8839999999999999,1.87,null,null,2.0760000000000001,1.92,null,null,1.9910000000000001,1.847,null,null,5.9509999999999996,5.6370000000000005,null,null,null,null,2.1659999999999999,1.897,null,null,2.2469999999999999,1.8859999999999999,null,null,1.891,1.6930000000000001,null,null,6.3040000000000003,5.476,null,null,null,null,2.355,1.863,null,null,2.4,1.792,null,null,2.7269999999999999,1.841,null,null,7.4820000000000002,5.4960000000000004]
[null,128.83000000000001,132.19800000000001,131.28399999999999,126.176,128.756,123.754,127.011,126.152,113.176,124.46,119.63800000000001,122.8,1504.2349999999999,null,null,null,null,147.36099999999999,128.83000000000001,null,null,155.76599999999999,132.19800000000001,null,null,149.47999999999999,131.28399999999999,null,null,452.60700000000003,392.31200000000001,null,null,null,null,148.148,126.176,null,null,142.86000000000001,128.756,null,null,129.976,123.754,null,null,420.98399999999998,378.68600000000004,null,null,null,null,139.15299999999999,127.011,null,null,116.919,126.152,null,null,134.80699999999999,113.176,null,null,390.87900000000002,366.339,null,null,null,null,133.857,124.46,null,null,132.779,119.63800000000001,null,null,139.51499999999999,122.8,null,null,406.15100000000001,366.89800000000002]
[null,2.6659999999999999,2.7410000000000001,2.7269999999999999,2.6259999999999999,2.6989999999999998,2.5990000000000002,2.6720000000000002,2.6579999999999999,2.3889999999999998,2.6309999999999998,2.5329999999999999,2.6040000000000001,31.547000000000001,null,null,null,null,6.6959999999999997,2.6659999999999999,null,null,0,2.7410000000000001,null,null,5.9,2.7269999999999999,null,null,12.596,8.1340000000000003,null,null,null,null,1E-3,2.6259999999999999,null,null,8.3390000000000004,2.6989999999999998,null,null,0,2.5990000000000002,null,null,8.34,7.9239999999999995,null,null,null,null,0,2.6720000000000002,null,null,7.2960000000000003,2.6579999999999999,null,null,5.6660000000000004,2.3889999999999998,null,null,12.962,7.7189999999999994,null,null,null,null,2.871,2.6309999999999998,null,null,5.8849999999999998,2.5329999999999999,null,null,0,2.6040000000000001,null,null,8.7560000000000002,7.7679999999999998]
[null,50.59,51.92,51.567,49.564999999999998,50.871000000000002,48.899000000000001,50.189,49.853000000000002,44.728000000000002,49.19,47.286999999999999,48.539000000000001,593.19799999999998,null,null,null,null,65.215999999999994,50.59,null,null,66.641999999999996,51.92,null,null,64.082999999999998,51.567,null,null,195.941,154.077,null,null,null,null,61.59,49.564999999999998,null,null,62.499000000000002,50.871000000000002,null,null,55.356999999999999,48.899000000000001,null,null,179.446,149.33500000000001,null,null,null,null,51.826000000000001,50.189,null,null,46.426000000000002,49.853000000000002,null,null,56.85,44.728000000000002,null,null,155.102,144.77000000000001,null,null,null,null,53.139000000000003,49.19,null,null,56.654000000000003,47.286999999999999,null,null,58.343000000000004,48.539000000000001,null,null,168.136,145.01600000000002]
[null,13.497,13.834,13.722,13.170999999999999,13.5,12.959,13.282,13.173999999999999,11.803000000000001,12.961,12.441000000000001,12.752000000000001,157.09700000000001,null,null,null,null,15.477,13.497,null,null,16.763000000000002,13.834,null,null,15.843,13.722,null,null,48.082999999999998,41.052999999999997,null,null,null,null,6.4630000000000001,13.170999999999999,null,null,3.2989999999999999,13.5,null,null,21.622,12.959,null,null,31.384,39.629999999999995,null,null,null,null,12.964,13.282,null,null,10.879,13.173999999999999,null,null,12.648999999999999,11.803000000000001,null,null,36.491999999999997,38.259,null,null,null,null,15.677,12.961,null,null,13.606999999999999,12.441000000000001,null,null,13.333,12.752000000000001,null,null,42.616999999999997,38.154000000000003]
[null,397.25,356.52699999999999,353.17399999999998,386.98,396.12900000000002,379.79399999999998,388.851,385.31700000000001,344.89600000000002,378.44499999999999,363.00099999999998,371.815,4502.18,null,null,null,null,342.55500000000001,397.25,null,null,348.62,356.52699999999999,null,null,349.59699999999998,353.17399999999998,null,null,1040.7719999999999,1106.951,null,null,null,null,360.78800000000001,386.98,null,null,379.51900000000001,396.12900000000002,null,null,348.46199999999999,379.79399999999998,null,null,1088.769,1162.903,null,null,null,null,337.55500000000001,388.851,null,null,290.78699999999998,385.31700000000001,null,null,346.91500000000002,344.89600000000002,null,null,975.25699999999995,1119.0640000000001,null,null,null,null,331.73700000000002,378.44499999999999,null,null,321.82400000000001,363.00099999999998,null,null,352.09500000000003,371.815,null,null,1005.6559999999999,1113.261]
[null,37.912999999999997,38.703000000000003,38.244999999999997,36.582999999999998,37.372999999999998,35.765000000000001,36.554000000000002,36.161999999999999,32.317999999999998,35.409999999999997,33.917999999999999,34.695999999999998,433.64,null,null,null,null,35.616,37.912999999999997,null,null,28.058,38.703000000000003,null,null,24.393999999999998,38.244999999999997,null,null,88.067999999999998,114.86099999999999,null,null,null,null,21.783999999999999,36.582999999999998,null,null,36.512999999999998,37.372999999999998,null,null,35.518000000000001,35.765000000000001,null,null,93.814999999999998,109.72099999999999,null,null,null,null,36.722999999999999,36.554000000000002,null,null,30.891999999999999,36.161999999999999,null,null,32.237000000000002,32.317999999999998,null,null,99.852000000000004,105.03400000000001,null,null,null,null,35.290999999999997,35.409999999999997,null,null,33.081000000000003,33.917999999999999,null,null,37.713000000000001,34.695999999999998,null,null,106.08499999999999,104.024]
[null,21.991,22.594999999999999,22.466000000000001,21.617999999999999,22.212,21.373000000000001,21.96,21.835999999999999,19.611000000000001,21.588999999999999,20.774000000000001,21.344000000000001,259.36799999999999,null,null,null,null,30.710999999999999,21.991,null,null,28.83,22.594999999999999,null,null,21.93,22.466000000000001,null,null,81.471000000000004,67.051999999999992,null,null,null,null,20.585000000000001,21.617999999999999,null,null,19.288,22.212,null,null,18.548999999999999,21.373000000000001,null,null,58.421999999999997,65.203000000000003,null,null,null,null,19.821999999999999,21.96,null,null,16.663,21.835999999999999,null,null,20.638000000000002,19.611000000000001,null,null,57.122999999999998,63.406999999999996,null,null,null,null,18.776,21.588999999999999,null,null,18.707999999999998,20.774000000000001,null,null,22.376999999999999,21.344000000000001,null,null,59.860999999999997,63.707000000000001]
[null,0,0,0,0,0,0,0,0,0,0,0,0,0,null,null,null,null,0.79200000000000004,0,null,null,0.83099999999999996,0,null,null,0.80600000000000005,0,null,null,2.4289999999999998,0,null,null,null,null,0.81399999999999995,0,null,null,0.79200000000000004,0,null,null,0.66200000000000003,0,null,null,2.2679999999999998,0,null,null,null,null,0.75800000000000001,0,null,null,0.68200000000000005,0,null,null,0.73899999999999999,0,null,null,2.1789999999999998,0,null,null,null,null,0.73599999999999999,0,null,null,0.76700000000000002,0,null,null,0.77200000000000002,0,null,null,2.2749999999999999,0]
[null,81.010000000000005,83.100999999999999,82.498000000000005,79.257999999999996,81.308999999999997,78.119,80.143000000000001,79.569000000000003,71.353999999999999,78.436000000000007,75.364999999999995,77.322000000000003,947.48400000000004,null,null,null,null,113.102,81.010000000000005,null,null,114.474,83.100999999999999,null,null,85.302000000000007,82.498000000000005,null,null,312.87799999999999,246.60899999999998,null,null,null,null,85.61,79.257999999999996,null,null,84.488,81.308999999999997,null,null,80.661000000000001,78.119,null,null,250.75899999999999,238.68600000000001,null,null,null,null,81.16,80.143000000000001,null,null,69.525000000000006,79.569000000000003,null,null,71.656999999999996,71.353999999999999,null,null,222.34200000000001,231.06599999999997,null,null,null,null,75.501999999999995,78.436000000000007,null,null,74.528000000000006,75.364999999999995,null,null,75.119,77.322000000000003,null,null,225.149,231.12299999999999]
[null,136.09700000000001,139.637,138.65899999999999,133.256,136.75299999999999,131.441,134.905,134,117.372,129.083,124.09099999999999,127.38200000000001,1582.6759999999999,null,null,null,null,195.05099999999999,136.09700000000001,null,null,193.34800000000001,139.637,null,null,154.17599999999999,138.65899999999999,null,null,542.57500000000005,414.39300000000003,null,null,null,null,141.964,133.256,null,null,142.62,136.75299999999999,null,null,138.21299999999999,131.441,null,null,422.79700000000003,401.45000000000005,null,null,null,null,134.22499999999999,134.905,null,null,116.985,134,null,null,136.191,117.372,null,null,387.40100000000001,386.27699999999999,null,null,null,null,129.483,129.083,null,null,127.277,124.09099999999999,null,null,141.15700000000001,127.38200000000001,null,null,397.91699999999997,380.55599999999998]
[null,4.984,5.1130000000000004,5.0759999999999996,4.8769999999999998,5.0039999999999996,4.8079999999999998,4.9329999999999998,4.8979999999999997,4.3929999999999998,4.8289999999999997,4.641,4.7619999999999996,58.314999999999998,null,null,null,null,3.7229999999999999,4.984,null,null,3.7010000000000001,5.1130000000000004,null,null,3.4159999999999999,5.0759999999999996,null,null,10.84,15.173000000000002,null,null,null,null,3.395,4.8769999999999998,null,null,3.706,5.0039999999999996,null,null,3.6960000000000002,4.8079999999999998,null,null,10.797000000000001,14.689,null,null,null,null,2.4550000000000001,4.9329999999999998,null,null,2.2919999999999998,4.8979999999999997,null,null,3.423,4.3929999999999998,null,null,8.17,14.224,null,null,null,null,3.105,4.8289999999999997,null,null,3.15,4.641,null,null,3.024,4.7619999999999996,null,null,9.2789999999999999,14.231999999999999]
[null,1.1759999999999999,1.208,1.2,1.1539999999999999,1.1850000000000001,1.1399999999999999,1.17,1.163,1.044,1.1479999999999999,1.1040000000000001,1.1339999999999999,13.827,null,null,null,null,1.2470000000000001,1.1759999999999999,null,null,1.885,1.208,null,null,1.3109999999999999,1.2,null,null,4.4429999999999996,3.5839999999999996,null,null,null,null,1.2270000000000001,1.1539999999999999,null,null,1.1739999999999999,1.1850000000000001,null,null,0.53700000000000003,1.1399999999999999,null,null,2.9380000000000002,3.4790000000000001,null,null,null,null,0.83,1.17,null,null,0.91200000000000003,1.163,null,null,1.03,1.044,null,null,2.7719999999999998,3.3770000000000002,null,null,null,null,0.43099999999999999,1.1479999999999999,null,null,0.48899999999999999,1.1040000000000001,null,null,0.89800000000000002,1.1339999999999999,null,null,1.8180000000000001,3.3859999999999997]
[null,1.655,1.7,1.69,1.6259999999999999,1.671,1.607,1.651,1.6419999999999999,1.474,1.623,1.5609999999999999,1.6040000000000001,19.504000000000001,null,null,null,null,3.2770000000000001,1.655,null,null,2.8759999999999999,1.7,null,null,2.512,1.69,null,null,8.6649999999999991,5.0449999999999999,null,null,null,null,2.3809999999999998,1.6259999999999999,null,null,2.4180000000000001,1.671,null,null,2.2280000000000002,1.607,null,null,7.0270000000000001,4.9039999999999999,null,null,null,null,2.2450000000000001,1.651,null,null,2.0129999999999999,1.6419999999999999,null,null,2.2629999999999999,1.474,null,null,6.5209999999999999,4.7670000000000003,null,null,null,null,2.2599999999999998,1.623,null,null,2.141,1.5609999999999999,null,null,2.141,1.6040000000000001,null,null,6.5419999999999998,4.7880000000000003]
[null,0.13300000000000001,0.13700000000000001,0.13600000000000001,0.13,0.13400000000000001,0.128,0.13200000000000001,0.13100000000000001,0.11700000000000001,0.129,0.124,0.127,1.5569999999999999,null,null,null,null,0.25,0.13300000000000001,null,null,0.14000000000000001,0.13700000000000001,null,null,0.39,0.13600000000000001,null,null,0.78,0.40600000000000003,null,null,null,null,0.248,0.13,null,null,0.114,0.13400000000000001,null,null,0,0.128,null,null,0.36199999999999999,0.39200000000000002,null,null,null,null,0.18,0.13200000000000001,null,null,0,0.13100000000000001,null,null,0,0.11700000000000001,null,null,0.18,0.38,null,null,null,null,0,0.129,null,null,3.2000000000000001E-2,0.124,null,null,0.316,0.127,null,null,0.34799999999999998,0.38]
[null,1.4810000000000001,1.5189999999999999,1.5069999999999999,1.448,1.4850000000000001,1.4259999999999999,1.4630000000000001,1.452,1.302,1.43,1.3740000000000001,1.409,17.295999999999999,null,null,null,null,2.04,1.4810000000000001,null,null,1.63,1.5189999999999999,null,null,3.173,1.5069999999999999,null,null,6.843,4.5069999999999997,null,null,null,null,4.3109999999999999,1.448,null,null,4.274,1.4850000000000001,null,null,2.0499999999999998,1.4259999999999999,null,null,10.635,4.359,null,null,null,null,1.3839999999999999,1.4630000000000001,null,null,0.56899999999999995,1.452,null,null,1.3979999999999999,1.302,null,null,3.351,4.2170000000000005,null,null,null,null,0.66100000000000003,1.43,null,null,1.1950000000000001,1.3740000000000001,null,null,4.0960000000000001,1.409,null,null,5.952,4.2130000000000001]
[null,14.128,14.537000000000001,14.475,13.948,14.352,13.83,14.23,14.169,12.743,14.048,13.537000000000001,13.929,167.928,null,null,null,null,15.051,14.128,null,null,13.920999999999999,14.537000000000001,null,null,12.731,14.475,null,null,41.703000000000003,43.14,null,null,null,null,16,13.948,null,null,16.341999999999999,14.352,null,null,11.539,13.83,null,null,43.881,42.13,null,null,null,null,14.404,14.23,null,null,13.872,14.169,null,null,12.372,12.743,null,null,40.648000000000003,41.142000000000003,null,null,null,null,16.437000000000001,14.048,null,null,11.602,13.537000000000001,null,null,15.868,13.929,null,null,43.906999999999996,41.514000000000003]
[null,6.4790000000000001,6.6580000000000004,6.6210000000000004,6.3710000000000004,6.5469999999999997,6.3,6.4740000000000002,6.4379999999999997,5.782,6.3659999999999997,6.1260000000000003,6.2949999999999999,76.456999999999994,null,null,null,null,7.6029999999999998,6.4790000000000001,null,null,6.45,6.6580000000000004,null,null,8.0510000000000002,6.6210000000000004,null,null,22.103999999999999,19.758000000000003,null,null,null,null,6.3959999999999999,6.3710000000000004,null,null,8.2240000000000002,6.5469999999999997,null,null,6.5830000000000002,6.3,null,null,21.202999999999999,19.218,null,null,null,null,7.3529999999999998,6.4740000000000002,null,null,6.7859999999999996,6.4379999999999997,null,null,7.31,5.782,null,null,21.449000000000002,18.693999999999999,null,null,null,null,7.5519999999999996,6.3659999999999997,null,null,7.4619999999999997,6.1260000000000003,null,null,7.4960000000000004,6.2949999999999999,null,null,22.51,18.786999999999999]
[null,63.034999999999997,64.521000000000001,63.914000000000001,61.27,62.716000000000001,60.122999999999998,61.542999999999999,60.966000000000001,54.55,59.829000000000001,57.356999999999999,58.715000000000003,728.53800000000001,null,null,null,null,73.778999999999996,63.034999999999997,null,null,61.558,64.521000000000001,null,null,68.938000000000002,63.914000000000001,null,null,204.27500000000001,191.47,null,null,null,null,68.884,61.27,null,null,72.417000000000002,62.716000000000001,null,null,66.659000000000006,60.122999999999998,null,null,207.96,184.10900000000001,null,null,null,null,74.150999999999996,61.542999999999999,null,null,68.13,60.966000000000001,null,null,71.519000000000005,54.55,null,null,213.8,177.059,null,null,null,null,65.593999999999994,59.829000000000001,null,null,61.445999999999998,57.356999999999999,null,null,68.781000000000006,58.715000000000003,null,null,195.821,175.90100000000001]
[null,4.915,5.0259999999999998,4.9740000000000002,4.7649999999999997,4.875,4.6710000000000003,4.7809999999999997,4.7359999999999998,4.2380000000000004,4.649,4.4580000000000002,4.5659999999999998,56.652000000000001,null,null,null,null,1.7809999999999999,4.915,null,null,0.55000000000000004,5.0259999999999998,null,null,2.028,4.9740000000000002,null,null,4.359,14.914999999999999,null,null,null,null,5.5069999999999997,4.7649999999999997,null,null,5.6719999999999997,4.875,null,null,5.0220000000000002,4.6710000000000003,null,null,16.201000000000001,14.311,null,null,null,null,0.47,4.7809999999999997,null,null,2.302,4.7359999999999998,null,null,4.157,4.2380000000000004,null,null,6.9290000000000003,13.754999999999999,null,null,null,null,0,4.649,null,null,0.86599999999999999,4.4580000000000002,null,null,6.44,4.5659999999999998,null,null,7.306,13.672999999999998]
[null,1.27,1.3009999999999999,1.29,1.2370000000000001,1.268,1.216,1.2450000000000001,1.2350000000000001,1.105,1.2130000000000001,1.1639999999999999,1.1919999999999999,14.737,null,null,null,null,1.2090000000000001,1.27,null,null,1.1020000000000001,1.3009999999999999,null,null,1.002,1.29,null,null,3.3130000000000002,3.8609999999999998,null,null,null,null,1.173,1.2370000000000001,null,null,1.24,1.268,null,null,0.54900000000000004,1.216,null,null,2.9620000000000002,3.7210000000000001,null,null,null,null,0,1.2450000000000001,null,null,0,1.2350000000000001,null,null,0.17699999999999999,1.105,null,null,0.17699999999999999,3.5850000000000004,null,null,null,null,0,1.2130000000000001,null,null,0.14399999999999999,1.1639999999999999,null,null,0.53900000000000003,1.1919999999999999,null,null,0.68300000000000005,3.569]
[null,45.860999999999997,47.026000000000003,46.667999999999999,44.820999999999998,45.968000000000004,44.154000000000003,45.286999999999999,44.954000000000001,40.305,44.298000000000002,42.558,43.658000000000001,535.55899999999997,null,null,null,null,60.100999999999999,45.860999999999997,null,null,58.103999999999999,47.026000000000003,null,null,61.220999999999997,46.667999999999999,null,null,179.42599999999999,139.55500000000001,null,null,null,null,55.676000000000002,44.820999999999998,null,null,55.822000000000003,45.968000000000004,null,null,55.256,44.154000000000003,null,null,166.75399999999999,134.94300000000001,null,null,null,null,65.555999999999997,45.286999999999999,null,null,47.665999999999997,44.954000000000001,null,null,62.334000000000003,40.305,null,null,175.55600000000001,130.54599999999999,null,null,null,null,64.953000000000003,44.298000000000002,null,null,62.093000000000004,42.558,null,null,57.604999999999997,43.658000000000001,null,null,184.65100000000001,130.51400000000001]
[null,1.7569999999999999,1.8080000000000001,1.8,1.734,1.784,1.7190000000000001,1.7689999999999999,1.7609999999999999,1.5840000000000001,1.746,1.6819999999999999,1.73,20.873999999999999,null,null,null,null,5.0579999999999998,1.7569999999999999,null,null,3.3410000000000002,1.8080000000000001,null,null,2.64,1.8,null,null,11.039,5.3650000000000002,null,null,null,null,2.2360000000000002,1.734,null,null,2.1549999999999998,1.784,null,null,0,1.7190000000000001,null,null,4.391,5.2370000000000001,null,null,null,null,0,1.7689999999999999,null,null,0,1.7609999999999999,null,null,0,1.5840000000000001,null,null,0,5.1139999999999999,null,null,null,null,0,1.746,null,null,0,1.6819999999999999,null,null,0,1.73,null,null,0,5.1579999999999995]
[null,2.2370000000000001,2.298,2.2839999999999998,2.1970000000000001,2.2559999999999998,2.17,2.2290000000000001,2.2149999999999999,1.9890000000000001,2.1880000000000002,2.105,2.1619999999999999,26.327999999999999,null,null,null,null,6.7969999999999997,2.2370000000000001,null,null,4.2679999999999998,2.298,null,null,4.0460000000000003,2.2839999999999998,null,null,15.111000000000001,6.819,null,null,null,null,3.7949999999999999,2.1970000000000001,null,null,3.3109999999999999,2.2559999999999998,null,null,0.90700000000000003,2.17,null,null,8.0129999999999999,6.6229999999999993,null,null,null,null,0.127,2.2290000000000001,null,null,0,2.2149999999999999,null,null,4.1000000000000002E-2,1.9890000000000001,null,null,0.16800000000000001,6.4329999999999998,null,null,null,null,0,2.1880000000000002,null,null,0,2.105,null,null,0,2.1619999999999999,null,null,0,6.4550000000000001]
[null,9.4969999999999999,9.7439999999999998,9.6750000000000007,9.298,9.5410000000000004,9.1690000000000005,9.4090000000000007,9.3439999999999994,8.3810000000000002,9.2149999999999999,8.8559999999999999,9.0879999999999992,111.21599999999999,null,null,null,null,9.7140000000000004,9.4969999999999999,null,null,15.176,9.7439999999999998,null,null,9.968,9.6750000000000007,null,null,34.857999999999997,28.916,null,null,null,null,11.337,9.298,null,null,15.548999999999999,9.5410000000000004,null,null,16.800999999999998,9.1690000000000005,null,null,43.686999999999998,28.007999999999999,null,null,null,null,6.1529999999999996,9.4090000000000007,null,null,5.798,9.3439999999999994,null,null,11.448,8.3810000000000002,null,null,23.399000000000001,27.134,null,null,null,null,4.484,9.2149999999999999,null,null,4.0880000000000001,8.8559999999999999,null,null,5.9550000000000001,9.0879999999999992,null,null,14.526999999999999,27.158999999999999]
[null,499.09300000000002,510.45499999999998,505.24700000000001,483.97199999999998,495.02499999999998,474.202,485.05200000000002,480.15499999999997,429.31700000000001,470.53199999999998,450.77800000000002,460.20100000000002,5744.0290000000005,null,null,null,null,482.399,499.09300000000002,null,null,493.22500000000002,510.45499999999998,null,null,481.15699999999998,505.24700000000001,null,null,1456.7809999999999,1514.7950000000001,null,null,null,null,456.61900000000003,483.97199999999998,null,null,474.452,495.02499999999998,null,null,443.66699999999997,474.202,null,null,1374.7380000000001,1453.1990000000001,null,null,null,null,426.77699999999999,485.05200000000002,null,null,386.53800000000001,480.15499999999997,null,null,438.87,429.31700000000001,null,null,1252.1849999999999,1394.5239999999999,null,null,null,null,419.19900000000001,470.53199999999998,null,null,435.73,450.77800000000002,null,null,487.36599999999999,460.20100000000002,null,null,1342.2950000000001,1381.511]
[null,1.2430000000000001,1.276,1.2669999999999999,1.218,1.25,1.2010000000000001,1.2330000000000001,1.224,1.0980000000000001,1.2070000000000001,1.1599999999999999,1.1910000000000001,14.567,null,null,null,null,0.95399999999999996,1.2430000000000001,null,null,0.89500000000000002,1.276,null,null,0.95799999999999996,1.2669999999999999,null,null,2.8069999999999999,3.786,null,null,null,null,0.86699999999999999,1.218,null,null,0.98099999999999998,1.25,null,null,0.98199999999999998,1.2010000000000001,null,null,2.83,3.669,null,null,null,null,0.97899999999999998,1.2330000000000001,null,null,1.47,1.224,null,null,1.228,1.0980000000000001,null,null,3.677,3.5549999999999997,null,null,null,null,1.157,1.2070000000000001,null,null,1.0820000000000001,1.1599999999999999,null,null,1.3460000000000001,1.1910000000000001,null,null,3.585,3.5579999999999998]
[null,156.93799999999999,161.03700000000001,159.91300000000001,153.67500000000001,157.68899999999999,151.53800000000001,155.49799999999999,154.41399999999999,138.49799999999999,152.26900000000001,146.33000000000001,150.155,1837.953,null,null,null,null,147.08199999999999,156.93799999999999,null,null,158.74299999999999,161.03700000000001,null,null,153.38300000000001,159.91300000000001,null,null,459.20800000000003,477.88800000000003,null,null,null,null,149.339,153.67500000000001,null,null,140.15,157.68899999999999,null,null,124.592,151.53800000000001,null,null,414.08100000000002,462.90200000000004,null,null,null,null,147.738,155.49799999999999,null,null,109.47799999999999,154.41399999999999,null,null,132.899,138.49799999999999,null,null,390.11500000000001,448.40999999999997,null,null,null,null,136.245,152.26900000000001,null,null,147.58000000000001,146.33000000000001,null,null,153.465,150.155,null,null,437.29,448.75400000000002]
[null,0.38200000000000001,0.39200000000000002,0.39,0.375,0.38400000000000001,0.36899999999999999,0.379,0.376,0.33800000000000002,0.371,0.35699999999999998,0.36599999999999999,4.4800000000000004,null,null,null,null,0.51900000000000002,0.38200000000000001,null,null,0.46500000000000002,0.39200000000000002,null,null,0.43,0.39,null,null,1.4139999999999999,1.1640000000000001,null,null,null,null,0.36299999999999999,0.375,null,null,0.38500000000000001,0.38400000000000001,null,null,0.29599999999999999,0.36899999999999999,null,null,1.044,1.1280000000000001,null,null,null,null,0.27600000000000002,0.379,null,null,0.23499999999999999,0.376,null,null,0.41699999999999998,0.33800000000000002,null,null,0.92800000000000005,1.093,null,null,null,null,0.25900000000000001,0.371,null,null,0.20699999999999999,0.35699999999999998,null,null,0.65200000000000002,0.36599999999999999,null,null,1.1180000000000001,1.0939999999999999]
[null,1.0169999999999999,1.046,1.0409999999999999,1.0029999999999999,1.032,0.99399999999999999,1.022,1.0169999999999999,0.91500000000000004,1.008,0.97099999999999997,0.999,12.066000000000001,null,null,null,null,1.87,1.0169999999999999,null,null,1.0720000000000001,1.046,null,null,1.042,1.0409999999999999,null,null,3.984,3.1039999999999996,null,null,null,null,0.81499999999999995,1.0029999999999999,null,null,1.0469999999999999,1.032,null,null,1.137,0.99399999999999999,null,null,2.9990000000000001,3.0289999999999999,null,null,null,null,0.89500000000000002,1.022,null,null,0.61899999999999999,1.0169999999999999,null,null,1.143,0.91500000000000004,null,null,2.657,2.9539999999999997,null,null,null,null,1.5149999999999999,1.008,null,null,1.087,0.97099999999999997,null,null,0.85199999999999998,0.999,null,null,3.4540000000000002,2.9780000000000002]
[null,16.027000000000001,16.445,16.329000000000001,15.692,16.100999999999999,15.472,15.875,15.763999999999999,14.138,15.542999999999999,14.936,15.326000000000001,187.648,null,null,null,null,23.898,16.027000000000001,null,null,25.135999999999999,16.445,null,null,21.158999999999999,16.329000000000001,null,null,70.192999999999998,48.801000000000002,null,null,null,null,20.706,15.692,null,null,21.677,16.100999999999999,null,null,17.922000000000001,15.472,null,null,60.305,47.265000000000001,null,null,null,null,11.247999999999999,15.875,null,null,8.0649999999999995,15.763999999999999,null,null,12.38,14.138,null,null,31.693000000000001,45.777000000000001,null,null,null,null,13.015000000000001,15.542999999999999,null,null,14.186,14.936,null,null,11.151,15.326000000000001,null,null,38.351999999999997,45.805]
[null,0,0,0,0,0,0,0,0,0,0,0,0,0,null,null,null,null,4.0190000000000001,0,null,null,4.1440000000000001,0,null,null,4.0599999999999996,0,null,null,12.223000000000001,0,null,null,null,null,3.8839999999999999,0,null,null,4.2300000000000004,0,null,null,3.8969999999999998,0,null,null,12.010999999999999,0,null,null,null,null,2.2410000000000001,0,null,null,1.147,0,null,null,1.6319999999999999,0,null,null,5.0199999999999996,0,null,null,null,null,3.089,0,null,null,2.4929999999999999,0,null,null,3.0670000000000002,0,null,null,8.6489999999999991,0]
[null,1.3129999999999999,1.3480000000000001,1.3380000000000001,1.286,1.32,1.268,1.302,1.2929999999999999,1.159,1.2749999999999999,1.2250000000000001,1.2569999999999999,15.385,null,null,null,null,1.8360000000000001,1.3129999999999999,null,null,1.921,1.3480000000000001,null,null,1.548,1.3380000000000001,null,null,5.3049999999999997,3.9990000000000001,null,null,null,null,0.92,1.286,null,null,1.657,1.32,null,null,1.4319999999999999,1.268,null,null,4.0090000000000003,3.8739999999999997,null,null,null,null,2.847,1.302,null,null,2.0230000000000001,1.2929999999999999,null,null,2.36,1.159,null,null,7.23,3.7539999999999996,null,null,null,null,1.1619999999999999,1.2749999999999999,null,null,0.90600000000000003,1.2250000000000001,null,null,2.7970000000000002,1.2569999999999999,null,null,4.8650000000000002,3.7569999999999997]
[null,11.804,12.113,12.029,11.561,11.863,11.401,11.699,11.618,10.420999999999999,11.458,11.012,11.3,138.28,null,null,null,null,11.164999999999999,11.804,null,null,14.548999999999999,12.113,null,null,11.821999999999999,12.029,null,null,37.536000000000001,35.945999999999998,null,null,null,null,4.4400000000000004,11.561,null,null,6.7709999999999999,11.863,null,null,12.635999999999999,11.401,null,null,23.847000000000001,34.825000000000003,null,null,null,null,13.317,11.699,null,null,10.898999999999999,11.618,null,null,12.705,10.420999999999999,null,null,36.920999999999999,33.738,null,null,null,null,10.97,11.458,null,null,11.42,11.012,null,null,11.438000000000001,11.3,null,null,33.828000000000003,33.769999999999996]
[null,247.93299999999999,252.60499999999999,249.15799999999999,193.934,197.73599999999999,232.85900000000001,237.626,234.73400000000001,209.49299999999999,229.23500000000001,219.30699999999999,224.08,2728.7,null,null,null,null,273.238,247.93299999999999,null,null,269.51499999999999,252.60499999999999,null,null,239.86799999999999,249.15799999999999,null,null,782.62099999999998,749.69600000000003,null,null,null,null,224.232,193.934,null,null,249.833,197.73599999999999,null,null,256.92899999999997,232.85900000000001,null,null,730.99400000000003,624.529,null,null,null,null,211.304,237.626,null,null,183.077,234.73400000000001,null,null,206.02099999999999,209.49299999999999,null,null,600.40200000000004,681.85300000000007,null,null,null,null,207.58099999999999,229.23500000000001,null,null,205.78,219.30699999999999,null,null,243.392,224.08,null,null,656.75300000000004,672.62200000000007]
[null,38.942,39.805999999999997,39.384,26.574000000000002,27.166,37.155999999999999,38.012999999999998,37.64,33.668999999999997,36.92,35.393000000000001,36.231999999999999,426.89400000000001,null,null,null,null,40.039000000000001,38.942,null,null,41.966000000000001,39.805999999999997,null,null,34.838999999999999,39.384,null,null,116.84399999999999,118.13199999999999,null,null,null,null,33.978999999999999,26.574000000000002,null,null,38.076999999999998,27.166,null,null,37.917000000000002,37.155999999999999,null,null,109.973,90.896000000000001,null,null,null,null,38.548000000000002,38.012999999999998,null,null,33.173000000000002,37.64,null,null,39.087000000000003,33.668999999999997,null,null,110.80800000000001,109.32199999999999,null,null,null,null,43.003999999999998,36.92,null,null,36.500999999999998,35.393000000000001,null,null,42.631999999999998,36.231999999999999,null,null,122.137,108.545]
[null,27.533000000000001,28.24,28.030999999999999,26.925999999999998,27.617999999999999,26.53,27.212,27.010999999999999,24.216000000000001,26.613,25.564,26.221,321.71600000000001,null,null,null,null,29.568000000000001,27.533000000000001,null,null,27.806999999999999,28.24,null,null,28.564,28.030999999999999,null,null,85.938999999999993,83.804000000000002,null,null,null,null,28.111999999999998,26.925999999999998,null,null,28.832000000000001,27.617999999999999,null,null,32.877000000000002,26.53,null,null,89.820999999999998,81.073999999999998,null,null,null,null,25.363,27.212,null,null,22.088999999999999,27.010999999999999,null,null,18.873000000000001,24.216000000000001,null,null,66.325000000000003,78.438999999999993,null,null,null,null,21.937000000000001,26.613,null,null,27.344999999999999,25.564,null,null,34.167999999999999,26.221,null,null,83.45,78.397999999999996]
[null,2.706,2.7829999999999999,2.7709999999999999,2.669,2.746,2.645,2.7210000000000001,2.7090000000000001,2.4350000000000001,2.6840000000000002,2.5859999999999999,2.66,32.113999999999997,null,null,null,null,0.91500000000000004,2.706,null,null,0.74,2.7829999999999999,null,null,0.92600000000000005,2.7709999999999999,null,null,2.581,8.26,null,null,null,null,0.78,2.669,null,null,0.91900000000000004,2.746,null,null,0.85,2.645,null,null,2.5489999999999999,8.06,null,null,null,null,1.075,2.7210000000000001,null,null,1.095,2.7090000000000001,null,null,1.0680000000000001,2.4350000000000001,null,null,3.238,7.8650000000000002,null,null,null,null,0.86299999999999999,2.6840000000000002,null,null,1.55,2.5859999999999999,null,null,0.376,2.66,null,null,2.7890000000000001,7.93]
[null,0.48399999999999999,0.497,0.49299999999999999,0.47399999999999998,0.48599999999999999,0.46700000000000003,0.48,0.47599999999999998,0.42699999999999999,0.47,0.45100000000000001,0.46300000000000002,5.6680000000000001,null,null,null,null,0.153,0.48399999999999999,null,null,3.3000000000000002E-2,0.497,null,null,1.0999999999999999E-2,0.49299999999999999,null,null,0.19700000000000001,1.474,null,null,null,null,7.5999999999999998E-2,0.47399999999999998,null,null,0.03,0.48599999999999999,null,null,3.9E-2,0.46700000000000003,null,null,0.14499999999999999,1.427,null,null,null,null,5.7000000000000002E-2,0.48,null,null,0,0.47599999999999998,null,null,2.7E-2,0.42699999999999999,null,null,8.4000000000000005E-2,1.383,null,null,null,null,9.4E-2,0.47,null,null,0.11600000000000001,0.45100000000000001,null,null,9.0999999999999998E-2,0.46300000000000002,null,null,0.30099999999999999,1.3840000000000001]
[null,0.65100000000000002,0.66900000000000004,0.66500000000000004,0.64100000000000001,0.65900000000000003,0.63400000000000001,0.65200000000000002,0.64800000000000002,0.58299999999999996,0.64200000000000002,0.61799999999999999,0.63500000000000001,7.6950000000000003,null,null,null,null,0.17199999999999999,0.65100000000000002,null,null,3.3000000000000002E-2,0.66900000000000004,null,null,0.193,0.66500000000000004,null,null,0.39800000000000002,1.9850000000000001,null,null,null,null,0.159,0.64100000000000001,null,null,8.3000000000000004E-2,0.65900000000000003,null,null,0,0.63400000000000001,null,null,0.24199999999999999,1.9340000000000002,null,null,null,null,0,0.65200000000000002,null,null,0,0.64800000000000002,null,null,0,0.58299999999999996,null,null,0,1.883,null,null,null,null,0,0.64200000000000002,null,null,0,0.61799999999999999,null,null,0.28899999999999998,0.63500000000000001,null,null,0.28899999999999998,1.895]
[null,3.28,3.3730000000000002,3.3570000000000002,3.234,3.3260000000000001,3.2040000000000002,3.2949999999999999,3.28,2.948,3.2490000000000001,3.13,3.2189999999999999,38.895000000000003,null,null,null,null,0,3.28,null,null,0,3.3730000000000002,null,null,0,3.3570000000000002,null,null,0,10.010000000000002,null,null,null,null,1.1299999999999999,3.234,null,null,3.4430000000000001,3.3260000000000001,null,null,3.3340000000000001,3.2040000000000002,null,null,7.907,9.7640000000000011,null,null,null,null,3.49,3.2949999999999999,null,null,2.9460000000000002,3.28,null,null,3.472,2.948,null,null,9.9079999999999995,9.5229999999999997,null,null,null,null,3.3660000000000001,3.2490000000000001,null,null,3.38,3.13,null,null,3.4870000000000001,3.2189999999999999,null,null,10.233000000000001,9.597999999999999]
[null,0.14299999999999999,0.14599999999999999,0.14599999999999999,0.14000000000000001,0.14399999999999999,0.13900000000000001,0.14199999999999999,0.14199999999999999,0.127,0.14000000000000001,0.13500000000000001,0.13800000000000001,1.6819999999999999,null,null,null,null,0.13800000000000001,0.14299999999999999,null,null,0.14299999999999999,0.14599999999999999,null,null,0.14000000000000001,0.14599999999999999,null,null,0.42099999999999999,0.43499999999999994,null,null,null,null,0.13,0.14000000000000001,null,null,0.13,0.14399999999999999,null,null,0.14699999999999999,0.13900000000000001,null,null,0.40699999999999997,0.42300000000000004,null,null,null,null,0.15,0.14199999999999999,null,null,0.122,0.14199999999999999,null,null,0.154,0.127,null,null,0.42599999999999999,0.41099999999999998,null,null,null,null,0.13800000000000001,0.14000000000000001,null,null,0.13500000000000001,0.13500000000000001,null,null,0.128,0.13800000000000001,null,null,0.40100000000000002,0.41300000000000003]
[null,9.7289999999999992,10.004,9.9550000000000001,9.5860000000000003,9.8569999999999993,9.4909999999999997,9.7590000000000003,9.7110000000000003,8.7279999999999998,9.6150000000000002,9.2590000000000003,9.5210000000000008,115.21599999999999,null,null,null,null,12.089,9.7289999999999992,null,null,11.412000000000001,10.004,null,null,10.91,9.9550000000000001,null,null,34.411000000000001,29.687999999999995,null,null,null,null,10.324999999999999,9.5860000000000003,null,null,10.484999999999999,9.8569999999999993,null,null,10.484999999999999,9.4909999999999997,null,null,31.295000000000002,28.933999999999997,null,null,null,null,9.9700000000000006,9.7590000000000003,null,null,9.3390000000000004,9.7110000000000003,null,null,12.605,8.7279999999999998,null,null,31.914000000000001,28.198,null,null,null,null,7.2450000000000001,9.6150000000000002,null,null,9.24,9.2590000000000003,null,null,11.366,9.5210000000000008,null,null,27.850999999999999,28.395000000000003]
[null,2.8340000000000001,2.9079999999999999,2.8879999999999999,2.7759999999999998,2.8479999999999999,2.7370000000000001,2.8090000000000002,2.7890000000000001,2.5019999999999998,2.7509999999999999,2.6440000000000001,2.7130000000000001,33.198999999999998,null,null,null,null,3.58,2.8340000000000001,null,null,3.5859999999999999,2.9079999999999999,null,null,3.5609999999999999,2.8879999999999999,null,null,10.727,8.629999999999999,null,null,null,null,3.4540000000000002,2.7759999999999998,null,null,3.532,2.8479999999999999,null,null,3.4660000000000002,2.7370000000000001,null,null,10.452,8.3610000000000007,null,null,null,null,3.472,2.8090000000000002,null,null,2.855,2.7890000000000001,null,null,3.6909999999999998,2.5019999999999998,null,null,10.018000000000001,8.1000000000000014,null,null,null,null,3.8239999999999998,2.7509999999999999,null,null,3.323,2.6440000000000001,null,null,3.859,2.7130000000000001,null,null,11.006,8.1080000000000005]
[null,8.65,8.8919999999999995,8.8460000000000001,8.5169999999999995,8.7550000000000008,8.4290000000000003,8.6649999999999991,8.6199999999999992,7.7450000000000001,8.5310000000000006,8.2129999999999992,8.4429999999999996,102.306,null,null,null,null,12.093,8.65,null,null,11.432,8.8919999999999995,null,null,10.936,8.8460000000000001,null,null,34.460999999999999,26.388000000000002,null,null,null,null,13.228999999999999,8.5169999999999995,null,null,11.53,8.7550000000000008,null,null,10.542,8.4290000000000003,null,null,35.301000000000002,25.701000000000001,null,null,null,null,8.9060000000000006,8.6649999999999991,null,null,7.5330000000000004,8.6199999999999992,null,null,9.8640000000000008,7.7450000000000001,null,null,26.303000000000001,25.029999999999998,null,null,null,null,8.9420000000000002,8.5310000000000006,null,null,9.3309999999999995,8.2129999999999992,null,null,9.7010000000000005,8.4429999999999996,null,null,27.974,25.186999999999998]
[null,5.0449999999999999,5.1859999999999999,5.1580000000000004,4.9649999999999999,5.1029999999999998,4.9119999999999999,5.0490000000000004,5.0220000000000002,4.5119999999999996,4.968,4.7830000000000004,4.9160000000000004,59.616999999999997,null,null,null,null,5.9480000000000004,5.0449999999999999,null,null,6.7969999999999997,5.1859999999999999,null,null,6.67,5.1580000000000004,null,null,19.414999999999999,15.388999999999999,null,null,null,null,6.2560000000000002,4.9649999999999999,null,null,5.2530000000000001,5.1029999999999998,null,null,3.3479999999999999,4.9119999999999999,null,null,14.856999999999999,14.98,null,null,null,null,5.0090000000000003,5.0490000000000004,null,null,3.4390000000000001,5.0220000000000002,null,null,3.7949999999999999,4.5119999999999996,null,null,12.243,14.583000000000002,null,null,null,null,5.4969999999999999,4.968,null,null,5.0679999999999996,4.7830000000000004,null,null,5.6230000000000002,4.9160000000000004,null,null,16.187999999999999,14.667000000000002]
[null,54.298999999999999,55.728999999999999,55.350999999999999,53.201999999999998,54.603000000000002,52.484000000000002,53.866,53.500999999999998,47.996000000000002,52.777999999999999,50.73,52.066000000000003,636.60400000000004,null,null,null,null,60.146000000000001,54.298999999999999,null,null,61.856999999999999,55.728999999999999,null,null,58.448,55.350999999999999,null,null,180.45099999999999,165.37899999999999,null,null,null,null,22.454999999999998,53.201999999999998,null,null,10.645,54.603000000000002,null,null,82.335999999999999,52.484000000000002,null,null,115.43600000000001,160.28900000000002,null,null,null,null,55.003999999999998,53.866,null,null,40.935000000000002,53.500999999999998,null,null,55.814,47.996000000000002,null,null,151.75299999999999,155.363,null,null,null,null,44.999000000000002,52.777999999999999,null,null,56.933999999999997,50.73,null,null,55.494999999999997,52.066000000000003,null,null,157.428,155.57400000000001]
[null,51.381,52.445999999999998,51.817,49.554000000000002,50.610999999999997,48.417999999999999,49.469000000000001,48.92,43.703000000000003,47.863999999999997,45.828000000000003,46.86,586.86900000000003,null,null,null,null,49.182000000000002,51.381,null,null,62.545999999999999,52.445999999999998,null,null,56.244,51.817,null,null,167.97200000000001,155.64400000000001,null,null,null,null,58.139000000000003,49.554000000000002,null,null,58.808999999999997,50.610999999999997,null,null,50.71,48.417999999999999,null,null,167.65799999999999,148.583,null,null,null,null,43.744,49.469000000000001,null,null,38.235999999999997,48.92,null,null,54.232999999999997,43.703000000000003,null,null,136.21299999999999,142.09200000000001,null,null,null,null,42.494,47.863999999999997,null,null,43.212000000000003,45.828000000000003,null,null,58.966999999999999,46.86,null,null,144.673,140.55200000000002]
[null,51.759,49.112000000000002,48.466999999999999,49.856000000000002,50.918999999999997,48.723999999999997,49.802,49.277000000000001,44.051000000000002,48.281999999999996,46.265999999999998,47.35,583.86300000000006,null,null,null,null,25.652000000000001,51.759,null,null,31.105,49.112000000000002,null,null,35.435000000000002,48.466999999999999,null,null,92.191999999999993,149.33800000000002,null,null,null,null,29.710999999999999,49.856000000000002,null,null,41.902000000000001,50.918999999999997,null,null,31.018000000000001,48.723999999999997,null,null,102.631,149.499,null,null,null,null,31.431999999999999,49.802,null,null,28.68,49.277000000000001,null,null,33.707000000000001,44.051000000000002,null,null,93.819000000000003,143.13,null,null,null,null,38.095999999999997,48.281999999999996,null,null,35.561999999999998,46.265999999999998,null,null,39.043999999999997,47.35,null,null,112.702,141.898]
[null,15.108000000000001,15.51,15.409000000000001,14.815,15.21,14.624000000000001,15.013,14.916,13.385,14.723000000000001,14.154999999999999,14.532,177.4,null,null,null,null,12.324,15.108000000000001,null,null,16.010000000000002,15.51,null,null,12.682,15.409000000000001,null,null,41.015999999999998,46.027000000000001,null,null,null,null,12.417,14.815,null,null,12.711,15.21,null,null,10.432,14.624000000000001,null,null,35.56,44.649000000000001,null,null,null,null,11.56,15.013,null,null,10.491,14.916,null,null,7.2229999999999999,13.385,null,null,29.274000000000001,43.314,null,null,null,null,14.967000000000001,14.723000000000001,null,null,14.486000000000001,14.154999999999999,null,null,12.382,14.532,null,null,41.835000000000001,43.41]
[null,20.550999999999998,21.077999999999999,20.920999999999999,20.096,20.611000000000001,19.797999999999998,20.306000000000001,20.155000000000001,18.07,19.856999999999999,19.074000000000002,19.562999999999999,240.08099999999999,null,null,null,null,25.401,20.550999999999998,null,null,18.149000000000001,21.077999999999999,null,null,18.471,20.920999999999999,null,null,62.021000000000001,62.55,null,null,null,null,18.204000000000001,20.096,null,null,19.184000000000001,20.611000000000001,null,null,18.324999999999999,19.797999999999998,null,null,55.713000000000001,60.504999999999995,null,null,null,null,18.013000000000002,20.306000000000001,null,null,15.308,20.155000000000001,null,null,18.079000000000001,18.07,null,null,51.4,58.530999999999999,null,null,null,null,16.602,19.856999999999999,null,null,17.137,19.074000000000002,null,null,13.215,19.562999999999999,null,null,46.954000000000001,58.494]
[null,27.306999999999999,28.065999999999999,27.916,26.870999999999999,27.617999999999999,26.584,27.323,27.177,24.416,26.888000000000002,25.882000000000001,26.602,322.65100000000001,null,null,null,null,43.634999999999998,27.306999999999999,null,null,36.756,28.065999999999999,null,null,32.284999999999997,27.916,null,null,112.676,83.289000000000001,null,null,null,null,31.515999999999998,26.870999999999999,null,null,31.297000000000001,27.617999999999999,null,null,28.02,26.584,null,null,90.832999999999998,81.072999999999993,null,null,null,null,24.460999999999999,27.323,null,null,17.994,27.177,null,null,26.332000000000001,24.416,null,null,68.787000000000006,78.915999999999997,null,null,null,null,20.32,26.888000000000002,null,null,24.606000000000002,25.882000000000001,null,null,29.468,26.602,null,null,74.394000000000005,79.372]
[null,1.855,1.9,1.883,1.8069999999999999,1.851,1.776,1.819,1.8029999999999999,1.615,1.772,1.7,1.742,21.523,null,null,null,null,2.548,1.855,null,null,2.68,1.9,null,null,1.8779999999999999,1.883,null,null,7.1059999999999999,5.6379999999999999,null,null,null,null,1.77,1.8069999999999999,null,null,1.843,1.851,null,null,1.6459999999999999,1.776,null,null,5.2590000000000003,5.4340000000000002,null,null,null,null,1.643,1.819,null,null,1.32,1.8029999999999999,null,null,1.5740000000000001,1.615,null,null,4.5369999999999999,5.2370000000000001,null,null,null,null,1.4339999999999999,1.772,null,null,1.6539999999999999,1.7,null,null,1.7430000000000001,1.742,null,null,4.8310000000000004,5.2140000000000004]
[null,0.996,1.0249999999999999,1.0209999999999999,0.98399999999999999,1.012,0.97499999999999998,1.0029999999999999,0.999,0.89900000000000002,0.99099999999999999,0.95499999999999996,0.98199999999999998,11.840999999999999,null,null,null,null,9.5000000000000001E-2,0.996,null,null,0.1,1.0249999999999999,null,null,9.8000000000000004E-2,1.0209999999999999,null,null,0.29299999999999998,3.0419999999999998,null,null,null,null,8.8999999999999996E-2,0.98399999999999999,null,null,9.2999999999999999E-2,1.012,null,null,9.0999999999999998E-2,0.97499999999999998,null,null,0.27300000000000002,2.9710000000000001,null,null,null,null,8.7999999999999995E-2,1.0029999999999999,null,null,9.2999999999999999E-2,0.999,null,null,8.5000000000000006E-2,0.89900000000000002,null,null,0.26600000000000001,2.9009999999999998,null,null,null,null,9.8000000000000004E-2,0.99099999999999999,null,null,0.11,0.95499999999999996,null,null,6.4000000000000001E-2,0.98199999999999998,null,null,0.27200000000000002,2.9279999999999999]
[null,9.6679999999999993,9.9280000000000008,9.8650000000000002,9.4870000000000001,9.7420000000000009,9.3689999999999998,9.6210000000000004,9.56,8.5809999999999995,9.4410000000000007,9.08,9.3239999999999998,113.667,null,null,null,null,9.0239999999999991,9.6679999999999993,null,null,10.295999999999999,9.9280000000000008,null,null,10.093999999999999,9.8650000000000002,null,null,29.414000000000001,29.460999999999999,null,null,null,null,9.9030000000000005,9.4870000000000001,null,null,10.343,9.7420000000000009,null,null,9.7579999999999991,9.3689999999999998,null,null,30.004000000000001,28.597999999999999,null,null,null,null,9.4350000000000005,9.6210000000000004,null,null,8.5229999999999997,9.56,null,null,9.5760000000000005,8.5809999999999995,null,null,27.533999999999999,27.762,null,null,null,null,9.6240000000000006,9.4410000000000007,null,null,8.7530000000000001,9.08,null,null,9.9710000000000001,9.3239999999999998,null,null,28.347999999999999,27.844999999999999]
[null,0.76400000000000001,0.78500000000000003,0.78,0.75,0.77,0.74,0.76,0.755,0.67800000000000005,0.745,0.71699999999999997,0.73599999999999999,8.9779999999999998,null,null,null,null,0,0.76400000000000001,null,null,0,0.78500000000000003,null,null,0,0.78,null,null,0,2.3289999999999997,null,null,null,null,1.1000000000000001,0.75,null,null,0.64700000000000002,0.77,null,null,7.3999999999999996E-2,0.74,null,null,1.821,2.2599999999999998,null,null,null,null,0,0.76,null,null,0,0.755,null,null,0,0.67800000000000005,null,null,0,2.1930000000000001,null,null,null,null,0,0.745,null,null,0,0.71699999999999997,null,null,0,0.73599999999999999,null,null,0,2.198]
[null,0.24199999999999999,0.248,0.246,0.23699999999999999,0.24299999999999999,0.23400000000000001,0.24,0.23799999999999999,0.214,0.23499999999999999,0.22600000000000001,0.23200000000000001,2.8359999999999999,null,null,null,null,0.22700000000000001,0.24199999999999999,null,null,9.1999999999999998E-2,0.248,null,null,0.13900000000000001,0.246,null,null,0.45800000000000002,0.73599999999999999,null,null,null,null,1.2E-2,0.23699999999999999,null,null,0.122,0.24299999999999999,null,null,0.1,0.23400000000000001,null,null,0.23400000000000001,0.71399999999999997,null,null,null,null,0.376,0.24,null,null,0.28899999999999998,0.23799999999999999,null,null,0.25800000000000001,0.214,null,null,0.92300000000000004,0.69199999999999995,null,null,null,null,7.8E-2,0.23499999999999999,null,null,0,0.22600000000000001,null,null,0,0.23200000000000001,null,null,7.8E-2,0.69299999999999995]
[null,5.93,6.085,6.0439999999999996,5.8090000000000002,5.9610000000000003,5.7290000000000001,5.88,5.8390000000000004,5.2380000000000004,5.7590000000000003,5.5350000000000001,5.681,69.489999999999995,null,null,null,null,7.7329999999999997,5.93,null,null,5.718,6.085,null,null,7.1440000000000001,6.0439999999999996,null,null,20.594999999999999,18.059000000000001,null,null,null,null,7.5650000000000004,5.8090000000000002,null,null,7.9660000000000002,5.9610000000000003,null,null,7.07,5.7290000000000001,null,null,22.600999999999999,17.498999999999999,null,null,null,null,7.7190000000000003,5.88,null,null,4.9409999999999998,5.8390000000000004,null,null,8.0549999999999997,5.2380000000000004,null,null,20.715,16.957000000000001,null,null,null,null,8.5449999999999999,5.7590000000000003,null,null,7.2859999999999996,5.5350000000000001,null,null,7.6130000000000004,5.681,null,null,23.443999999999999,16.975000000000001]
[null,47.162999999999997,48.433999999999997,48.134999999999998,46.295000000000002,47.542999999999999,45.725999999999999,46.959000000000003,46.67,41.893000000000001,46.095999999999997,44.335000000000001,45.530999999999999,554.78,null,null,null,null,55.237000000000002,47.162999999999997,null,null,49.12,48.433999999999997,null,null,50.661000000000001,48.134999999999998,null,null,155.018,143.732,null,null,null,null,52.381999999999998,46.295000000000002,null,null,53.405999999999999,47.542999999999999,null,null,52.756999999999998,45.725999999999999,null,null,158.54499999999999,139.56399999999999,null,null,null,null,48.905999999999999,46.959000000000003,null,null,44.433,46.67,null,null,50.31,41.893000000000001,null,null,143.649,135.52199999999999,null,null,null,null,48.731000000000002,46.095999999999997,null,null,48.05,44.335000000000001,null,null,47.542999999999999,45.530999999999999,null,null,144.32400000000001,135.96199999999999]
[null,0.82599999999999996,0.84899999999999998,0.84399999999999997,0.81299999999999994,0.83599999999999997,0.80400000000000005,0.82699999999999996,0.82199999999999995,0.73899999999999999,0.81399999999999995,0.78300000000000003,0.80500000000000005,9.7609999999999992,null,null,null,null,0.73199999999999998,0.82599999999999996,null,null,0.63200000000000001,0.84899999999999998,null,null,0.73299999999999998,0.84399999999999997,null,null,2.097,2.5189999999999997,null,null,null,null,0.64400000000000002,0.81299999999999994,null,null,0.68200000000000005,0.83599999999999997,null,null,0.63600000000000001,0.80400000000000005,null,null,1.962,2.4530000000000003,null,null,null,null,0.75800000000000001,0.82699999999999996,null,null,0.73899999999999999,0.82199999999999995,null,null,0.71299999999999997,0.73899999999999999,null,null,2.21,2.3879999999999999,null,null,null,null,0.751,0.81399999999999995,null,null,0.70399999999999996,0.78300000000000003,null,null,0.79700000000000004,0.80500000000000005,null,null,2.2519999999999998,2.4020000000000001]
[null,0.52600000000000002,0.54,0.53700000000000003,0.51700000000000002,0.53,0.51,0.52400000000000002,0.52100000000000002,0.46700000000000003,0.51400000000000001,0.49399999999999999,0.50800000000000001,6.1890000000000001,null,null,null,null,0.60799999999999998,0.52600000000000002,null,null,0.626,0.54,null,null,0.43099999999999999,0.53700000000000003,null,null,1.665,1.6030000000000002,null,null,null,null,1.0999999999999999E-2,0.51700000000000002,null,null,0,0.53,null,null,1E-3,0.51,null,null,1.2E-2,1.5570000000000002,null,null,null,null,0,0.52400000000000002,null,null,1E-3,0.52100000000000002,null,null,0,0.46700000000000003,null,null,1E-3,1.512,null,null,null,null,0.23899999999999999,0.51400000000000001,null,null,2.1999999999999999E-2,0.49399999999999999,null,null,5.8999999999999997E-2,0.50800000000000001,null,null,0.32,1.516]
[null,1.847,1.901,1.893,1.825,1.8779999999999999,1.81,1.8620000000000001,1.855,1.6679999999999999,1.84,1.7729999999999999,1.825,21.975999999999999,null,null,null,null,3.4529999999999998,1.847,null,null,2.8849999999999998,1.901,null,null,2.577,1.893,null,null,8.9149999999999991,5.641,null,null,null,null,2.3170000000000002,1.825,null,null,2.335,1.8779999999999999,null,null,0,1.81,null,null,4.6520000000000001,5.5129999999999999,null,null,null,null,0,1.8620000000000001,null,null,0,1.855,null,null,0,1.6679999999999999,null,null,0,5.3849999999999998,null,null,null,null,0,1.84,null,null,0,1.7729999999999999,null,null,0,1.825,null,null,0,5.4379999999999997]
[null,2.8730000000000002,2.9569999999999999,2.9460000000000002,2.839,2.9220000000000002,2.8170000000000002,2.9,2.8879999999999999,2.5979999999999999,2.8650000000000002,2.762,2.843,34.210999999999999,null,null,null,null,3.9380000000000002,2.8730000000000002,null,null,3.8519999999999999,2.9569999999999999,null,null,5.1950000000000003,2.9460000000000002,null,null,12.984999999999999,8.7759999999999998,null,null,null,null,1.3979999999999999,2.839,null,null,0,2.9220000000000002,null,null,0.63600000000000001,2.8170000000000002,null,null,2.0339999999999998,8.5779999999999994,null,null,null,null,2.7759999999999998,2.9,null,null,0.98899999999999999,2.8879999999999999,null,null,0,2.5979999999999999,null,null,3.7650000000000001,8.3859999999999992,null,null,null,null,5.5E-2,2.8650000000000002,null,null,1.498,2.762,null,null,7.52,2.843,null,null,9.0730000000000004,8.4700000000000006]
[null,7.1769999999999996,7.367,7.3179999999999996,7.0339999999999998,7.22,6.9409999999999998,7.1239999999999997,7.077,6.3490000000000002,6.9829999999999997,6.7119999999999997,6.89,84.191999999999993,null,null,null,null,7.282,7.1769999999999996,null,null,6.4359999999999999,7.367,null,null,7.3849999999999998,7.3179999999999996,null,null,21.103000000000002,21.862000000000002,null,null,null,null,7.5289999999999999,7.0339999999999998,null,null,7.1710000000000003,7.22,null,null,7.0339999999999998,6.9409999999999998,null,null,21.734000000000002,21.195,null,null,null,null,6.2080000000000002,7.1239999999999997,null,null,5.806,7.077,null,null,6.1760000000000002,6.3490000000000002,null,null,18.190000000000001,20.55,null,null,null,null,5.9340000000000002,6.9829999999999997,null,null,5.8029999999999999,6.7119999999999997,null,null,6.0339999999999998,6.89,null,null,17.771000000000001,20.585000000000001]
[null,2.673,2.6779999999999999,2.6019999999999999,2.4489999999999998,2.4660000000000002,2.3279999999999998,2.35,2.2970000000000002,2.0310000000000001,2.202,2.09,2.1179999999999999,28.285,null,null,null,null,3.8029999999999999,2.673,null,null,3.306,2.6779999999999999,null,null,3.5840000000000001,2.6019999999999999,null,null,10.693,7.9529999999999994,null,null,null,null,5.0270000000000001,2.4489999999999998,null,null,3.4820000000000002,2.4660000000000002,null,null,4.968,2.3279999999999998,null,null,13.477,7.2430000000000003,null,null,null,null,0,2.35,null,null,0,2.2970000000000002,null,null,0.79100000000000004,2.0310000000000001,null,null,0.79100000000000004,6.6780000000000008,null,null,null,null,0,2.202,null,null,0,2.09,null,null,2.476,2.1179999999999999,null,null,2.476,6.41]
[null,3.419,3.5150000000000001,3.4969999999999999,3.367,3.4609999999999999,3.3319999999999999,3.4249999999999998,3.4079999999999999,3.0619999999999998,3.3730000000000002,3.2469999999999999,3.3380000000000001,40.444000000000003,null,null,null,null,1.98,3.419,null,null,0,3.5150000000000001,null,null,0.39900000000000002,3.4969999999999999,null,null,2.379,10.431000000000001,null,null,null,null,4.9390000000000001,3.367,null,null,0.71799999999999997,3.4609999999999999,null,null,5.2240000000000002,3.3319999999999999,null,null,10.881,10.16,null,null,null,null,0,3.4249999999999998,null,null,0,3.4079999999999999,null,null,0.85799999999999998,3.0619999999999998,null,null,0.85799999999999998,9.8949999999999996,null,null,null,null,0,3.3730000000000002,null,null,0,3.2469999999999999,null,null,3.048,3.3380000000000001,null,null,3.048,9.9580000000000002]
[null,0.73799999999999999,0.75700000000000001,0.752,0.72299999999999998,0.74199999999999999,0.71299999999999997,0.73199999999999998,0.72599999999999998,0.65200000000000002,0.71599999999999997,0.68899999999999995,0.70699999999999996,8.6460000000000008,null,null,null,null,0.89400000000000002,0.73799999999999999,null,null,0.91500000000000004,0.75700000000000001,null,null,0.91900000000000004,0.752,null,null,2.7280000000000002,2.2469999999999999,null,null,null,null,0.54600000000000004,0.72299999999999998,null,null,0,0.74199999999999999,null,null,0.309,0.71299999999999997,null,null,0.85499999999999998,2.1779999999999999,null,null,null,null,1.123,0.73199999999999998,null,null,0.34200000000000003,0.72599999999999998,null,null,1.1870000000000001,0.65200000000000002,null,null,2.6520000000000001,2.11,null,null,null,null,0.41099999999999998,0.71599999999999997,null,null,0,0.68899999999999995,null,null,0,0.70699999999999996,null,null,0.41099999999999998,2.1119999999999997]
[null,3.9990000000000001,4.1120000000000001,4.0919999999999996,3.9409999999999998,4.0529999999999999,3.903,4.0140000000000002,3.9950000000000001,3.5910000000000002,3.956,3.81,3.9180000000000001,47.384999999999998,null,null,null,null,2.3029999999999999,3.9990000000000001,null,null,3.2589999999999999,4.1120000000000001,null,null,1.1020000000000001,4.0919999999999996,null,null,6.6639999999999997,12.202999999999999,null,null,null,null,4.3070000000000004,3.9409999999999998,null,null,5.0869999999999997,4.0529999999999999,null,null,2.83,3.903,null,null,12.224,11.897,null,null,null,null,1.784,4.0140000000000002,null,null,2.694,3.9950000000000001,null,null,2.7669999999999999,3.5910000000000002,null,null,7.2450000000000001,11.600000000000001,null,null,null,null,1.843,3.956,null,null,1.0169999999999999,3.81,null,null,3.1230000000000002,3.9180000000000001,null,null,5.9829999999999997,11.684000000000001]
[null,0.65500000000000003,0.67400000000000004,0.67200000000000004,0.64800000000000002,0.66700000000000004,0.64300000000000002,0.66200000000000003,0.66,0.59399999999999997,0.65500000000000003,0.63100000000000001,0.65,7.8109999999999999,null,null,null,null,0,0.65500000000000003,null,null,0,0.67400000000000004,null,null,0,0.67200000000000004,null,null,0,2.0010000000000003,null,null,null,null,0,0.64800000000000002,null,null,3.0000000000000001E-3,0.66700000000000004,null,null,0,0.64300000000000002,null,null,3.0000000000000001E-3,1.958,null,null,null,null,0,0.66200000000000003,null,null,0,0.66,null,null,0,0.59399999999999997,null,null,0,1.9159999999999999,null,null,null,null,0,0.65500000000000003,null,null,0,0.63100000000000001,null,null,0,0.65,null,null,0,1.9359999999999999]
[null,4.8419999999999996,4.9800000000000004,4.9569999999999999,4.774,4.91,4.7300000000000004,4.8639999999999999,4.8410000000000002,4.3520000000000003,4.7960000000000003,4.62,4.7510000000000003,57.417999999999999,null,null,null,null,5.74,4.8419999999999996,null,null,5.8040000000000003,4.9800000000000004,null,null,5.6589999999999998,4.9569999999999999,null,null,17.202999999999999,14.779,null,null,null,null,5.8259999999999996,4.774,null,null,5.7160000000000002,4.91,null,null,4.0119999999999996,4.7300000000000004,null,null,15.554,14.414000000000001,null,null,null,null,4.0490000000000004,4.8639999999999999,null,null,2.206,4.8410000000000002,null,null,3.3420000000000001,4.3520000000000003,null,null,9.5969999999999995,14.057,null,null,null,null,4.3609999999999998,4.7960000000000003,null,null,5.6369999999999996,4.62,null,null,5.3319999999999999,4.7510000000000003,null,null,15.33,14.167000000000002]
[null,5.4009999999999998,5.5490000000000004,5.5170000000000003,5.3079999999999998,5.4530000000000003,5.2469999999999999,5.391,5.36,4.8129999999999997,5.298,5.0979999999999999,5.2370000000000001,63.670999999999999,null,null,null,null,5.5010000000000003,5.4009999999999998,null,null,4.9960000000000004,5.5490000000000004,null,null,3.49,5.5170000000000003,null,null,13.987,16.466999999999999,null,null,null,null,4.8250000000000002,5.3079999999999998,null,null,4.53,5.4530000000000003,null,null,4.4379999999999997,5.2469999999999999,null,null,13.792999999999999,16.007999999999999,null,null,null,null,2.6619999999999999,5.391,null,null,2.2090000000000001,5.36,null,null,3.4990000000000001,4.8129999999999997,null,null,8.3699999999999992,15.564,null,null,null,null,2.2029999999999998,5.298,null,null,3.347,5.0979999999999999,null,null,4.548,5.2370000000000001,null,null,10.098000000000001,15.633000000000001]
[null,0.127,0.13100000000000001,0.13,0.125,0.129,0.124,0.128,0.127,0.114,0.125,0.121,0.124,1.506,null,null,null,null,0,0.127,null,null,0,0.13100000000000001,null,null,0,0.13,null,null,0,0.38800000000000001,null,null,null,null,0,0.125,null,null,0,0.129,null,null,0,0.124,null,null,0,0.378,null,null,null,null,0,0.128,null,null,0,0.127,null,null,0,0.114,null,null,0,0.36899999999999999,null,null,null,null,0,0.125,null,null,0,0.121,null,null,0,0.124,null,null,0,0.37]
[null,31.82,32.674999999999997,32.47,31.225999999999999,32.064999999999998,30.835999999999999,31.664999999999999,31.466999999999999,28.244,31.074999999999999,29.885000000000002,30.687999999999999,374.11599999999999,null,null,null,null,27.186,31.82,null,null,32.167999999999999,32.674999999999997,null,null,31.498999999999999,32.47,null,null,90.852999999999994,96.965000000000003,null,null,null,null,15.14,31.225999999999999,null,null,25.626999999999999,32.064999999999998,null,null,35.61,30.835999999999999,null,null,76.376999999999995,94.126999999999995,null,null,null,null,29.079000000000001,31.664999999999999,null,null,27.143000000000001,31.466999999999999,null,null,30.305,28.244,null,null,86.527000000000001,91.376000000000005,null,null,null,null,27.087,31.074999999999999,null,null,33.067,29.885000000000002,null,null,31.146000000000001,30.687999999999999,null,null,91.3,91.647999999999996]
[null,1.032,1.0589999999999999,1.0509999999999999,0,0,1.0109999999999999,1.0369999999999999,1.03,0.92400000000000004,1.016,0.97599999999999998,1.002,12.205,null,null,null,null,0.93899999999999995,1.032,null,null,0.90400000000000003,1.0589999999999999,null,null,0.441,1.0509999999999999,null,null,2.2839999999999998,3.1420000000000003,null,null,null,null,0,0,null,null,0,0,null,null,1.9810000000000001,1.0109999999999999,null,null,1.9810000000000001,1.0109999999999999,null,null,null,null,1.423,1.0369999999999999,null,null,1.173,1.03,null,null,1.806,0.92400000000000004,null,null,4.4020000000000001,2.9910000000000001,null,null,null,null,1.355,1.016,null,null,0.8,0.97599999999999998,null,null,1.498,1.002,null,null,3.653,2.9939999999999998]
[null,7.306,7.4720000000000004,7.3970000000000002,7.0880000000000001,7.2519999999999998,6.9509999999999996,7.1139999999999999,7.048,6.3070000000000004,6.9189999999999996,6.6349999999999998,6.7949999999999999,84.283000000000001,null,null,null,null,2.6259999999999999,7.306,null,null,1.1279999999999999,7.4720000000000004,null,null,0.47299999999999998,7.3970000000000002,null,null,4.2270000000000003,22.175000000000001,null,null,null,null,4.7169999999999996,7.0880000000000001,null,null,4.1589999999999998,7.2519999999999998,null,null,4.7300000000000004,6.9509999999999996,null,null,13.606,21.291,null,null,null,null,2.5870000000000002,7.1139999999999999,null,null,3.294,7.048,null,null,2.254,6.3070000000000004,null,null,8.1349999999999998,20.469000000000001,null,null,null,null,2.5369999999999999,6.9189999999999996,null,null,2.198,6.6349999999999998,null,null,3.5920000000000001,6.7949999999999999,null,null,8.327,20.348999999999997]
[null,7.1550000000000002,7.3490000000000002,7.3049999999999997,7.0270000000000001,7.2169999999999996,6.9429999999999996,7.1310000000000002,7.0880000000000001,6.3639999999999999,7.0039999999999996,6.7370000000000001,6.92,84.24,null,null,null,null,8.9,7.1550000000000002,null,null,6.774,7.3490000000000002,null,null,11.045,7.3049999999999997,null,null,26.719000000000001,21.809000000000001,null,null,null,null,8.6180000000000003,7.0270000000000001,null,null,7.468,7.2169999999999996,null,null,4.8319999999999999,6.9429999999999996,null,null,20.917999999999999,21.186999999999998,null,null,null,null,5.0519999999999996,7.1310000000000002,null,null,4.1139999999999999,7.0880000000000001,null,null,4.9009999999999998,6.3639999999999999,null,null,14.067,20.583000000000002,null,null,null,null,1.5780000000000001,7.0039999999999996,null,null,3.1840000000000002,6.7370000000000001,null,null,5.2389999999999999,6.92,null,null,10.000999999999999,20.661000000000001]
[null,2559.2500000000005,2566.9430000000002,2544.0209999999997,2435.9929999999999,2494.4839999999995,2449.271999999999,2509.0730000000003,2487.5990000000002,2224.9279999999999,2442.5409999999988,2343.9630000000006,2401.0259999999998,29461.154000000002,null,null,null,null,2686.9299999999994,2559.2500000000005,null,null,2687.3979999999988,2566.9430000000002,null,null,2558.5219999999999,2544.0209999999997,null,null,7932.85,7670.2140000000009,null,null,null,null,2428.6309999999994,2435.9929999999999,null,null,2522.5339999999997,2566.9430000000002,null,null,2462.8619999999996,2544.0209999999997,null,null,7414.027000000001,7546.9569999999994,null,null,null,null,2345.6970000000001,2509.0730000000003,null,null,2014.2219999999998,2487.5990000000002,null,null,2338.2079999999996,2224.9279999999999,null,null,6698.1270000000013,7221.6000000000013,null,null,null,null,2273.4549999999999,2442.5409999999988,null,null,2301.7330000000015,2343.9630000000006,null,null,2540.4620000000009,2401.0259999999998,null,null,7115.6500000000005,7187.5300000000016]
[]
[]
[null,180.77500000000001,182.518,178.63300000000001,169.42400000000001,171.77699999999999,180.404,182.827,179.47300000000001,159.262,173.36199999999999,165.05699999999999,167.90199999999999,2091.4140000000002,null,null,null,null,186.083,180.77500000000001,null,null,197.626,182.518,null,null,189.32400000000001,178.63300000000001,null,null,573.03300000000002,541.92600000000004,null,null,null,null,183.15600000000001,169.42400000000001,null,null,206.64099999999999,171.77699999999999,null,null,196.267,180.404,null,null,586.06399999999996,521.60500000000002,null,null,null,null,198.23099999999999,182.827,null,null,165.756,179.47300000000001,null,null,203.667,159.262,null,null,567.654,521.56200000000001,null,null,null,null,185.41200000000001,173.36199999999999,null,null,174.1,165.05699999999999,null,null,195.81899999999999,167.90199999999999,null,null,555.33100000000002,506.32099999999997]
[null,16.361000000000001,16.379000000000001,15.894,14.948,15.03,14.170999999999999,14.282999999999999,13.945,12.308999999999999,13.329000000000001,12.627000000000001,12.782,172.05699999999999,null,null,null,null,0,16.361000000000001,null,null,14.539,16.379000000000001,null,null,6.7709999999999999,15.894,null,null,21.31,48.634,null,null,null,null,8.9420000000000002,14.948,null,null,25.686,15.03,null,null,21.704999999999998,14.170999999999999,null,null,56.332999999999998,44.149000000000001,null,null,null,null,2.3109999999999999,14.282999999999999,null,null,0,13.945,null,null,18.498999999999999,12.308999999999999,null,null,20.81,40.536999999999999,null,null,null,null,0,13.329000000000001,null,null,0,12.627000000000001,null,null,0,12.782,null,null,0,38.738]
[null,356.57900000000001,362.28100000000001,356.346,339.33100000000002,345.15600000000001,328.911,334.78500000000003,329.87599999999998,293.673,320.56099999999998,305.93900000000002,311.85700000000003,3985.2930000000001,null,null,null,null,269.95600000000002,356.57900000000001,null,null,268.36700000000002,362.28100000000001,null,null,263.77,356.346,null,null,802.09299999999996,1075.2060000000001,null,null,null,null,246.37100000000001,339.33100000000002,null,null,254.91300000000001,345.15600000000001,null,null,234.87899999999999,328.911,null,null,736.16300000000001,1013.3980000000001,null,null,null,null,228.12100000000001,334.78500000000003,null,null,203.44499999999999,329.87599999999998,null,null,235.422,293.673,null,null,666.98800000000006,958.33400000000006,null,null,null,null,220.71600000000001,320.56099999999998,null,null,226.53200000000001,305.93900000000002,null,null,238.02699999999999,311.85700000000003,null,null,685.27499999999998,938.35699999999997]
[null,258.90100000000001,261.75599999999997,255.31899999999999,162.04599999999999,160.83000000000001,245.101,246.22,239.99700000000001,211.74600000000001,229.40700000000001,216.31899999999999,215.446,2703.087,null,null,null,null,274.61,258.90100000000001,null,null,260.435,261.75599999999997,null,null,214.73500000000001,255.31899999999999,null,null,749.78,775.97599999999989,null,null,null,null,251.006,162.04599999999999,null,null,285.24799999999999,160.83000000000001,null,null,264.00799999999998,245.101,null,null,800.26199999999994,567.97699999999998,null,null,null,null,251.20400000000001,246.22,null,null,228.82599999999999,239.99700000000001,null,null,248.798,211.74600000000001,null,null,728.82799999999997,697.96299999999997,null,null,null,null,251.13800000000001,229.40700000000001,null,null,241.649,216.31899999999999,null,null,253.38800000000001,215.446,null,null,746.17499999999995,661.17200000000003]
[null,0,0,0,0,0,140,113.67700000000001,95.203999999999994,74.718000000000004,73.631,64.510999999999996,61.12,622.85900000000004,null,null,null,null,0,0,null,null,0,0,null,null,0,0,null,null,0,0,null,null,null,null,16.132000000000001,0,null,null,31.135999999999999,0,null,null,57.44,140,null,null,104.708,140,null,null,null,null,48.113999999999997,113.67700000000001,null,null,37.079000000000001,95.203999999999994,null,null,58.148000000000003,74.718000000000004,null,null,143.34100000000001,283.59899999999999,null,null,null,null,44.055999999999997,73.631,null,null,39.729999999999997,64.510999999999996,null,null,37.606999999999999,61.12,null,null,121.393,199.262]
[null,0,64.549000000000007,54.17,45.822000000000003,42.445999999999998,37.462000000000003,35.749000000000002,33.33,28.277999999999999,29.585999999999999,27.192,26.797000000000001,425.38200000000001,null,null,null,null,0,0,null,null,0,64.549000000000007,null,null,0,54.17,null,null,0,118.71900000000001,null,null,null,null,0,45.822000000000003,null,null,0,42.445999999999998,null,null,0,37.462000000000003,null,null,0,125.73,null,null,null,null,0,35.749000000000002,null,null,0,33.33,null,null,0,28.277999999999999,null,null,0,97.356999999999999,null,null,null,null,0,29.585999999999999,null,null,0,27.192,null,null,0,26.797000000000001,null,null,0,83.575000000000003]
[null,0,0,0,0,0,374.61599999999999,307.13900000000001,258.82499999999999,204.042,201.77,177.27600000000001,168.35499999999999,1692.0219999999999,null,null,null,null,0,0,null,null,0,0,null,null,0,0,null,null,0,0,null,null,null,null,41.244,0,null,null,111.31,0,null,null,107.663,374.61599999999999,null,null,260.21699999999998,374.61599999999999,null,null,null,null,245.11799999999999,307.13900000000001,null,null,213.227,258.82499999999999,null,null,256.20800000000003,204.042,null,null,714.553,770.00599999999997,null,null,null,null,225.102,201.77,null,null,199.26400000000001,177.27600000000001,null,null,155.78299999999999,168.35499999999999,null,null,580.149,547.40100000000007]
[null,812.61599999999999,887.48299999999995,860.36199999999997,731.57100000000003,735.23900000000003,1320.665,1234.68,1150.6499999999999,984.02800000000002,1041.646,968.92100000000005,964.25900000000013,11692.114000000001,null,null,null,null,730.649,812.61599999999999,null,null,740.9670000000001,887.48299999999995,null,null,674.6,860.36199999999997,null,null,2146.2159999999999,2560.4609999999998,null,null,null,null,746.851,731.57100000000003,null,null,914.93399999999997,887.48299999999995,null,null,881.96199999999999,860.36199999999997,null,null,2543.7470000000003,2479.4160000000002,null,null,null,null,973.09899999999993,1234.68,null,null,848.33299999999997,1150.6499999999999,null,null,1020.742,984.02800000000002,null,null,2842.174,3369.3579999999997,null,null,null,null,926.42400000000009,1041.646,null,null,881.27499999999998,968.92100000000005,null,null,880.62400000000002,964.25900000000013,null,null,2688.3229999999999,2974.826]
[]
[]
[null,3.641,3.7389999999999999,3.7160000000000002,3.5739999999999998,3.67,3.53,3.625,3.6019999999999999,3.234,3.5579999999999998,3.4220000000000002,3.5139999999999998,42.823999999999998,null,null,null,null,3.1070000000000002,3.641,null,null,3.915,3.7389999999999999,null,null,4.8449999999999998,3.7160000000000002,null,null,11.867000000000001,11.096,null,null,null,null,3.992,3.5739999999999998,null,null,3.532,3.67,null,null,2.7639999999999998,3.53,null,null,10.288,10.773999999999999,null,null,null,null,3.1520000000000001,3.625,null,null,2.5019999999999998,3.6019999999999999,null,null,2.302,3.234,null,null,7.9560000000000004,10.461,null,null,null,null,2.0880000000000001,3.5579999999999998,null,null,2.2269999999999999,3.4220000000000002,null,null,2.2570000000000001,3.5139999999999998,null,null,6.5720000000000001,10.494]
[null,60.222999999999999,61.351999999999997,60.506,57.765999999999998,58.905000000000001,64.516000000000005,65.587000000000003,64.564999999999998,57.44,62.667999999999999,59.790999999999997,60.938000000000002,734.25900000000001,null,null,null,null,64.903999999999996,60.222999999999999,null,null,69.822999999999993,61.351999999999997,null,null,68.057000000000002,60.506,null,null,202.78399999999999,182.08099999999999,null,null,null,null,69.930999999999997,57.765999999999998,null,null,81.733000000000004,58.905000000000001,null,null,77.224000000000004,64.516000000000005,null,null,228.88800000000001,181.18700000000001,null,null,null,null,77.521000000000001,65.587000000000003,null,null,64.528999999999996,64.564999999999998,null,null,78.89,57.44,null,null,220.94,187.59199999999998,null,null,null,null,73.265000000000001,62.667999999999999,null,null,68.676000000000002,59.790999999999997,null,null,74.384,60.938000000000002,null,null,216.32499999999999,183.39699999999999]
[null,297.98099999999999,277.19099999999997,270.09199999999998,276.892,280.25799999999998,266.04899999999998,270.00799999999998,265.459,235.93700000000001,257.23399999999998,245.304,249.92699999999999,3192.335,null,null,null,null,268.733,297.98099999999999,null,null,274.803,277.19099999999997,null,null,269.95100000000002,270.09199999999998,null,null,813.48699999999997,845.26400000000001,null,null,null,null,237.39500000000001,276.892,null,null,252.94499999999999,280.25799999999998,null,null,229.30099999999999,266.04899999999998,null,null,719.64099999999996,823.19899999999996,null,null,null,null,223.14500000000001,270.00799999999998,null,null,195.13900000000001,265.459,null,null,231.661,235.93700000000001,null,null,649.94500000000005,771.404,null,null,null,null,221.309,257.23399999999998,null,null,212.93299999999999,245.304,null,null,235.22,249.92699999999999,null,null,669.46199999999999,752.46500000000003]
[null,22.047999999999998,22.544,22.311,21.373000000000001,21.866,20.954000000000001,21.443000000000001,21.24,19.004999999999999,20.847000000000001,19.991,20.471,254.09200000000001,null,null,null,null,23.064,22.047999999999998,null,null,21.202000000000002,22.544,null,null,17.837,22.311,null,null,62.103000000000002,66.902999999999992,null,null,null,null,17.155000000000001,21.373000000000001,null,null,24.687000000000001,21.866,null,null,23.042999999999999,20.954000000000001,null,null,64.885000000000005,64.193000000000012,null,null,null,null,24.213000000000001,21.443000000000001,null,null,20.757000000000001,21.24,null,null,19.79,19.004999999999999,null,null,64.760000000000005,61.688000000000002,null,null,null,null,25.204000000000001,20.847000000000001,null,null,23.853000000000002,19.991,null,null,25.114999999999998,20.471,null,null,74.171999999999997,61.308999999999997]
[null,296.404,298.83499999999998,290.87099999999998,205.387,204.232,275.37200000000001,276.40100000000001,269.14800000000002,237.203,256.68299999999999,241.90299999999999,241.12100000000001,3093.56,null,null,null,null,315.279,296.404,null,null,295.745,298.83499999999998,null,null,253.33500000000001,290.87099999999998,null,null,864.35900000000004,886.11,null,null,null,null,271.26799999999997,205.387,null,null,315.12599999999998,204.232,null,null,300.31799999999998,275.37200000000001,null,null,886.71199999999999,684.99099999999999,null,null,null,null,272.43400000000003,276.40100000000001,null,null,249.25,269.14800000000002,null,null,77.168000000000006,237.203,null,null,598.85199999999998,782.75199999999995,null,null,null,null,284.63299999999998,256.68299999999999,null,null,265.08699999999999,241.90299999999999,null,null,285.97000000000003,241.12100000000001,null,null,835.69,739.70699999999999]
[null,271.19900000000001,276.41000000000003,272.73099999999999,206.63200000000001,210.72800000000001,255.20599999999999,260.50299999999999,257.40199999999999,229.78200000000001,251.49799999999999,240.66200000000001,245.95500000000001,2978.7080000000001,null,null,null,null,296.08800000000002,271.19900000000001,null,null,290.108,276.41000000000003,null,null,254.68,272.73099999999999,null,null,840.87599999999998,820.34,null,null,null,null,254.99100000000001,206.63200000000001,null,null,275.52600000000001,210.72800000000001,null,null,278.70800000000003,255.20599999999999,null,null,809.22500000000002,672.56600000000003,null,null,null,null,235.08,260.50299999999999,null,null,204.90799999999999,257.40199999999999,null,null,111.411,229.78200000000001,null,null,551.399,747.68700000000001,null,null,null,null,230.797,251.49799999999999,null,null,226.47399999999999,240.66200000000001,null,null,266.15199999999999,245.95500000000001,null,null,723.423,738.11500000000001]
[null,37.295000000000002,38.119999999999997,37.713000000000001,25.431000000000001,25.995999999999999,35.575000000000003,36.393999999999998,36.034999999999997,32.231000000000002,35.343000000000004,33.878999999999998,34.680999999999997,408.69299999999998,null,null,null,null,35.744,37.295000000000002,null,null,37.530999999999999,38.119999999999997,null,null,30.526,37.713000000000001,null,null,103.801,113.12799999999999,null,null,null,null,30.134,25.431000000000001,null,null,34.024999999999999,25.995999999999999,null,null,34.392000000000003,35.575000000000003,null,null,98.551000000000002,87.00200000000001,null,null,null,null,35.521000000000001,36.393999999999998,null,null,30.901,36.034999999999997,null,null,12.343999999999999,32.231000000000002,null,null,78.766000000000005,104.66,null,null,null,null,39.83,35.343000000000004,null,null,32.411999999999999,33.878999999999998,null,null,39.042999999999999,34.680999999999997,null,null,111.285,103.90300000000001]
[null,21.335999999999999,21.768000000000001,21.497,20.548999999999999,20.978999999999999,20.062000000000001,20.49,20.256,18.09,19.806999999999999,18.959,19.381,243.173,null,null,null,null,18.282,21.335999999999999,null,null,24.341000000000001,21.768000000000001,null,null,22.216000000000001,21.497,null,null,64.838999999999999,64.600999999999999,null,null,null,null,26.132999999999999,20.548999999999999,null,null,27.719000000000001,20.978999999999999,null,null,26.358000000000001,20.062000000000001,null,null,80.209999999999994,61.59,null,null,null,null,26.413,20.49,null,null,22.585000000000001,20.256,null,null,14.211,18.09,null,null,63.209000000000003,58.835999999999999,null,null,null,null,23.759,19.806999999999999,null,null,21.431999999999999,18.959,null,null,23.350999999999999,19.381,null,null,68.542000000000002,58.146999999999998]
[null,70.381,25.038,24.791,69.156999999999996,70.718000000000004,90.968999999999994,91.35,89.075000000000003,78.650999999999996,85.298000000000002,80.988,82.215999999999994,858.63300000000004,null,null,null,null,60.761000000000003,70.381,null,null,77.132999999999996,25.038,null,null,46.576000000000001,24.791,null,null,184.47,120.21,null,null,null,null,20.417000000000002,69.156999999999996,null,null,53.116999999999997,70.718000000000004,null,null,181.977,90.968999999999994,null,null,255.511,230.84399999999999,null,null,null,null,179.65600000000001,91.35,null,null,151.19200000000001,89.075000000000003,null,null,84.41,78.650999999999996,null,null,415.25799999999998,259.07600000000002,null,null,null,null,156.68700000000001,85.298000000000002,null,null,148.09700000000001,80.988,null,null,145.48400000000001,82.215999999999994,null,null,450.26799999999997,248.50200000000001]
[null,0,0,0,0,0,58.216000000000001,47.27,39.588000000000001,31.07,30.617999999999999,26.824999999999999,25.414999999999999,259.00299999999999,null,null,null,null,0,0,null,null,0,0,null,null,0,0,null,null,0,0,null,null,null,null,8.0909999999999993,0,null,null,15.616,0,null,null,28.808,58.216000000000001,null,null,52.515000000000001,58.216000000000001,null,null,null,null,24.129000000000001,47.27,null,null,18.597000000000001,39.588000000000001,null,null,29.164000000000001,31.07,null,null,71.89,117.928,null,null,null,null,22.094999999999999,30.617999999999999,null,null,19.925000000000001,26.824999999999999,null,null,18.861000000000001,25.414999999999999,null,null,60.881,82.858000000000004]
[null,0,0,0,0,0,366.57,300.57299999999998,253.30699999999999,199.702,197.48500000000001,173.517,164.78700000000001,1655.941,null,null,null,null,0,0,null,null,0,0,null,null,0,0,null,null,0,0,null,null,null,null,40.776000000000003,0,null,null,110.042,0,null,null,106.43899999999999,366.57,null,null,257.25700000000001,366.57,null,null,null,null,242.327,300.57299999999998,null,null,158.983,253.30699999999999,null,null,43.984000000000002,199.702,null,null,445.29399999999998,753.58199999999999,null,null,null,null,222.542,197.48500000000001,null,null,196.995,173.517,null,null,154.00899999999999,164.78700000000001,null,null,573.54600000000005,535.78899999999999]
[null,0,0,0,0,0,129.06,107.77500000000001,91.867999999999995,73.018000000000001,72.658000000000001,64.161000000000001,61.188000000000002,599.72799999999995,null,null,null,null,0,0,null,null,0,0,null,null,0,0,null,null,0,0,null,null,null,null,0,0,null,null,5.0789999999999997,0,null,null,19.198,129.06,null,null,24.277000000000001,129.06,null,null,null,null,17.114999999999998,107.77500000000001,null,null,12.273,91.867999999999995,null,null,23.231000000000002,73.018000000000001,null,null,52.619,272.661,null,null,null,null,12.513999999999999,72.658000000000001,null,null,8.69,64.161000000000001,null,null,10.984999999999999,61.188000000000002,null,null,32.189,198.00700000000001]
[null,1080.508,1024.9969999999998,1004.2279999999998,886.76100000000008,897.35199999999986,1586.079,1501.4189999999999,1411.5449999999998,1215.3630000000001,1293.6970000000001,1209.402,1209.5940000000001,14320.949000000001,null,null,null,null,1085.962,1080.508,null,null,1094.6009999999999,1024.9969999999998,null,null,968.02299999999991,1004.2279999999998,null,null,3148.5859999999993,3109.7330000000002,null,null,null,null,980.28300000000002,886.76100000000008,null,null,1199.1469999999999,1024.9969999999998,null,null,1308.5300000000002,1004.2279999999998,null,null,3487.96,2915.9859999999999,null,null,null,null,1360.7059999999999,1501.4189999999999,null,null,1131.616,1411.5449999999998,null,null,728.56600000000003,1215.3630000000001,null,null,3220.8879999999995,4128.3269999999993,null,null,null,null,1314.723,1293.6970000000001,null,null,1226.8009999999999,1209.402,null,null,1280.8309999999999,1004.2279999999998,null,null,3822.355,3712.6929999999998]
[]
[]
[null,0,0,0,0,0,0,0,0,0,0,0,0,0,null,null,null,null,3.8370000000000002,0,null,null,211.59299999999999,0,null,null,202.56899999999999,0,null,null,417.99900000000002,0,null,null,null,null,241.18600000000001,0,null,null,254.90700000000001,0,null,null,222.81899999999999,0,null,null,718.91200000000003,0,null,null,null,null,221.94499999999999,0,null,null,203.31800000000001,0,null,null,201.006,0,null,null,626.26900000000001,0,null,null,null,null,226.54400000000001,0,null,null,217.48699999999999,0,null,null,233.88800000000001,0,null,null,677.91899999999998,0]
[null,null,null,null,null,null,null,null,null,null,null,null,null,null,null,null,null,null,3.8370000000000002,0,null,null,211.59299999999999,0,null,null,202.56899999999999,0,null,null,417.99900000000002,0,null,null,null,null,241.18600000000001,0,null,null,254.90700000000001,0,null,null,222.81899999999999,0,null,null,718.91200000000003,0,null,null,null,null,221.94499999999999,0,null,null,203.31800000000001,0,null,null,201.006,0,null,null,626.26900000000001,0,null,null,null,null,226.54400000000001,0,null,null,217.48699999999999,0,null,null,233.88800000000001,0,null,null,677.91899999999998,0]
[]
[]
[null,0.65400000000000003,0.66200000000000003,0.64900000000000002,0.61599999999999999,0.625,0.59399999999999997,0.60299999999999998,0.59199999999999997,0.52500000000000002,0.57199999999999995,0.54400000000000004,0.55300000000000005,7.19,null,null,null,null,0.67500000000000004,0.65400000000000003,null,null,0.61899999999999999,0.66200000000000003,null,null,0.69099999999999995,0.64900000000000002,null,null,1.9850000000000001,1.9650000000000001,null,null,null,null,0.66900000000000004,0.61599999999999999,null,null,0.69,0.625,null,null,0.66700000000000004,0.59399999999999997,null,null,2.0259999999999998,1.835,null,null,null,null,0.59699999999999998,0.60299999999999998,null,null,0.311,0.59199999999999997,null,null,0.70799999999999996,0.52500000000000002,null,null,1.6160000000000001,1.7199999999999998,null,null,null,null,0.64600000000000002,0.57199999999999995,null,null,0.68300000000000005,0.54400000000000004,null,null,0.73499999999999999,0.55300000000000005,null,null,2.0640000000000001,1.669]
[null,0,0,0,0,0,0,0,0,0,0,0,0,0,null,null,null,null,0.622,0,null,null,0.27700000000000002,0,null,null,0,0,null,null,0.89900000000000002,0,null,null,null,null,0.51300000000000001,0,null,null,0.73599999999999999,0,null,null,0.255,0,null,null,1.504,0,null,null,null,null,2.0270000000000001,0,null,null,2.3860000000000001,0,null,null,0.66200000000000003,0,null,null,5.0750000000000002,0,null,null,null,null,1.7769999999999999,0,null,null,0.51900000000000002,0,null,null,0.53600000000000003,0,null,null,2.8319999999999999,0]
[null,1.9119999999999999,1.9550000000000001,1.9350000000000001,1.8540000000000001,1.8959999999999999,1.8169999999999999,1.86,1.8420000000000001,1.649,1.8080000000000001,1.734,1.776,22.039000000000001,null,null,null,null,1.5369999999999999,1.9119999999999999,null,null,1.74,1.9550000000000001,null,null,1.8260000000000001,1.9350000000000001,null,null,5.1029999999999998,5.8019999999999996,null,null,null,null,1.4710000000000001,1.8540000000000001,null,null,1.6,1.8959999999999999,null,null,1.3009999999999999,1.8169999999999999,null,null,4.3719999999999999,5.5670000000000002,null,null,null,null,1.756,1.86,null,null,2.246,1.8420000000000001,null,null,0.23,1.649,null,null,4.2320000000000002,5.351,null,null,null,null,1.3380000000000001,1.8080000000000001,null,null,0.97299999999999998,1.734,null,null,1.1659999999999999,1.776,null,null,3.4769999999999999,5.3179999999999996]
[null,2.5659999999999998,2.617,2.5840000000000001,2.4700000000000002,2.5209999999999999,2.411,2.4630000000000001,2.4340000000000002,2.1739999999999999,2.38,2.278,2.3290000000000002,29.229000000000003,null,null,null,null,2.8340000000000001,2.5659999999999998,null,null,2.6360000000000001,2.617,null,null,2.5169999999999999,2.5840000000000001,null,null,7.9870000000000001,7.7669999999999995,null,null,null,null,2.653,2.4700000000000002,null,null,3.0259999999999998,2.617,null,null,2.2229999999999999,2.5840000000000001,null,null,7.9019999999999992,7.6709999999999994,null,null,null,null,4.38,2.4630000000000001,null,null,4.9429999999999996,2.4340000000000002,null,null,1.6,2.1739999999999999,null,null,10.923000000000002,7.0709999999999997,null,null,null,null,3.7610000000000001,2.38,null,null,2.1749999999999998,2.278,null,null,2.4369999999999998,2.3290000000000002,null,null,8.3729999999999993,6.9870000000000001]
[null,null,null,null,null,null,null,null,null,null,null,null,null,null,null,null,null,null,4510.2119999999995,4454.9400000000005,null,null,4737.1949999999988,4482.0400000000009,null,null,4406.2309999999998,4411.1949999999997,null,null,13653.637999999999,13348.175000000001,null,null,null,null,4399.6039999999994,4056.7949999999996,null,null,4894.5479999999998,4482.0400000000009,null,null,4878.3959999999997,4411.1949999999997,null,null,14172.548000000001,12950.03,null,null,null,null,4905.8270000000002,5247.6350000000002,null,null,4202.4319999999998,5052.2280000000001,null,null,4290.1219999999994,4426.4930000000004,null,null,13398.381000000001,14726.356,null,null,null,null,4744.9070000000002,4780.2639999999992,null,null,4629.4710000000014,4524.5640000000012,null,null,4938.2420000000011,4371.8419999999996,null,null,14312.619999999999,13882.036]
[]
[]
[null,32.530999999999999,33.42,33.225000000000001,31.966999999999999,32.841999999999999,31.599,32.463999999999999,32.277999999999999,28.986000000000001,31.908000000000001,30.405000000000001,31.239000000000001,382.86500000000001,null,null,null,null,0,32.530999999999999,null,null,0,33.42,null,null,0,33.225000000000001,null,null,0,99.175999999999988,null,null,null,null,0,32.530999999999999,null,null,0,33.42,null,null,0,33.225000000000001,null,null,0,99.175999999999988,null,null,null,null,0,32.463999999999999,null,null,0,32.277999999999999,null,null,0,28.986000000000001,null,null,0,93.727999999999994,null,null,null,null,0,31.908000000000001,null,null,0,30.405000000000001,null,null,0,31.239000000000001,null,null,0,93.552000000000007]
[null,6.5220000000000002,6.9349999999999996,7.1289999999999996,7.085,7.3490000000000002,7.08,7.2830000000000004,7.25,6.5190000000000001,7.1849999999999996,6.9210000000000003,7.12,84.379000000000005,null,null,null,null,0,6.5220000000000002,null,null,0,6.9349999999999996,null,null,0,7.1289999999999996,null,null,0,20.585999999999999,null,null,null,null,0,6.5220000000000002,null,null,0,6.9349999999999996,null,null,0,7.1289999999999996,null,null,0,20.585999999999999,null,null,null,null,0,7.2830000000000004,null,null,0,7.25,null,null,0,6.5190000000000001,null,null,0,21.052,null,null,null,null,0,7.1849999999999996,null,null,0,6.9210000000000003,null,null,0,7.12,null,null,0,21.225999999999999]
[null,5.3999999999999999E-2,5.5E-2,5.5E-2,5.2999999999999999E-2,5.3999999999999999E-2,5.1999999999999998E-2,5.2999999999999999E-2,5.2999999999999999E-2,4.7E-2,5.1999999999999998E-2,0.05,5.1999999999999998E-2,0.63,null,null,null,null,0,5.3999999999999999E-2,null,null,0,5.5E-2,null,null,0,5.5E-2,null,null,0,0.16400000000000001,null,null,null,null,0,5.3999999999999999E-2,null,null,0,5.5E-2,null,null,0,5.5E-2,null,null,0,0.16400000000000001,null,null,null,null,0,5.2999999999999999E-2,null,null,0,5.2999999999999999E-2,null,null,0,4.7E-2,null,null,0,0.153,null,null,null,null,0,5.1999999999999998E-2,null,null,0,0.05,null,null,0,5.1999999999999998E-2,null,null,0,0.154]
[null,39.106999999999999,40.410000000000004,40.408999999999999,39.104999999999997,40.244999999999997,38.731000000000002,39.799999999999997,39.580999999999996,35.552,39.145000000000003,37.376000000000005,38.411000000000001,467.87400000000002,null,null,null,null,0,39.106999999999999,null,null,0,40.410000000000004,null,null,0,40.408999999999999,null,null,0,119.92599999999999,null,null,null,null,0,39.106999999999999,null,null,0,40.410000000000004,null,null,0,40.408999999999999,null,null,0,119.92599999999999,null,null,null,null,0,39.799999999999997,null,null,0,39.580999999999996,null,null,0,35.552,null,null,0,114.93299999999999,null,null,null,null,0,39.145000000000003,null,null,0,0,null,null,0,40.408999999999999,null,null,0,79.554000000000002]
[]
[]
[null,4454.9400000000005,4482.0400000000009,4411.1949999999997,4056.7949999999996,4129.5959999999986,5358.4269999999988,5247.6350000000002,5052.2280000000001,4426.4930000000004,4780.2639999999992,4524.5640000000012,4577.2079999999996,55501.384999999995,null,null,null,null,"JUNE",null,null,null,"JULY",null,null,null,"AUG",null,null,null,"TOTAL",null,null,null,null,null,"Sept",null,null,null,"Oct ",null,null,null,"Nov ",null,null,null,"TOTAL",null,null,null,null,null,"Dec",null,null,null,"Jan",null,null,null,"Feb",null,null,null,"TOTAL",null,null,null,null,null,"Mar",null,null,null,"Apr",null,null,null,"May",null,null,null,"TOTAL"]
[null,30,31,31,30,31,30,31,31,28,31,30,31,365,null,null,null,null,8157,null,null,null,8535,null,null,null,7776,null,null,null,24468,null,null,null,null,null,5586,null,null,null,4920,null,null,null,7795,null,null,null,18301,null,null,null,null,null,10980,null,null,null,8168,null,null,null,8382,null,null,null,27530,null,null,null,null,null,7007,null,null,null,8619,null,null,null,8987,null,null,null,24613]
[null,148.49800000000002,144.58193548387101,142.29661290322579,135.22649999999999,133.21277419354834,178.61423333333329,169.27854838709678,162.97509677419356,158.08903571428573,154.20206451612901,150.81880000000004,147.65187096774193,1825.4454722734254,null,null,null,null,3837,null,null,null,211593,null,null,null,202569,null,null,null,417999,null,null,null,null,null,1130,null,null,null,3443,null,null,null,3334,null,null,null,7907,null,null,null,null,null,3490,null,null,null,2946,null,null,null,3472,null,null,null,9908,null,null,null,null,null,3366,null,null,null,3380,null,null,null,3487,null,null,null,10233]
[null,null,null,null,null,null,null,null,null,null,null,null,null,null,null,null,null,null,113765,null,null,null,107093,null,null,null,125041,null,null,null,345899,null,null,null,null,null,122,null,null,null,6316,null,null,null,1751,null,null,null,8189,null,null,null,null,null,1414,null,null,null,2096,null,null,null,421,null,null,null,3931,null,null,null,null,null,322,null,null,null,488,null,null,null,1729,null,null,null,2539]
[null,4494.0470000000005,4522.4500000000007,4451.6039999999994,4095.8999999999996,4169.8409999999985,5397.1579999999985,5287.4350000000004,5091.8090000000002,4462.0450000000001,4819.4089999999997,4561.9400000000014,4615.6189999999997,55969.256999999998,null,null,null,null,675,null,null,null,619,null,null,null,691,null,null,null,1985,null,null,null,null,null,241186,null,null,null,254907,null,null,null,222819,null,null,null,718912,null,null,null,null,null,221945,null,null,null,203318,null,null,null,201006,null,null,null,626269,null,null,null,null,null,226544,null,null,null,217487,null,null,null,233888,null,null,null,677919]
[null,null,null,null,null,null,null,null,null,null,null,null,null,null,null,null,null,null,2037,null,null,null,2008,null,null,null,2079,null,null,null,6124,null,null,null,null,null,119926,null,null,null,123460,null,null,null,116156,null,null,null,359542,null,null,null,null,null,119513,null,null,null,98318,null,null,null,105978,null,null,null,323809,null,null,null,null,null,118103,null,null,null,119369,null,null,null,138002,null,null,null,375474]
[null,4459.6989144662584,4486.9264858904498,4416.0548328296672,4061.4666401947247,4134.398681490019,5363.046601688141,5252.3777476848236,5056.9441633824254,4430.7271025302298,4784.92775909176,4529.0493183888857,4581.8152634473463,55557.433511084731,null,null,null,null,138,null,null,null,143,null,null,null,140,null,null,null,421,null,null,null,null,null,669,null,null,null,690,null,null,null,667,null,null,null,2026,null,null,null,null,null,597,null,null,null,311,null,null,null,708,null,null,null,1616,null,null,null,null,null,646,null,null,null,683,null,null,null,735,null,null,null,2064]
[null,null,null,null,null,null,null,null,null,null,null,null,null,null,null,null,null,null,147361,null,null,null,155766,null,null,null,149480,null,null,null,452607,null,null,null,null,null,1884,null,null,null,2076,null,null,null,1991,null,null,null,5951,null,null,null,null,null,2166,null,null,null,2247,null,null,null,1891,null,null,null,6304,null,null,null,null,null,2355,null,null,null,2400,null,null,null,2727,null,null,null,7482]
[null,4758.9144662579201,4886.4858904489665,4859.832829667539,4671.6401947251143,4802.6814900204045,4619.6016881422111,4742.7476848233709,4716.1633824252931,4234.1025302293929,4663.7590917607668,4485.3183888844796,4607.2634473466678,56048.511084732127,null,null,null,null,12089,null,null,null,11412,null,null,null,10910,null,null,null,34411,null,null,null,null,null,130,null,null,null,130,null,null,null,147,null,null,null,407,null,null,null,null,null,150,null,null,null,122,null,null,null,154,null,null,null,426,null,null,null,null,null,138,null,null,null,135,null,null,null,128,null,null,null,401]
[null,158.63048220859733,157.62857711125699,156.76880095701739,155.72133982417049,154.92520935549692,153.98672293807371,152.9918608007539,152.13430265888042,151.21794750819259,150.44384166970215,149.510612962816,148.62140152731186,1842.5810995222698,null,null,null,null,6696,null,null,null,0,null,null,null,5900,null,null,null,12596,null,null,null,null,null,148148,null,null,null,142860,null,null,null,129976,null,null,null,420984,null,null,null,null,null,139153,null,null,null,116919,null,null,null,134807,null,null,null,390879,null,null,null,null,null,133857,null,null,null,132779,null,null,null,139515,null,null,null,406151]
[null,null,null,null,null,null,null,null,null,null,null,null,null,null,null,null,null,null,3580,null,null,null,3586,null,null,null,3561,null,null,null,10727,null,null,null,null,null,10325,null,null,null,10485,null,null,null,10485,null,null,null,31295,null,null,null,null,null,9970,null,null,null,9339,null,null,null,12605,null,null,null,31914,null,null,null,null,null,7245,null,null,null,9240,null,null,null,11366,null,null,null,27851]
[null,0,64.549000000000007,54.17,45.822000000000003,42.445999999999998,1105.924,912.18299999999999,772.12200000000007,610.82799999999997,605.74800000000005,533.48199999999997,507.66200000000003,5254.9360000000006,null,null,null,null,65216,null,null,null,66642,null,null,null,64083,null,null,null,195941,null,null,null,null,null,1,null,null,null,8339,null,null,null,0,null,null,null,8340,null,null,null,null,null,0,null,null,null,7296,null,null,null,5666,null,null,null,12962,null,null,null,null,null,2871,null,null,null,5885,null,null,null,0,null,null,null,8756]
[null,null,null,null,null,null,null,null,null,null,null,null,null,null,null,null,null,null,12093,null,null,null,11432,null,null,null,10936,null,null,null,34461,null,null,null,null,null,3454,null,null,null,3532,null,null,null,3466,null,null,null,10452,null,null,null,null,null,3472,null,null,null,2855,null,null,null,3691,null,null,null,10018,null,null,null,null,null,3824,null,null,null,3323,null,null,null,3859,null,null,null,11006]
[null,null,null,null,null,null,null,null,null,null,null,null,null,null,null,null,null,null,5948,null,null,null,6797,null,null,null,6670,null,null,null,19415,null,null,null,null,null,61590,null,null,null,62499,null,null,null,55357,null,null,null,179446,null,null,null,null,null,51826,null,null,null,46426,null,null,null,56850,null,null,null,155102,null,null,null,null,null,53139,null,null,null,56654,null,null,null,58343,null,null,null,168136]
[null,null,null,null,null,null,null,null,null,null,null,null,null,null,null,null,null,null,15477,null,null,null,16763,null,null,null,15843,null,null,null,48083,null,null,null,null,null,13229,null,null,null,11530,null,null,null,10542,null,null,null,35301,null,null,null,null,null,8906,null,null,null,7533,null,null,null,9864,null,null,null,26303,null,null,null,null,null,8942,null,null,null,9331,null,null,null,9701,null,null,null,27974]
[null,null,null,null,null,null,null,null,null,null,null,null,null,null,null,null,null,null,60146,null,null,null,61857,null,null,null,58448,null,null,null,180451,null,null,null,null,null,6256,null,null,null,5253,null,null,null,3348,null,null,null,14857,null,null,null,null,null,5009,null,null,null,3439,null,null,null,3795,null,null,null,12243,null,null,null,null,null,5497,null,null,null,5068,null,null,null,5623,null,null,null,16188]
[null,null,null,null,null,null,null,null,null,null,null,null,null,null,null,null,null,null,3107,null,null,null,3915,null,null,null,4845,null,null,null,11867,null,null,null,null,null,6463,null,null,null,3299,null,null,null,21622,null,null,null,31384,null,null,null,null,null,12964,null,null,null,10879,null,null,null,12649,null,null,null,36492,null,null,null,null,null,15677,null,null,null,13607,null,null,null,13333,null,null,null,42617]
[null,null,null,null,null,null,null,null,null,null,null,null,null,null,null,null,null,null,64904,null,null,null,69823,null,null,null,68057,null,null,null,202784,null,null,null,null,null,22455,null,null,null,10645,null,null,null,82336,null,null,null,115436,null,null,null,null,null,55004,null,null,null,40935,null,null,null,55814,null,null,null,151753,null,null,null,null,null,44999,null,null,null,56934,null,null,null,55495,null,null,null,157428]
[null,null,null,null,null,null,null,null,null,null,null,null,null,null,null,null,null,null,268733,null,null,null,274803,null,null,null,269951,null,null,null,813487,null,null,null,null,null,3992,null,null,null,3532,null,null,null,2764,null,null,null,10288,null,null,null,null,null,3152,null,null,null,2502,null,null,null,2302,null,null,null,7956,null,null,null,null,null,2088,null,null,null,2227,null,null,null,2257,null,null,null,6572]
[null,null,null,null,null,null,null,null,null,null,null,null,null,null,null,null,null,null,23064,null,null,null,21202,null,null,null,17837,null,null,null,62103,null,null,null,null,null,69931,null,null,null,81733,null,null,null,77224,null,null,null,228888,null,null,null,null,null,77521,null,null,null,64529,null,null,null,78890,null,null,null,220940,null,null,null,null,null,73265,null,null,null,68676,null,null,null,74384,null,null,null,216325]
[null,null,null,null,null,null,null,null,null,null,null,null,null,null,null,null,null,null,342555,null,null,null,348620,null,null,null,349597,null,null,null,1040772,null,null,null,null,null,237395,null,null,null,252945,null,null,null,229301,null,null,null,719641,null,null,null,null,null,223145,null,null,null,195139,null,null,null,231661,null,null,null,649945,null,null,null,null,null,221309,null,null,null,212933,null,null,null,235220,null,null,null,669462]
[null,null,null,null,null,null,null,null,null,null,null,null,null,null,null,null,null,null,186083,null,null,null,197626,null,null,null,189324,null,null,null,573033,null,null,null,null,null,17155,null,null,null,24687,null,null,null,23043,null,null,null,64885,null,null,null,null,null,24213,null,null,null,20757,null,null,null,19790,null,null,null,64760,null,null,null,null,null,25204,null,null,null,23853,null,null,null,25115,null,null,null,74172]
[null,null,null,null,null,null,null,null,null,null,null,null,null,null,null,null,null,null,49182,null,null,null,62546,null,null,null,56244,null,null,null,167972,null,null,null,null,null,360788,null,null,null,379519,null,null,null,348462,null,null,null,1088769,null,null,null,null,null,337555,null,null,null,290787,null,null,null,346915,null,null,null,975257,null,null,null,null,null,331737,null,null,null,321824,null,null,null,352095,null,null,null,1005656]
[null,null,null,null,null,null,null,null,null,null,null,null,null,null,null,null,null,null,25652,null,null,null,31105,null,null,null,35435,null,null,null,92192,null,null,null,null,null,183156,null,null,null,206641,null,null,null,196267,null,null,null,586064,null,null,null,null,null,198231,null,null,null,165756,null,null,null,203667,null,null,null,567654,null,null,null,null,null,185412,null,null,null,174100,null,null,null,195819,null,null,null,555331]
[null,null,null,null,null,null,null,null,null,null,null,null,null,null,null,null,null,null,12324,null,null,null,16010,null,null,null,12682,null,null,null,41016,null,null,null,null,null,58139,null,null,null,58809,null,null,null,50710,null,null,null,167658,null,null,null,null,null,43744,null,null,null,38236,null,null,null,54233,null,null,null,136213,null,null,null,null,null,42494,null,null,null,43212,null,null,null,58967,null,null,null,144673]
[null,null,null,null,null,null,null,null,null,null,null,null,null,null,null,null,null,null,35616,null,null,null,28058,null,null,null,24394,null,null,null,88068,null,null,null,null,null,29711,null,null,null,41902,null,null,null,31018,null,null,null,102631,null,null,null,null,null,31432,null,null,null,28680,null,null,null,33707,null,null,null,93819,null,null,null,null,null,38096,null,null,null,35562,null,null,null,39044,null,null,null,112702]
[null,null,null,null,null,null,null,null,null,null,null,null,null,null,null,null,null,null,30711,null,null,null,28830,null,null,null,21930,null,null,null,81471,null,null,null,null,null,513,null,null,null,736,null,null,null,255,null,null,null,1504,null,null,null,null,null,2027,null,null,null,2386,null,null,null,662,null,null,null,5075,null,null,null,null,null,1777,null,null,null,519,null,null,null,536,null,null,null,2832]
[null,null,null,null,null,null,null,null,null,null,null,null,null,null,null,null,null,null,792,null,null,null,831,null,null,null,806,null,null,null,2429,null,null,null,null,null,12417,null,null,null,12711,null,null,null,10432,null,null,null,35560,null,null,null,null,null,11560,null,null,null,10491,null,null,null,7223,null,null,null,29274,null,null,null,null,null,14967,null,null,null,14486,null,null,null,12382,null,null,null,41835]
[null,null,null,null,null,null,null,null,null,null,null,null,null,null,null,null,null,null,25401,null,null,null,18149,null,null,null,18471,null,null,null,62021,null,null,null,null,null,21784,null,null,null,36513,null,null,null,35518,null,null,null,93815,null,null,null,null,null,36723,null,null,null,30892,null,null,null,32237,null,null,null,99852,null,null,null,null,null,35291,null,null,null,33081,null,null,null,37713,null,null,null,106085]
[null,null,null,null,null,null,null,null,null,null,null,null,null,null,null,null,null,null,43635,null,null,null,36756,null,null,null,32285,null,null,null,112676,null,null,null,null,null,20585,null,null,null,19288,null,null,null,18549,null,null,null,58422,null,null,null,null,null,19822,null,null,null,16663,null,null,null,20638,null,null,null,57123,null,null,null,null,null,18776,null,null,null,18708,null,null,null,22377,null,null,null,59861]
[null,null,null,null,null,null,null,null,null,null,null,null,null,null,null,null,null,null,113102,null,null,null,114474,null,null,null,85302,null,null,null,312878,null,null,null,null,null,814,null,null,null,792,null,null,null,662,null,null,null,2268,null,null,null,null,null,758,null,null,null,682,null,null,null,739,null,null,null,2179,null,null,null,null,null,736,null,null,null,767,null,null,null,772,null,null,null,2275]
[null,null,null,null,null,null,null,null,null,null,null,null,null,null,null,null,null,null,2548,null,null,null,2680,null,null,null,1878,null,null,null,7106,null,null,null,null,null,18204,null,null,null,19184,null,null,null,18325,null,null,null,55713,null,null,null,null,null,18013,null,null,null,15308,null,null,null,18079,null,null,null,51400,null,null,null,null,null,16602,null,null,null,17137,null,null,null,13215,null,null,null,46954]
[null,null,null,null,null,null,null,null,null,null,null,null,null,null,null,null,null,null,195051,null,null,null,193348,null,null,null,154176,null,null,null,542575,null,null,null,null,null,31516,null,null,null,31297,null,null,null,28020,null,null,null,90833,null,null,null,null,null,24461,null,null,null,17994,null,null,null,26332,null,null,null,68787,null,null,null,null,null,20320,null,null,null,24606,null,null,null,29468,null,null,null,74394]
[null,null,null,null,null,null,null,null,null,null,null,null,null,null,null,null,null,null,3723,null,null,null,3701,null,null,null,3416,null,null,null,10840,null,null,null,null,null,85610,null,null,null,84488,null,null,null,80661,null,null,null,250759,null,null,null,null,null,81160,null,null,null,69525,null,null,null,71657,null,null,null,222342,null,null,null,null,null,75502,null,null,null,74528,null,null,null,75119,null,null,null,225149]
[null,null,null,null,null,null,null,null,null,null,null,null,null,null,null,null,null,null,1247,null,null,null,1885,null,null,null,1311,null,null,null,4443,null,null,null,null,null,1770,null,null,null,1843,null,null,null,1646,null,null,null,5259,null,null,null,null,null,1643,null,null,null,1320,null,null,null,1574,null,null,null,4537,null,null,null,null,null,1434,null,null,null,1654,null,null,null,1743,null,null,null,4831]
[null,null,null,null,null,null,null,null,null,null,null,null,null,null,null,null,null,null,95,null,null,null,100,null,null,null,98,null,null,null,293,null,null,null,null,null,141964,null,null,null,142620,null,null,null,138213,null,null,null,422797,null,null,null,null,null,134225,null,null,null,116985,null,null,null,136191,null,null,null,387401,null,null,null,null,null,129483,null,null,null,127277,null,null,null,141157,null,null,null,397917]
[null,null,null,null,null,null,null,null,null,null,null,null,null,null,null,null,null,null,3277,null,null,null,2876,null,null,null,2512,null,null,null,8665,null,null,null,null,null,3395,null,null,null,3706,null,null,null,3696,null,null,null,10797,null,null,null,null,null,2455,null,null,null,2292,null,null,null,3423,null,null,null,8170,null,null,null,null,null,3105,null,null,null,3150,null,null,null,3024,null,null,null,9279]
[null,null,null,null,null,null,null,null,null,null,null,null,null,null,null,null,null,null,9024,null,null,null,10296,null,null,null,10094,null,null,null,29414,null,null,null,null,null,1227,null,null,null,1174,null,null,null,537,null,null,null,2938,null,null,null,null,null,830,null,null,null,912,null,null,null,1030,null,null,null,2772,null,null,null,null,null,431,null,null,null,489,null,null,null,898,null,null,null,1818]
[null,null,null,null,null,null,null,null,null,null,null,null,null,null,null,null,null,null,250,null,null,null,140,null,null,null,390,null,null,null,780,null,null,null,null,null,89,null,null,null,93,null,null,null,91,null,null,null,273,null,null,null,null,null,88,null,null,null,93,null,null,null,85,null,null,null,266,null,null,null,null,null,98,null,null,null,110,null,null,null,64,null,null,null,272]
[null,null,null,null,null,null,null,null,null,null,null,null,null,null,null,null,null,null,227,null,null,null,92,null,null,null,139,null,null,null,458,null,null,null,null,null,2381,null,null,null,2418,null,null,null,2228,null,null,null,7027,null,null,null,null,null,2245,null,null,null,2013,null,null,null,2263,null,null,null,6521,null,null,null,null,null,2260,null,null,null,2141,null,null,null,2141,null,null,null,6542]
[null,null,null,null,null,null,null,null,null,null,null,null,null,null,null,null,null,null,2040,null,null,null,1630,null,null,null,3173,null,null,null,6843,null,null,null,null,null,9903,null,null,null,10343,null,null,null,9758,null,null,null,30004,null,null,null,null,null,9435,null,null,null,8523,null,null,null,9576,null,null,null,27534,null,null,null,null,null,9624,null,null,null,8753,null,null,null,9971,null,null,null,28348]
[null,null,null,null,null,null,null,null,null,null,null,null,null,null,null,null,null,null,15051,null,null,null,13921,null,null,null,12731,null,null,null,41703,null,null,null,null,null,1100,null,null,null,647,null,null,null,74,null,null,null,1821,null,null,null,null,null,0,null,null,null,0,null,null,null,0,null,null,null,0,null,null,null,null,null,0,null,null,null,32,null,null,null,316,null,null,null,348]
[null,null,null,null,null,null,null,null,null,null,null,null,null,null,null,null,null,null,7603,null,null,null,6450,null,null,null,8051,null,null,null,22104,null,null,null,null,null,248,null,null,null,114,null,null,null,0,null,null,null,362,null,null,null,null,null,180,null,null,null,0,null,null,null,0,null,null,null,180,null,null,null,null,null,78,null,null,null,0,null,null,null,0,null,null,null,78]
[null,null,null,null,null,null,null,null,null,null,null,null,null,null,null,null,null,null,7733,null,null,null,5718,null,null,null,7144,null,null,null,20595,null,null,null,null,null,12,null,null,null,122,null,null,null,100,null,null,null,234,null,null,null,null,null,376,null,null,null,289,null,null,null,258,null,null,null,923,null,null,null,null,null,661,null,null,null,1195,null,null,null,4096,null,null,null,5952]
[null,null,null,null,null,null,null,null,null,null,null,null,null,null,null,null,null,null,73779,null,null,null,61558,null,null,null,68938,null,null,null,204275,null,null,null,null,null,4311,null,null,null,4274,null,null,null,2050,null,null,null,10635,null,null,null,null,null,1384,null,null,null,569,null,null,null,1398,null,null,null,3351,null,null,null,null,null,16437,null,null,null,11602,null,null,null,15868,null,null,null,43907]
[null,null,null,null,null,null,null,null,null,null,null,null,null,null,null,null,null,null,55237,null,null,null,49120,null,null,null,50661,null,null,null,155018,null,null,null,null,null,16000,null,null,null,16342,null,null,null,11539,null,null,null,43881,null,null,null,null,null,14404,null,null,null,13872,null,null,null,12372,null,null,null,40648,null,null,null,null,null,7552,null,null,null,7462,null,null,null,7496,null,null,null,22510]
[null,null,null,null,null,null,null,null,null,null,null,null,null,null,null,null,null,null,1781,null,null,null,550,null,null,null,2028,null,null,null,4359,null,null,null,null,null,6396,null,null,null,8224,null,null,null,6583,null,null,null,21203,null,null,null,null,null,7353,null,null,null,6786,null,null,null,7310,null,null,null,21449,null,null,null,null,null,8545,null,null,null,7286,null,null,null,7613,null,null,null,23444]
[null,null,null,null,null,null,null,null,null,null,null,null,null,null,null,null,null,null,732,null,null,null,632,null,null,null,733,null,null,null,2097,null,null,null,null,null,7565,null,null,null,7966,null,null,null,7070,null,null,null,22601,null,null,null,null,null,7719,null,null,null,4941,null,null,null,8055,null,null,null,20715,null,null,null,null,null,65594,null,null,null,61446,null,null,null,68781,null,null,null,195821]
[null,null,null,null,null,null,null,null,null,null,null,null,null,null,null,null,null,null,1209,null,null,null,1102,null,null,null,1002,null,null,null,3313,null,null,null,null,null,68884,null,null,null,72417,null,null,null,66659,null,null,null,207960,null,null,null,null,null,74151,null,null,null,68130,null,null,null,71519,null,null,null,213800,null,null,null,null,null,48731,null,null,null,48050,null,null,null,47543,null,null,null,144324]
[null,null,null,null,null,null,null,null,null,null,null,null,null,null,null,null,null,null,60101,null,null,null,58104,null,null,null,61221,null,null,null,179426,null,null,null,null,null,52382,null,null,null,53406,null,null,null,52757,null,null,null,158545,null,null,null,null,null,48906,null,null,null,44433,null,null,null,50310,null,null,null,143649,null,null,null,null,null,0,null,null,null,866,null,null,null,6440,null,null,null,7306]
[null,null,null,null,null,null,null,null,null,null,null,null,null,null,null,null,null,null,608,null,null,null,626,null,null,null,431,null,null,null,1665,null,null,null,null,null,5507,null,null,null,5672,null,null,null,5022,null,null,null,16201,null,null,null,null,null,470,null,null,null,2302,null,null,null,4157,null,null,null,6929,null,null,null,null,null,751,null,null,null,704,null,null,null,797,null,null,null,2252]
[null,null,null,null,null,null,null,null,null,null,null,null,null,null,null,null,null,null,5058,null,null,null,3341,null,null,null,2640,null,null,null,11039,null,null,null,null,null,644,null,null,null,682,null,null,null,636,null,null,null,1962,null,null,null,null,null,758,null,null,null,739,null,null,null,713,null,null,null,2210,null,null,null,null,null,0,null,null,null,144,null,null,null,539,null,null,null,683]
[null,null,null,null,null,null,null,null,null,null,null,null,null,null,null,null,null,null,3453,null,null,null,2885,null,null,null,2577,null,null,null,8915,null,null,null,null,null,1173,null,null,null,1240,null,null,null,549,null,null,null,2962,null,null,null,null,null,0,null,null,null,0,null,null,null,177,null,null,null,177,null,null,null,null,null,64953,null,null,null,62093,null,null,null,57605,null,null,null,184651]
[null,null,null,null,null,null,null,null,null,null,null,null,null,null,null,null,null,null,6797,null,null,null,4268,null,null,null,4046,null,null,null,15111,null,null,null,null,null,55676,null,null,null,55822,null,null,null,55256,null,null,null,166754,null,null,null,null,null,65556,null,null,null,47666,null,null,null,62334,null,null,null,175556,null,null,null,null,null,239,null,null,null,22,null,null,null,59,null,null,null,320]
[null,null,null,null,null,null,null,null,null,null,null,null,null,null,null,null,null,null,9714,null,null,null,15176,null,null,null,9968,null,null,null,34858,null,null,null,null,null,11,null,null,null,0,null,null,null,1,null,null,null,12,null,null,null,null,null,0,null,null,null,1,null,null,null,0,null,null,null,1,null,null,null,null,null,4484,null,null,null,4088,null,null,null,5955,null,null,null,14527]
[null,null,null,null,null,null,null,null,null,null,null,null,null,null,null,null,null,null,0,null,null,null,14539,null,null,null,6771,null,null,null,21310,null,null,null,null,null,2236,null,null,null,2155,null,null,null,0,null,null,null,4391,null,null,null,null,null,0,null,null,null,0,null,null,null,0,null,null,null,0,null,null,null,null,null,55,null,null,null,1498,null,null,null,7520,null,null,null,9073]
[null,null,null,null,null,null,null,null,null,null,null,null,null,null,null,null,null,null,3938,null,null,null,3852,null,null,null,5195,null,null,null,12985,null,null,null,null,null,2317,null,null,null,2335,null,null,null,0,null,null,null,4652,null,null,null,null,null,0,null,null,null,0,null,null,null,0,null,null,null,0,null,null,null,null,null,419199,null,null,null,435730,null,null,null,487366,null,null,null,1342295]
[null,null,null,null,null,null,null,null,null,null,null,null,null,null,null,null,null,null,482399,null,null,null,493225,null,null,null,481157,null,null,null,1456781,null,null,null,null,null,3795,null,null,null,3311,null,null,null,907,null,null,null,8013,null,null,null,null,null,127,null,null,null,0,null,null,null,41,null,null,null,168,null,null,null,null,null,220716,null,null,null,226532,null,null,null,238027,null,null,null,685275]
[null,null,null,null,null,null,null,null,null,null,null,null,null,null,null,null,null,null,269956,null,null,null,268367,null,null,null,263770,null,null,null,802093,null,null,null,null,null,11337,null,null,null,15549,null,null,null,16801,null,null,null,43687,null,null,null,null,null,6153,null,null,null,5798,null,null,null,11448,null,null,null,23399,null,null,null,null,null,0,null,null,null,0,null,null,null,289,null,null,null,289]
[null,null,null,null,null,null,null,null,null,null,null,null,null,null,null,null,null,null,172,null,null,null,33,null,null,null,193,null,null,null,398,null,null,null,null,null,8942,null,null,null,25686,null,null,null,21705,null,null,null,56333,null,null,null,null,null,2311,null,null,null,0,null,null,null,18499,null,null,null,20810,null,null,null,null,null,1157,null,null,null,1082,null,null,null,1346,null,null,null,3585]
[null,null,null,null,null,null,null,null,null,null,null,null,null,null,null,null,null,null,954,null,null,null,895,null,null,null,958,null,null,null,2807,null,null,null,null,null,1398,null,null,null,0,null,null,null,636,null,null,null,2034,null,null,null,null,null,2776,null,null,null,989,null,null,null,0,null,null,null,3765,null,null,null,null,null,5934,null,null,null,5803,null,null,null,6034,null,null,null,17771]
[null,null,null,null,null,null,null,null,null,null,null,null,null,null,null,null,null,null,7282,null,null,null,6436,null,null,null,7385,null,null,null,21103,null,null,null,null,null,456619,null,null,null,474452,null,null,null,443667,null,null,null,1374738,null,null,null,null,null,426777,null,null,null,386538,null,null,null,438870,null,null,null,1252185,null,null,null,null,null,0,null,null,null,0,null,null,null,2476,null,null,null,2476]
[null,null,null,null,null,null,null,null,null,null,null,null,null,null,null,null,null,null,3803,null,null,null,3306,null,null,null,3584,null,null,null,10693,null,null,null,null,null,246371,null,null,null,254913,null,null,null,234879,null,null,null,736163,null,null,null,null,null,228121,null,null,null,203445,null,null,null,235422,null,null,null,666988,null,null,null,null,null,0,null,null,null,0,null,null,null,3048,null,null,null,3048]
[null,null,null,null,null,null,null,null,null,null,null,null,null,null,null,null,null,null,1980,null,null,null,0,null,null,null,399,null,null,null,2379,null,null,null,null,null,159,null,null,null,83,null,null,null,0,null,null,null,242,null,null,null,null,null,0,null,null,null,0,null,null,null,0,null,null,null,0,null,null,null,null,null,136245,null,null,null,147580,null,null,null,153465,null,null,null,437290]
[null,null,null,null,null,null,null,null,null,null,null,null,null,null,null,null,null,null,147082,null,null,null,158743,null,null,null,153383,null,null,null,459208,null,null,null,null,null,867,null,null,null,981,null,null,null,982,null,null,null,2830,null,null,null,null,null,979,null,null,null,1470,null,null,null,1228,null,null,null,3677,null,null,null,null,null,94,null,null,null,116,null,null,null,91,null,null,null,301]
[null,null,null,null,null,null,null,null,null,null,null,null,null,null,null,null,null,null,153,null,null,null,33,null,null,null,11,null,null,null,197,null,null,null,null,null,7529,null,null,null,7171,null,null,null,7034,null,null,null,21734,null,null,null,null,null,6208,null,null,null,5806,null,null,null,6176,null,null,null,18190,null,null,null,null,null,259,null,null,null,207,null,null,null,652,null,null,null,1118]
[null,null,null,null,null,null,null,null,null,null,null,null,null,null,null,null,null,null,519,null,null,null,465,null,null,null,430,null,null,null,1414,null,null,null,null,null,5027,null,null,null,3482,null,null,null,4968,null,null,null,13477,null,null,null,null,null,0,null,null,null,0,null,null,null,791,null,null,null,791,null,null,null,null,null,1843,null,null,null,1017,null,null,null,3123,null,null,null,5983]
[null,null,null,null,null,null,null,null,null,null,null,null,null,null,null,null,null,null,2303,null,null,null,3259,null,null,null,1102,null,null,null,6664,null,null,null,null,null,4939,null,null,null,718,null,null,null,5224,null,null,null,10881,null,null,null,null,null,0,null,null,null,0,null,null,null,858,null,null,null,858,null,null,null,null,null,411,null,null,null,0,null,null,null,0,null,null,null,411]
[null,null,null,null,null,null,null,null,null,null,null,null,null,null,null,null,null,null,894,null,null,null,915,null,null,null,919,null,null,null,2728,null,null,null,null,null,149339,null,null,null,140150,null,null,null,124592,null,null,null,414081,null,null,null,null,null,147738,null,null,null,109478,null,null,null,132899,null,null,null,390115,null,null,null,null,null,1515,null,null,null,1087,null,null,null,852,null,null,null,3454]
[null,null,null,null,null,null,null,null,null,null,null,null,null,null,null,null,null,null,1870,null,null,null,1072,null,null,null,1042,null,null,null,3984,null,null,null,null,null,76,null,null,null,30,null,null,null,39,null,null,null,145,null,null,null,null,null,57,null,null,null,0,null,null,null,27,null,null,null,84,null,null,null,null,null,13015,null,null,null,14186,null,null,null,11151,null,null,null,38352]
[null,null,null,null,null,null,null,null,null,null,null,null,null,null,null,null,null,null,23898,null,null,null,25136,null,null,null,21159,null,null,null,70193,null,null,null,null,null,363,null,null,null,385,null,null,null,296,null,null,null,1044,null,null,null,null,null,276,null,null,null,235,null,null,null,417,null,null,null,928,null,null,null,null,null,3089,null,null,null,2493,null,null,null,3067,null,null,null,8649]
[null,null,null,null,null,null,null,null,null,null,null,null,null,null,null,null,null,null,4019,null,null,null,4144,null,null,null,4060,null,null,null,12223,null,null,null,null,null,4307,null,null,null,5087,null,null,null,2830,null,null,null,12224,null,null,null,null,null,1784,null,null,null,2694,null,null,null,2767,null,null,null,7245,null,null,null,null,null,4361,null,null,null,5637,null,null,null,5332,null,null,null,15330]
[null,null,null,null,null,null,null,null,null,null,null,null,null,null,null,null,null,null,5740,null,null,null,5804,null,null,null,5659,null,null,null,17203,null,null,null,null,null,546,null,null,null,0,null,null,null,309,null,null,null,855,null,null,null,null,null,1123,null,null,null,342,null,null,null,1187,null,null,null,2652,null,null,null,null,null,2203,null,null,null,3347,null,null,null,4548,null,null,null,10098]
[null,null,null,null,null,null,null,null,null,null,null,null,null,null,null,null,null,null,5501,null,null,null,4996,null,null,null,3490,null,null,null,13987,null,null,null,null,null,815,null,null,null,1047,null,null,null,1137,null,null,null,2999,null,null,null,null,null,895,null,null,null,619,null,null,null,1143,null,null,null,2657,null,null,null,null,null,1162,null,null,null,906,null,null,null,2797,null,null,null,4865]
[null,null,null,null,null,null,null,null,null,null,null,null,null,null,null,null,null,null,1836,null,null,null,1921,null,null,null,1548,null,null,null,5305,null,null,null,null,null,0,null,null,null,3,null,null,null,0,null,null,null,3,null,null,null,null,null,0,null,null,null,0,null,null,null,0,null,null,null,0,null,null,null,null,null,27087,null,null,null,33067,null,null,null,31146,null,null,null,91300]
[null,null,null,null,null,null,null,null,null,null,null,null,null,null,null,null,null,null,27186,null,null,null,32168,null,null,null,31499,null,null,null,90853,null,null,null,null,null,20706,null,null,null,21677,null,null,null,17922,null,null,null,60305,null,null,null,null,null,11248,null,null,null,8065,null,null,null,12380,null,null,null,31693,null,null,null,null,null,10970,null,null,null,11420,null,null,null,11438,null,null,null,33828]
[null,null,null,null,null,null,null,null,null,null,null,null,null,null,null,null,null,null,11165,null,null,null,14549,null,null,null,11822,null,null,null,37536,null,null,null,null,null,3884,null,null,null,4230,null,null,null,3897,null,null,null,12011,null,null,null,null,null,2241,null,null,null,1147,null,null,null,1632,null,null,null,5020,null,null,null,null,null,284633,null,null,null,265087,null,null,null,285970,null,null,null,835690]
[null,null,null,null,null,null,null,null,null,null,null,null,null,null,null,null,null,null,315279,null,null,null,295745,null,null,null,253335,null,null,null,864359,null,null,null,null,null,5826,null,null,null,5716,null,null,null,4012,null,null,null,15554,null,null,null,null,null,4049,null,null,null,2206,null,null,null,3342,null,null,null,9597,null,null,null,null,null,230797,null,null,null,226474,null,null,null,266152,null,null,null,723423]
[null,null,null,null,null,null,null,null,null,null,null,null,null,null,null,null,null,null,296088,null,null,null,290108,null,null,null,254680,null,null,null,840876,null,null,null,null,null,4825,null,null,null,4530,null,null,null,4438,null,null,null,13793,null,null,null,null,null,2662,null,null,null,2209,null,null,null,3499,null,null,null,8370,null,null,null,null,null,39830,null,null,null,32412,null,null,null,39043,null,null,null,111285]
[null,null,null,null,null,null,null,null,null,null,null,null,null,null,null,null,null,null,35744,null,null,null,37531,null,null,null,30526,null,null,null,103801,null,null,null,null,null,920,null,null,null,1657,null,null,null,1432,null,null,null,4009,null,null,null,null,null,2847,null,null,null,2023,null,null,null,2360,null,null,null,7230,null,null,null,null,null,207581,null,null,null,205780,null,null,null,243392,null,null,null,656753]
[null,null,null,null,null,null,null,null,null,null,null,null,null,null,null,null,null,null,273238,null,null,null,269515,null,null,null,239868,null,null,null,782621,null,null,null,null,null,15140,null,null,null,25627,null,null,null,35610,null,null,null,76377,null,null,null,null,null,29079,null,null,null,27143,null,null,null,30305,null,null,null,86527,null,null,null,null,null,251138,null,null,null,241649,null,null,null,253388,null,null,null,746175]
[null,null,null,null,null,null,null,null,null,null,null,null,null,null,null,null,null,null,274610,null,null,null,260435,null,null,null,214735,null,null,null,749780,null,null,null,null,null,4440,null,null,null,6771,null,null,null,12636,null,null,null,23847,null,null,null,null,null,13317,null,null,null,10899,null,null,null,12705,null,null,null,36921,null,null,null,null,null,1355,null,null,null,800,null,null,null,1498,null,null,null,3653]
[null,null,null,null,null,null,null,null,null,null,null,null,null,null,null,null,null,null,939,null,null,null,904,null,null,null,441,null,null,null,2284,null,null,null,null,null,271268,null,null,null,315126,null,null,null,300318,null,null,null,886712,null,null,null,null,null,272434,null,null,null,249250,null,null,null,77168,null,null,null,598852,null,null,null,null,null,1338,null,null,null,973,null,null,null,1166,null,null,null,3477]
[null,null,null,null,null,null,null,null,null,null,null,null,null,null,null,null,null,null,1537,null,null,null,1740,null,null,null,1826,null,null,null,5103,null,null,null,null,null,254991,null,null,null,275526,null,null,null,278708,null,null,null,809225,null,null,null,null,null,235080,null,null,null,204908,null,null,null,111411,null,null,null,551399,null,null,null,null,null,43004,null,null,null,36501,null,null,null,42632,null,null,null,122137]
[null,null,null,null,null,null,null,null,null,null,null,null,null,null,null,null,null,null,40039,null,null,null,41966,null,null,null,34839,null,null,null,116844,null,null,null,null,null,30134,null,null,null,34025,null,null,null,34392,null,null,null,98551,null,null,null,null,null,35521,null,null,null,30901,null,null,null,12344,null,null,null,78766,null,null,null,null,null,366,null,null,null,353,null,null,null,315,null,null,null,1034]
[null,null,null,null,null,null,null,null,null,null,null,null,null,null,null,null,null,null,18282,null,null,null,24341,null,null,null,22216,null,null,null,64839,null,null,null,null,null,224232,null,null,null,249833,null,null,null,256929,null,null,null,730994,null,null,null,null,null,211304,null,null,null,183077,null,null,null,206021,null,null,null,600402,null,null,null,null,null,23759,null,null,null,21432,null,null,null,23351,null,null,null,68542]
[null,null,null,null,null,null,null,null,null,null,null,null,null,null,null,null,null,null,60761,null,null,null,77133,null,null,null,46576,null,null,null,184470,null,null,null,null,null,251006,null,null,null,285248,null,null,null,264008,null,null,null,800262,null,null,null,null,null,251204,null,null,null,228826,null,null,null,248798,null,null,null,728828,null,null,null,null,null,156687,null,null,null,148097,null,null,null,145484,null,null,null,450268]
[null,null,null,null,null,null,null,null,null,null,null,null,null,null,null,null,null,null,29568,null,null,null,27807,null,null,null,28564,null,null,null,85939,null,null,null,null,null,0,null,null,null,0,null,null,null,1981,null,null,null,1981,null,null,null,null,null,1423,null,null,null,1173,null,null,null,1806,null,null,null,4402,null,null,null,null,null,21937,null,null,null,27345,null,null,null,34168,null,null,null,83450]
[null,null,null,null,null,null,null,null,null,null,null,null,null,null,null,null,null,null,2626,null,null,null,1128,null,null,null,473,null,null,null,4227,null,null,null,null,null,1471,null,null,null,1600,null,null,null,1301,null,null,null,4372,null,null,null,null,null,1756,null,null,null,2246,null,null,null,230,null,null,null,4232,null,null,null,null,null,2537,null,null,null,2198,null,null,null,3592,null,null,null,8327]
[null,null,null,null,null,null,null,null,null,null,null,null,null,null,null,null,null,null,915,null,null,null,740,null,null,null,926,null,null,null,2581,null,null,null,null,null,33979,null,null,null,38077,null,null,null,37917,null,null,null,109973,null,null,null,null,null,38548,null,null,null,33173,null,null,null,39087,null,null,null,110808,null,null,null,null,null,863,null,null,null,1550,null,null,null,376,null,null,null,2789]
[null,null,null,null,null,null,null,null,null,null,null,null,null,null,null,null,null,null,8900,null,null,null,6774,null,null,null,11045,null,null,null,26719,null,null,null,null,null,632,null,null,null,532,null,null,null,431,null,null,null,1595,null,null,null,null,null,448,null,null,null,321,null,null,null,362,null,null,null,1131,null,null,null,null,null,1578,null,null,null,3184,null,null,null,5239,null,null,null,10001]
[null,null,null,null,null,null,null,null,null,null,null,null,null,null,null,null,null,null,622,null,null,null,277,null,null,null,0,null,null,null,899,null,null,null,null,null,26133,null,null,null,27719,null,null,null,26358,null,null,null,80210,null,null,null,null,null,26413,null,null,null,22585,null,null,null,14211,null,null,null,63209,null,null,null,null,null,22095,null,null,null,19925,null,null,null,18861,null,null,null,60881]
[null,null,null,null,null,null,null,null,null,null,null,null,null,null,null,null,null,null,366,null,null,null,551,null,null,null,623,null,null,null,1540,null,null,null,null,null,20417,null,null,null,53117,null,null,null,181977,null,null,null,255511,null,null,null,null,null,179656,null,null,null,151192,null,null,null,84410,null,null,null,415258,null,null,null,null,null,44056,null,null,null,39730,null,null,null,37607,null,null,null,121393]
[null,null,null,null,null,null,null,null,null,null,null,null,null,null,null,null,null,null,0,null,null,null,0,null,null,null,0,null,null,null,0,null,null,null,null,null,28112,null,null,null,28832,null,null,null,32877,null,null,null,89821,null,null,null,null,null,25363,null,null,null,22089,null,null,null,18873,null,null,null,66325,null,null,null,null,null,225102,null,null,null,199264,null,null,null,155783,null,null,null,580149]
[null,null,null,null,null,null,null,null,null,null,null,null,null,null,null,null,null,null,0,null,null,null,0,null,null,null,0,null,null,null,0,null,null,null,null,null,4717,null,null,null,4159,null,null,null,4730,null,null,null,13606,null,null,null,null,null,2587,null,null,null,3294,null,null,null,2254,null,null,null,8135,null,null,null,null,null,222542,null,null,null,196995,null,null,null,154009,null,null,null,573546]
[null,null,null,null,null,null,null,null,null,null,null,null,null,null,null,null,null,null,0,null,null,null,0,null,null,null,0,null,null,null,0,null,null,null,null,null,780,null,null,null,919,null,null,null,850,null,null,null,2549,null,null,null,null,null,1075,null,null,null,1095,null,null,null,1068,null,null,null,3238,null,null,null,null,null,12514,null,null,null,8690,null,null,null,10985,null,null,null,32189]
[null,null,null,null,null,null,null,null,null,null,null,null,null,null,null,null,null,null,0,null,null,null,0,null,null,null,0,null,null,null,0,null,null,null,null,null,8618,null,null,null,7468,null,null,null,4832,null,null,null,20918,null,null,null,null,null,5052,null,null,null,4114,null,null,null,4901,null,null,null,14067,null,null,null,null,null,4745595,null,null,null,4630486,null,null,null,4940485,null,null,null,14316566]
[null,null,null,null,null,null,null,null,null,null,null,null,null,null,null,null,null,null,0,null,null,null,0,null,null,null,0,null,null,null,0,null,null,null,null,null,0,null,null,null,0,null,null,null,0,null,null,null,0,null,null,null,null,null,0,null,null,null,0,null,null,null,0,null,null,null,0]
[null,null,null,null,null,null,null,null,null,null,null,null,null,null,null,null,null,null,0,null,null,null,0,null,null,null,0,null,null,null,0,null,null,null,null,null,0,null,null,null,0,null,null,null,0,null,null,null,0,null,null,null,null,null,0,null,null,null,0,null,null,null,0,null,null,null,0]
[null,null,null,null,null,null,null,null,null,null,null,null,null,null,null,null,null,null,0,null,null,null,0,null,null,null,0,null,null,null,0,null,null,null,null,null,0,null,null,null,0,null,null,null,0,null,null,null,0,null,null,null,null,null,0,null,null,null,0,null,null,null,0,null,null,null,0]
[null,null,null,null,null,null,null,null,null,null,null,null,null,null,null,null,null,null,0,null,null,null,0,null,null,null,0,null,null,null,0,null,null,null,null,null,8091,null,null,null,15616,null,null,null,28808,null,null,null,52515,null,null,null,null,null,24129,null,null,null,18597,null,null,null,29164,null,null,null,71890]
[null,null,null,null,null,null,null,null,null,null,null,null,null,null,null,null,null,null,0,null,null,null,0,null,null,null,0,null,null,null,0,null,null,null,null,null,16132,null,null,null,31136,null,null,null,57440,null,null,null,104708,null,null,null,null,null,48114,null,null,null,37079,null,null,null,58148,null,null,null,143341]
[null,null,null,null,null,null,null,null,null,null,null,null,null,null,null,null,null,null,0,null,null,null,0,null,null,null,0,null,null,null,0,null,null,null,null,null,41244,null,null,null,111310,null,null,null,107663,null,null,null,260217,null,null,null,null,null,245118,null,null,null,213227,null,null,null,256208,null,null,null,714553]
[null,null,null,null,null,null,null,null,null,null,null,null,null,null,null,null,null,null,0,null,null,null,0,null,null,null,0,null,null,null,0,null,null,null,null,null,40776,null,null,null,110042,null,null,null,106439,null,null,null,257257,null,null,null,null,null,242327,null,null,null,158983,null,null,null,43984,null,null,null,445294]
[null,null,null,null,null,null,null,null,null,null,null,null,null,null,null,null,null,null,0,null,null,null,0,null,null,null,0,null,null,null,0,null,null,null,null,null,0,null,null,null,5079,null,null,null,19198,null,null,null,24277,null,null,null,null,null,17115,null,null,null,12273,null,null,null,23231,null,null,null,52619]
[null,null,null,null,null,null,null,null,null,null,null,null,null,null,null,null,null,null,0,null,null,null,0,null,null,null,0,null,null,null,0,null,null,null,null,null,4400358,null,null,null,4901396,null,null,null,4880578,null,null,null,14182332,null,null,null,null,null,4907689,null,null,null,4204849,null,null,null,4290905,null,null,null,13403443]
[]
[]
[]
[]
[]
[]
[]
[]
[]
[]
[]
[]
[]
[]
[]
[]
[]
[]
[]
[]
[]
[]
[]
[]
[]
[]
[]
[]
[]
[]
[]
[]
[]
[]
[]
[]
[]
[]
[]
[]
[]
[]
[]
[]
[]
[]
[]
[]
[]
[]
[]
[]
[]
[]
[]
[]
[]
[]
[]
[]
[]
[]
[]
[]
[]
[]
[]
[]
[]
[]
[]
[]
[]
[]
[]
[]
[]
[]
[]
[]
[]
[]
[]
[]
[]
[]
[]
[]
[]
[]
[]
[]
[]
[]
[]
[]
[]
[]
[]
[]
[]
[]
[]
[]
[]
[]
[]
[]
[]
[]
[]
[]
[]
[]
[]
[]
[]
[]
[]
[]
[]
[]
[]
[]
[]
[]
[]
[]
[]
[]
[]
[]
[]
[]
[]
[]
[]
[]
[]
[]
[]
[]
[]
[]
[]
[]
[]
[]
[]
[]
[]
[]
[]
[]
[]
[]
[]
[]
[]
[]
[]
[]
[]
[]
[]
[]
[]
[]
[]
[]
[]
[]
[]
[]
[]
[]
[]
[]
[]
[]
[]
[]
[]
[]
[]
[]
[]
[]
[]
[]
[]
[]
[]
[]
[]
[]
[]
[]
[]
[]
[]
[]
[]
[]
[]
[]
[]
[]
[]
[]
[]
[]
[]
[]
[]
[]
[]
[]
[]
[]
[]
[]
[]
[]
[]
[]
[]
[]
[]
[]
[]
[]
[]
[]
[]
[]
[]
[]
[]
[]
[]
[]
[]
[]
[]
[]
[]
[]
[]
[]
[]
[]
[]
[]
[]
[]
[]
[]
[]
[]
[]
[]
[]
[]
[]
[]
[]
[]
[]
[]
[]
[]
[]
[]
[]
[]
[]
[]
[]
[]
[]
[]
[]
[]
[]
[]
[]
[]
[]
[]
[]
[]
[]
[]
[]
[]
[]
[]
[]
[]
[]
[]
[]
[]
[]
[]
[]
[]
[]
[]
[]
[]
[]
[]
[]
[]
[]
[]
[]
[]
[]
[]
[]
[]
[]
[]
[]
[]
[]
[]
[]
[]
[]
[]
[]
[]
[]
[]
[]
[]
[]
[]
[]
[]
[]
[]
[]
[]
[]
[]
[]
[]
[]
[]
[]
[]
[]
[]
[]
[]
[]
[]
[]
[]
[]
[]
[]
[]
[]
[]
[]
[]
[]
[]
[]
["keep"]
[]
["ACEJDMT D24                                                                                                                          "]
[]
[" BRFM D24                                                                                                                            "]
[]
[" BRFQ D24                                                                                                                            "]
[]
[" BRFQMT D24                                                                                                                          "]
[]
[" BRFW D24                                                                                                                            "]
[]
[" CBFR D24                                                                                                                            "]
[]
[" CCRUNIT D24                                                                                                                         "]
[]
[" CCRUNITMTD24                                                                                                                        "]
[]
[" CHBT MT                                                                                                                             "]
[]
[" CHBTBUFF D24                                                                                                                        "]
[]
[" CHBTCAT2 D24                                                                                                                        "]
[]
[" CHBTCAT3 D24                                                                                                                        "]
[]
[" DRY PINY MT                                                                                                                         "]
[]
[" DRYPINY6 D24                                                                                                                        "]
[]
[" DRYPINYU D24                                                                                                                        "]
[]
[" HWA DEEP D24                                                                                                                        "]
[]
[" HWA MT                                                                                                                              "]
[]
[" HWADEEPMTD24                                                                                                                        "]
[]
[" HWPL1&3MTD24                                                                                                                        "]
[]
[" HWPLT1&3 D24                                                                                                                        "]
[]
[" HWPLT2 D24                                                                                                                          "]
[]
[" HWPLT2MT D24                                                                                                                        "]
[]
[" ISLAND D24                                                                                                                          "]
[]
[" JNSNRDG D24                                                                                                                         "]
[]
[" JRDG WFS D24                                                                                                                        "]
[]
[" KNY FLD D24                                                                                                                         "]
[]
[" MESA D24                                                                                                                            "]
[]
[" MOSUMT D24                                                                                                                          "]
[]
[" PDW MT                                                                                                                              "]
[]
[" PDW1A1B D24                                                                                                                         "]
[]
[" PDWCUT D24                                                                                                                          "]
[]
[" PDWMT D24                                                                                                                           "]
[]
[" PDWPLT2 D24                                                                                                                         "]
[]
[" SGRLF D24                                                                                                                           "]
[]
[" SGRLFMT D24                                                                                                                         "]
[]
[" TRAIL D24                                                                                                                           "]
[]
[" TRAILMT D24                                                                                                                         "]
[]
[" WHLA D24                                                                                                                            "]
[]
[" WWILSON D24                                                                                                                         "]
[]
[" TOTALS FOR: Comp. - D24                                                                                                             "]
[]
[]
[]
["PDW1A1B D21                                                                                                                          "]
[]
[]
[]
["ACEJDMT PC                                                                                                                           "]
[]
[" BRFM PC                                                                                                                             "]
[]
[" BRFQ PC                                                                                                                             "]
[]
[" BRFQMT PC                                                                                                                           "]
[]
[" BRFW PC                                                                                                                             "]
[]
[" BRUFF MT                                                                                                                            "]
[]
[" CBFR PC                                                                                                                             "]
[]
[" CCRUNIT MT                                                                                                                          "]
[]
[" CCRUNIT PC                                                                                                                          "]
[]
[" CCRUNITMT PC                                                                                                                        "]
[]
[" CHBTC1 MT PC                                                                                                                        "]
[]
[" CHBTCAT1 PC                                                                                                                         "]
[]
[" CHBTCAT2 PC                                                                                                                         "]
[]
[" DRYPINY6 PC                                                                                                                         "]
[]
[" DRYPINYU PC                                                                                                                         "]
[]
[" FOGARTY PC                                                                                                                          "]
[]
[" HWA DEEP PC                                                                                                                         "]
[]
[" HWPL1&3MTPC                                                                                                                         "]
[]
[" HWPLT1&3 PC                                                                                                                         "]
[]
[" HWPLT2 PC                                                                                                                           "]
[]
[" ISLAND PC                                                                                                                           "]
[]
[" JNSNRDG PC                                                                                                                          "]
[]
[" KNY FLD PC                                                                                                                          "]
[]
[" MOSUMT PC                                                                                                                           "]
[]
[" NBXCAMP PC                                                                                                                          "]
[]
[" NOBXFLD PC                                                                                                                          "]
[]
[" PDW1A1B PC                                                                                                                          "]
[]
[" PDW1AB MT PC                                                                                                                        "]
[]
[" PDWCUT PC                                                                                                                           "]
[]
[" PDWPLT2 PC                                                                                                                          "]
[]
[" PDWPLT3 PC                                                                                                                          "]
[]
[" SBXSWEET PC                                                                                                                         "]
[]
[" SGRLF PC                                                                                                                            "]
[]
[" TRAIL PC                                                                                                                            "]
[]
[" WHLA PC                                                                                                                             "]
[]
[" WWILSON PC                                                                                                                          "]
[]
["MOSU MT                                                                                                                              "]
[]
[]
[]
["OFF SYS D24                                                                                                                          "]
[]
[" OFF SYS PC                                                                                                                          "]
[]
[" OFF SYS PW                                                                                                                          "]
[]
["CCRUNIT D8                                                                                                                           "]
[]
[" KNY FLD D8                                                                                                                          "]
[]
[" MESA D8                                                                                                                             "]
[]
[" TRAIL D8                                                                                                                            "]
[]
[" z22 CCRK D8                                                                                                                         "]
[]
[" z22 ISLND D8                                                                                                                        "]
[]
[" z22 TRAIL D8                                                                                                                        "]
[]
["CCOPA 2E                                                                                                                             "]
[]
[" CCRUNIT 2D8                                                                                                                         "]
[]
[" CCRUNIT 2E                                                                                                                          "]
[]
[" CCRUNIT 2EMT                                                                                                                        "]
[]
[" TRAIL 2D8                                                                                                                           "]
[]
[" TRAIL 2E                                                                                                                            "]
[]
[" TRAIL 2E MT                                                                                                                         "]
[]
[" WHISKEY MT                                                                                                                          "]
[]
[" WHISKEYC 2E                                                                                                                         "]
[]
[" z22 CCRK 2D8                                                                                                                        "]
[]
[" z22 TRAIL2D8                                                                                                                        "]
[]
[" z22 WSKY 2D8                                                                                                                        "]
[]
[]
[]
[]
["BRCH CRK Q50                                                                                                                         "]
[]
[" TRAIL Q50                                                                                                                           "]
[]
["MagnaLNG                                                                                                                             "]

{"sheet":"Normal Purchase %","index":38,"n_rows":34,"n_cols":17,"rows_kept":34,"cut":false,"hidden":true,"merged":[[1,0,1,8]]}
[]
["Source:  The whole numbers come from Purchase Gas and Company Owned Gas sheets.  The percentages are then calculated from those numbers."]
[null,2,3,4,5,6,7,8,9]
["Month","Actual Purchase Mdth","Normal Purchase Mdth","Actual Company Mdth","Normal Company Mdths","Actual Purchase as Percent of Total","Normal Purchase as Percent of Total","Actual Cost-of-Service as Percent of Total","Normal Cost-of-Service as Percent of Total",null,"Check Should = 100%","Check Should = 100%"]
[{"$f":"'Ex 1 HDD'!A8","v":"2022-06-01"},{"$f":"'Ex 4 Purchase Gas'!B8","v":483.77},{"$f":"'Ex 4 Purchase Gas'!C8","v":619.59299999999996},{"$f":"'Ex 7 Co. Owned Gas'!B8","v":4510.2119999999995},{"$f":"'Ex 7 Co. Owned Gas'!C8","v":4454.9400000000005},{"$f":"IFERROR(B5/(B5+D5),0)","v":9.6870593446271927E-2},{"$f":"C5/(C5+E5)","v":0.12209852611067855},{"$f":"IFERROR(D5/(D5+B5),0)","v":0.90312940655372798},{"$f":"E5/(E5+C5)","v":0.87790147388932149},null,{"$f":"F5+H5","v":0.99999999999999989},{"$f":"G5+I5","v":1},null,null,null,null,{"$f":"SUM(B5:B7)","v":1012.798}]
[{"$f":"'Ex 1 HDD'!A9","v":"2022-07-01"},{"$f":"'Ex 4 Purchase Gas'!B9","v":252.06100000000001},{"$f":"'Ex 4 Purchase Gas'!C9","v":0},{"$f":"'Ex 7 Co. Owned Gas'!B9","v":4737.1949999999988},{"$f":"'Ex 7 Co. Owned Gas'!C9","v":4482.0400000000009},{"$f":"IFERROR(B6/(B6+D6),0)","v":5.0520759006954158E-2},0,{"$f":"IFERROR(D6/(D6+B6),0)","v":0.94947924099304593},1,null,1,1,null,null,null,null,{"$f":"SUM(D5:D7)","v":13653.637999999999}]
[{"$f":"'Ex 1 HDD'!A10","v":"2022-08-01"},{"$f":"'Ex 4 Purchase Gas'!B10","v":276.96699999999998},{"$f":"'Ex 4 Purchase Gas'!C10","v":0},{"$f":"'Ex 7 Co. Owned Gas'!B10","v":4406.2309999999998},{"$f":"'Ex 7 Co. Owned Gas'!C10","v":4411.1949999999997},5.9140570183024509E-2,0,0.94085942981697557,1,null,1,1,null,null,null,null,{"$f":"Q5+Q6","v":14666.436}]
[{"$f":"'Ex 1 HDD'!A11","v":"2022-09-01"},{"$f":"'Ex 4 Purchase Gas'!B11","v":1317.673},{"$f":"'Ex 4 Purchase Gas'!C11","v":1212.3869999999999},{"$f":"'Ex 7 Co. Owned Gas'!B11","v":4399.6039999999994},{"$f":"'Ex 7 Co. Owned Gas'!C11","v":4056.7949999999996},0.23047212860247984,0.23009017338934201,0.76952787139752021,0.76990982661065788,null,1,0.99999999999999989,null,null,null,null,{"$f":"Q5/Q7","v":6.9055495145514567E-2}]
[{"$f":"'Ex 1 HDD'!A12","v":"2022-10-01"},{"$f":"'Ex 4 Purchase Gas'!B12","v":5048.6930000000002},{"$f":"'Ex 4 Purchase Gas'!C12","v":5386.2150000000001},{"$f":"'Ex 7 Co. Owned Gas'!B12","v":4894.5479999999998},{"$f":"'Ex 7 Co. Owned Gas'!C12","v":4129.5959999999986},0.50775124529315951,0.56602795074429302,0.49224875470684054,0.43397204925570709,null,1,1]
[{"$f":"'Ex 1 HDD'!A13","v":"2022-11-01"},{"$f":"'Ex 4 Purchase Gas'!B13","v":12361.26},{"$f":"'Ex 4 Purchase Gas'!C13","v":8236.6980000000003},{"$f":"'Ex 7 Co. Owned Gas'!B13","v":4878.3959999999997},{"$f":"'Ex 7 Co. Owned Gas'!C13","v":5358.4269999999988},0.71702474805761796,0.60585673173288224,0.28297525194238216,0.39414326826711771,null,{"$f":"F10+H10","v":1},1]
[{"$f":"'Ex 1 HDD'!A14","v":"2022-12-01"},{"$f":"'Ex 4 Purchase Gas'!B14","v":13268.09},{"$f":"'Ex 4 Purchase Gas'!C14","v":11121.36},{"$f":"'Ex 7 Co. Owned Gas'!B14","v":4905.8270000000002},{"$f":"'Ex 7 Co. Owned Gas'!C14","v":5247.6350000000002},0.73006220948406442,0.67941617674145538,0.26993779051593553,0.32058382325854456,null,1,1]
[{"$f":"'Ex 1 HDD'!A15","v":"2023-01-01"},{"$f":"'Ex 4 Purchase Gas'!B15","v":14474.545},{"$f":"'Ex 4 Purchase Gas'!C15","v":11959.41},{"$f":"'Ex 7 Co. Owned Gas'!B15","v":4202.4319999999998},{"$f":"'Ex 7 Co. Owned Gas'!C15","v":5052.2280000000001},0.77499399394238166,0.70301343115812842,0.22500600605761842,0.29698656884187169,null,1,1]
[{"$f":"'Ex 1 HDD'!A16","v":"2023-02-01"},{"$f":"'Ex 4 Purchase Gas'!B16","v":13515.505999999999},{"$f":"'Ex 4 Purchase Gas'!C16","v":9791.5910000000003},{"$f":"'Ex 7 Co. Owned Gas'!B16","v":4290.1219999999994},{"$f":"'Ex 7 Co. Owned Gas'!C16","v":4426.4930000000004},0.75905809107098055,0.68867162410912752,0.24094190892901954,0.31132837589087253,null,1,1]
[{"$f":"'Ex 1 HDD'!A17","v":"2023-03-01"},{"$f":"'Ex 4 Purchase Gas'!B17","v":11815.370999999999},{"$f":"'Ex 4 Purchase Gas'!C17","v":8732.7219999999998},{"$f":"'Ex 7 Co. Owned Gas'!B17","v":4744.9070000000002},{"$f":"'Ex 7 Co. Owned Gas'!C17","v":4780.2639999999992},0.71347660951102387,0.64624665488442012,0.28652339048897613,0.35375334511557988,null,1,1]
[{"$f":"'Ex 1 HDD'!A18","v":"2023-04-01"},{"$f":"'Ex 4 Purchase Gas'!B18","v":6094.8829999999998},{"$f":"'Ex 4 Purchase Gas'!C18","v":4825.1480000000001},{"$f":"'Ex 7 Co. Owned Gas'!B18","v":4629.4710000000014},{"$f":"'Ex 7 Co. Owned Gas'!C18","v":4524.5640000000012},0.56832169098483687,0.51607450582435044,0.43167830901516313,0.48392549417564956,null,1,1]
[{"$f":"'Ex 1 HDD'!A19","v":"2023-05-01"},{"$f":"'Ex 4 Purchase Gas'!B19","v":1815.5889999999999},{"$f":"'Ex 4 Purchase Gas'!C19","v":3597.9140000000002},{"$f":"'Ex 7 Co. Owned Gas'!B19","v":4938.2420000000011},{"$f":"'Ex 7 Co. Owned Gas'!C19","v":4577.2079999999996},0.26882357583421906,0.44010523634998971,0.73117642416578088,0.55989476365001034,null,1,1]
[]
["Q1",{"$f":"SUM(B5:B7)","v":1012.798},{"$f":"SUM(C5:C7)","v":619.59299999999996},{"$f":"SUM(D5:D7)","v":13653.637999999999},{"$f":"SUM(E5:E7)","v":13348.175000000001},{"$f":"IFERROR(B18/(B18+D18),0)","v":6.9055495145514567E-2},{"$f":"C18/(C18+E18)","v":4.4358769418277842E-2},{"$f":"IFERROR(D18/(D18+B18),0)","v":0.93094450485448543},{"$f":"E18/(E18+C18)","v":0.95564123058172212},null,{"$f":"F18+H18","v":1},1]
["Q2",{"$f":"SUM(B8:B10)","v":18727.626},{"$f":"SUM(C8:C10)","v":14835.3},{"$f":"SUM(D8:D10)","v":14172.547999999999},{"$f":"SUM(E8:E10)","v":13544.817999999996},{"$f":"IFERROR(B19/(B19+D19),0)","v":0.56922574330457953},{"$f":"C19/(C19+E19)","v":0.52273567009129429},{"$f":"IFERROR(D19/(D19+B19),0)","v":0.43077425669542052},{"$f":"E19/(E19+C19)","v":0.47726432990870576},null,1,1]
["Q3",{"$f":"SUM(B11:B13)","v":41258.141000000003},{"$f":"SUM(C11:C13)","v":32872.361000000004},{"$f":"SUM(D11:D13)","v":13398.380999999999},{"$f":"SUM(E11:E13)","v":14726.356000000002},0.75486217363044061,0.69061443399829459,0.2451378263695593,0.30938556600170547,null,0.99999999999999989,1]
["Q4",{"$f":"SUM(B14:B16)","v":19725.843000000001},{"$f":"SUM(C14:C16)","v":17155.784},{"$f":"SUM(D14:D16)","v":14312.620000000003},{"$f":"SUM(E14:E16)","v":13882.036},0.57951626664223932,0.55273804667982485,0.42048373335776063,{"$f":"E21/(E21+C21)","v":0.44726195332017521},null,{"$f":"F21+H21","v":1},{"$f":"G21+I21","v":1}]
[null,"IRP","Actual","IRP","Actual",0,"Actual",0,"Actual"]
[]
[null,null,null,null,null,{"$f":"F4","v":"Actual Purchase as Percent of Total"},{"$f":"G4","v":"Normal Purchase as Percent of Total"},{"$f":"H4","v":"Actual Cost-of-Service as Percent of Total"},{"$f":"I4","v":"Normal Cost-of-Service as Percent of Total"}]
[null,null,null,null,{"$f":"A14","v":"2023-03-01"},{"$f":"VLOOKUP($E25,$A$5:$I$16,F$3,FALSE)","v":0.71347660951102387},{"$f":"VLOOKUP($E25,$A$5:$I$16,G$3,FALSE)","v":0.64624665488442012},0.28652339048897613,0.35375334511557988,null,{"$f":"F25+H25","v":1},1]
[null,null,null,null,{"$f":"A15","v":"2023-04-01"},{"$f":"VLOOKUP($E26,$A$5:$I$16,F$3,FALSE)","v":0.56832169098483687},0.51607450582435044,0.43167830901516313,0.48392549417564956,null,1,1]
[null,null,null,null,"2023-05-01",{"$f":"VLOOKUP($E27,$A$5:$I$16,F$3,FALSE)","v":0.26882357583421906},0.44010523634998971,0.73117642416578088,0.55989476365001034,null,1,1]
[]
[null,null,null,null,{"$f":"A18","v":"Q1"},{"$f":"VLOOKUP($E29,$A$18:$I$21,6,FALSE)","v":6.9055495145514567E-2},{"$f":"VLOOKUP($E29,$A$18:$I$21,7,FALSE)","v":4.4358769418277842E-2},{"$f":"VLOOKUP($E29,$A$18:$I$21,8,FALSE)","v":0.93094450485448543},{"$f":"VLOOKUP($E29,$A$18:$I$21,9,FALSE)","v":0.95564123058172212},null,{"$f":"F29+H29","v":1},1]
[null,null,null,null,{"$f":"A19","v":"Q2"},{"$f":"VLOOKUP($E30,$A$18:$I$21,6,FALSE)","v":0.56922574330457953},{"$f":"VLOOKUP($E30,$A$18:$I$21,G$3,FALSE)","v":0.52273567009129429},0.43077425669542052,0.47726432990870576,null,1,1]
[null,null,null,null,{"$f":"A20","v":"Q3"},0.75486217363044061,0.69061443399829459,0.2451378263695593,0.30938556600170547,null,0.99999999999999989,1]
[null,null,null,null,"Q4",0.57951626664223932,0.55273804667982485,0.42048373335776063,0.44726195332017521,null,1,1,null,{"$f":"F32-G32","v":2.6778219962414473E-2},{"$f":"I32-H32","v":2.6778219962414584E-2}]
[]
[null,null,null,null,null,{"$f":"AVERAGE((F25:F27))","v":0.51687395877669329},{"$f":"AVERAGE((G25:G27))","v":0.53414213235292018},{"$f":"AVERAGE((H25:H27))","v":0.48312604122330671},{"$f":"AVERAGE((I25:I27))","v":0.46585786764707993}]

{"sheet":"IRP Pruch Cover Sheet","index":39,"n_rows":17,"n_cols":6,"rows_kept":17,"cut":false,"hidden":true,"merged":[]}
[]
[null,null,2,3,4,5]
[]
[null,null,{"$f":"'Normal Purchase %'!F24","v":"Actual Purchase as Percent of Total"},{"$f":"'Normal Purchase %'!G24","v":"Normal Purchase as Percent of Total"},{"$f":"'Normal Purchase %'!H24","v":"Actual Cost-of-Service as Percent of Total"},{"$f":"'Normal Purchase %'!I24","v":"Normal Cost-of-Service as Percent of Total"}]
[]
[null,{"$f":"'Normal Purchase %'!E25","v":"2023-03-01"},{"$f":"VLOOKUP($B6,'Normal Purchase %'!$E$25:$I$27,'IRP Pruch Cover Sheet'!C$2,FALSE)","v":0.71347660951102387},{"$f":"VLOOKUP($B6,'Normal Purchase %'!$E$25:$I$27,'IRP Pruch Cover Sheet'!D$2,FALSE)","v":0.64624665488442012},{"$f":"VLOOKUP($B6,'Normal Purchase %'!$E$25:$I$27,'IRP Pruch Cover Sheet'!E$2,FALSE)","v":0.28652339048897613},{"$f":"VLOOKUP($B6,'Normal Purchase %'!$E$25:$I$27,'IRP Pruch Cover Sheet'!F$2,FALSE)","v":0.35375334511557988}]
[null,{"$f":"'Normal Purchase %'!E26","v":"2023-04-01"},{"$f":"VLOOKUP($B7,'Normal Purchase %'!$E$25:$I$27,'IRP Pruch Cover Sheet'!C$2,FALSE)","v":0.56832169098483687},{"$f":"VLOOKUP($B7,'Normal Purchase %'!$E$25:$I$27,'IRP Pruch Cover Sheet'!D$2,FALSE)","v":0.51607450582435044},{"$f":"VLOOKUP($B7,'Normal Purchase %'!$E$25:$I$27,'IRP Pruch Cover Sheet'!E$2,FALSE)","v":0.43167830901516313},{"$f":"VLOOKUP($B7,'Normal Purchase %'!$E$25:$I$27,'IRP Pruch Cover Sheet'!F$2,FALSE)","v":0.48392549417564956}]
[null,{"$f":"'Normal Purchase %'!E27","v":"2023-05-01"},{"$f":"VLOOKUP($B8,'Normal Purchase %'!$E$25:$I$27,'IRP Pruch Cover Sheet'!C$2,FALSE)","v":0.26882357583421906},{"$f":"VLOOKUP($B8,'Normal Purchase %'!$E$25:$I$27,'IRP Pruch Cover Sheet'!D$2,FALSE)","v":0.44010523634998971},{"$f":"VLOOKUP($B8,'Normal Purchase %'!$E$25:$I$27,'IRP Pruch Cover Sheet'!E$2,FALSE)","v":0.73117642416578088},{"$f":"VLOOKUP($B8,'Normal Purchase %'!$E$25:$I$27,'IRP Pruch Cover Sheet'!F$2,FALSE)","v":0.55989476365001034}]
[]
[null,"Q4",{"$f":"VLOOKUP($B$10,'Normal Purchase %'!$E$29:$I$32,'IRP Pruch Cover Sheet'!C$2,FALSE)","v":0.57951626664223932},{"$f":"VLOOKUP($B$10,'Normal Purchase %'!$E$29:$I$32,'IRP Pruch Cover Sheet'!D$2,FALSE)","v":0.55273804667982485},{"$f":"VLOOKUP($B$10,'Normal Purchase %'!$E$29:$I$32,'IRP Pruch Cover Sheet'!E$2,FALSE)","v":0.42048373335776063},{"$f":"VLOOKUP($B$10,'Normal Purchase %'!$E$29:$I$32,'IRP Pruch Cover Sheet'!F$2,FALSE)","v":0.44726195332017521}]
[]
[]
[]
[]
[]
[]
[null,null,null,{"$f":"C10-D10","v":2.6778219962414473E-2},{"$f":"F10-E10","v":2.6778219962414584E-2}]

{"sheet":"Sheet1","index":40,"n_rows":75,"n_cols":18,"rows_kept":75,"cut":false,"hidden":true,"merged":[[0,1,0,2],[1,1,1,2]]}
[null,"Actual Data from Jennifer Beasley"]
[null,"Estimates…See Company Nom Groups herein"]
[]
[null,null,"June","July ","August ","Total Dth for Quarter",null,null,"March","April","May","Total Dth for Quarter",null,null,"December","January","February","Total Dth for Quarter"]
[null,"Estimated Shut-in (dth/day)",{"$f":"Sheet10!B138","v":158.63048220859733},{"$f":"Sheet10!C138","v":157.62857711125699},{"$f":"Sheet10!D138","v":156.76880095701739},{"$f":"C5*30+D5*31+E5*31","v":14505.233186374426},null,"Estimated Shut-in (dth/day)",{"$f":"Sheet10!E138","v":155.72133982417049},{"$f":"Sheet10!F138","v":154.92520935549692},{"$f":"Sheet10!G138","v":153.98672293807371},{"$f":"I5*30+J5*31+K5*30","v":14093.92337288773},null,"Estimated Shut-in (dth/day)",{"$f":"Sheet10!H138","v":152.9918608007539},{"$f":"Sheet10!I138","v":152.13430265888042},{"$f":"Sheet10!J138","v":151.21794750819259},{"$f":"O5*31+P5*31+Q5*28","v":13693.013597478057}]
[null,"Actual Shut-in  (dth/day)",0,0,0,{"$f":"C6*30+D6*31+E6*31","v":0},null,"Acutal Shut-in  (dth/day)",{"$f":"I75/30","v":0},{"$f":"J75/31","v":0},0,{"$f":"I6*30+J6*31+K6*30","v":0},null,"Acutal Shut-in  (dth/day)",{"$f":"O75/30","v":0},{"$f":"P75/31","v":0},0,{"$f":"O6*30+P6*31+Q6*30","v":0}]
[]
[]
[]
[null,1,59,{"$f":"D5","v":157.62857711125699},0,null,null,{"$f":"B10","v":1}]
[null,2,59,780,0,null,null,{"$f":"B11","v":2}]
[null,3,59,780,0,null,null,3]
[null,4,59,780,0,null,null,4]
[null,5,59,780,0,null,null,5]
[null,6,59,780,0,null,null,6]
[null,7,59,{"$f":"D11","v":780},0,null,null,7]
[null,8,59,780,0,null,null,8]
[null,9,59,780,0,null,null,9]
[null,10,59,{"$f":"D14","v":780},0,null,null,10]
[null,11,59,780,0,null,null,11]
[null,12,59,780,0,null,null,12]
[null,13,59,{"$f":"D17","v":780},0,null,null,13]
[null,14,59,780,0,null,null,14]
[null,15,59,780,0,null,null,15]
[null,16,59,{"$f":"D20","v":780},0,null,null,16]
[null,17,59,780,0,null,null,17]
[null,18,59,780,0,null,null,18]
[null,19,59,{"$f":"D23","v":780},0,null,null,19]
[null,20,59,780,0,null,null,20]
[null,21,59,780,0,null,null,21]
[null,22,59,{"$f":"D26","v":780},0,null,null,22]
[null,23,59,780,0,null,null,23]
[null,24,59,780,0,null,null,24]
[null,25,59,{"$f":"D29","v":780},0,null,null,25]
[null,26,59,780,0,null,null,26]
[null,27,59,780,0,null,null,27]
[null,28,59,{"$f":"D32","v":780},0,null,null,28]
[null,29,59,780,0,null,null,29]
[null,30,59,780,0,null,null,30]
[null,31,0,{"$f":"D35","v":780},0,null,null,31]
[null,null,{"$f":"SUM(C10:C40)","v":1770},{"$f":"SUM(D10:D40)","v":23557.628577111256},{"$f":"SUM(E10:E40)","v":0},{"$f":"SUM(C41:E41)","v":25327.628577111256},null,null,0,0,0,{"$f":"SUM(I41:K41)","v":0}]
[]
[]
[null,1,0,0,0,null,null,1,0,0,0]
[null,2,0,0,0,null,null,2,0,0,0]
[null,3,0,0,0,null,null,3,0,0,0]
[null,4,0,0,5724,null,null,4,0,0,0]
[null,5,0,0,5724,null,null,5,0,0,0]
[null,6,0,0,5724,null,null,6,0,0,0]
[null,7,0,0,5724,null,null,7,0,0,0]
[null,8,0,0,5724,null,null,8,0,0,0]
[null,9,0,0,5724,null,null,9,0,0,0]
[null,10,0,0,5724,null,null,10,0,0,0]
[null,11,0,0,5724,null,null,11,0,0,0]
[null,12,0,0,5724,null,null,12,0,0,0]
[null,13,0,0,5724,null,null,13,0,0,0]
[null,14,0,0,5724,null,null,14,0,0,0]
[null,15,0,0,5724,null,null,15,0,0,0]
[null,16,0,0,5724,null,null,16,0,0,0]
[null,17,0,0,5724,null,null,17,0,0,0]
[null,18,0,0,5724,null,null,18,0,0,0]
[null,19,0,0,5724,null,null,19,0,0,0]
[null,20,0,0,5724,null,null,20,0,0,0]
[null,21,0,0,5724,null,null,21,0,0,0]
[null,22,0,0,5724,null,null,22,0,0,0]
[null,23,0,0,5724,null,null,23,0,0,0]
[null,24,0,0,5724,null,null,24,0,0,0]
[null,25,0,0,5724,null,null,25,0,0,0]
[null,26,0,0,5724,null,null,26,0,0,0]
[null,27,0,0,5724,null,null,27,0,0,0]
[null,28,0,0,5724,null,null,28,0,0,0]
[null,29,0,0,5724,null,null,29,0,0,0]
[null,30,0,0,5724,null,null,30,0,0,0]
[null,31,0,0,5724,null,null,31,null,0]
[null,null,{"$f":"SUM(C44:C74)","v":0},{"$f":"SUM(D44:D74)","v":0},{"$f":"SUM(E44:E74)","v":160272},{"$f":"SUM(C75:E75)","v":160272},null,null,{"$f":"SUM(I44:I74)","v":0},{"$f":"SUM(J44:J74)","v":0},{"$f":"SUM(K44:K74)","v":0},{"$f":"SUM(I75:K75)","v":0}]

{"sheet":"Shut-In","index":41,"n_rows":75,"n_cols":18,"rows_kept":75,"cut":false,"hidden":true,"merged":[[0,1,0,2],[1,1,1,2]]}
[null,"Actual Data from Jennifer Beasley"]
[null,"Estimates…See Company Nom Groups herein"]
[]
[null,null,"June","July ","August ","Total Dth for Quarter",null,null,"September","October","November","Total Dth for Quarter",null,null,"December","January","February","Total Dth for Quarter"]
[null,"Estimated Shut-in (dth/day)",{"$f":"Sheet10!B138","v":158.63048220859733},{"$f":"Sheet10!C138","v":157.62857711125699},{"$f":"Sheet10!D138","v":156.76880095701739},{"$f":"C5*30+D5*31+E5*31","v":14505.233186374426},null,"Estimated Shut-in (dth/day)",{"$f":"Sheet10!E138","v":155.72133982417049},{"$f":"Sheet10!F138","v":154.92520935549692},{"$f":"Sheet10!G138","v":153.98672293807371},{"$f":"I5*30+J5*31+K5*30","v":14093.92337288773},null,"Estimated Shut-in (dth/day)",{"$f":"Sheet10!H138","v":152.9918608007539},{"$f":"Sheet10!I138","v":152.13430265888042},{"$f":"Sheet10!J138","v":151.21794750819259},{"$f":"O5*31+P5*31+Q5*28","v":13693.013597478057}]
[null,"Actual Shut-in  (dth/day)",0,0,0,{"$f":"C6*30+D6*31+E6*31","v":0},null,"Acutal Shut-in  (dth/day)",{"$f":"I75/30","v":0},{"$f":"J75/31","v":0},0,{"$f":"I6*30+J6*31+K6*30","v":0},null,"Acutal Shut-in  (dth/day)",{"$f":"O75/30","v":0},{"$f":"P75/31","v":0},0,{"$f":"O6*30+P6*31+Q6*30","v":0}]
[]
[]
[]
[null,1,59,{"$f":"D5","v":157.62857711125699},0,null,null,{"$f":"B10","v":1}]
[null,2,59,780,0,null,null,{"$f":"B11","v":2}]
[null,3,59,780,0,null,null,3]
[null,4,59,780,0,null,null,4]
[null,5,59,780,0,null,null,5]
[null,6,59,780,0,null,null,6]
[null,7,59,{"$f":"D11","v":780},0,null,null,7,null,null,"?????????"]
[null,8,59,780,0,null,null,8]
[null,9,59,780,0,null,null,9]
[null,10,59,{"$f":"D14","v":780},0,null,null,10]
[null,11,59,780,0,null,null,11]
[null,12,59,780,0,null,null,12]
[null,13,59,{"$f":"D17","v":780},0,null,null,13]
[null,14,59,780,0,null,null,14]
[null,15,59,780,0,null,null,15]
[null,16,59,{"$f":"D20","v":780},0,null,null,16]
[null,17,59,780,0,null,null,17]
[null,18,59,780,0,null,null,18]
[null,19,59,{"$f":"D23","v":780},0,null,null,19]
[null,20,59,780,0,null,null,20]
[null,21,59,780,0,null,null,21]
[null,22,59,{"$f":"D26","v":780},0,null,null,22]
[null,23,59,780,0,null,null,23]
[null,24,59,780,0,null,null,24]
[null,25,59,{"$f":"D29","v":780},0,null,null,25]
[null,26,59,780,0,null,null,26]
[null,27,59,780,0,null,null,27]
[null,28,59,{"$f":"D32","v":780},0,null,null,28]
[null,29,59,780,0,null,null,29]
[null,30,59,780,0,null,null,30]
[null,31,0,{"$f":"D35","v":780},0,null,null,31]
[null,null,{"$f":"SUM(C10:C40)","v":1770},{"$f":"SUM(D10:D40)","v":23557.628577111256},{"$f":"SUM(E10:E40)","v":0},{"$f":"SUM(C41:E41)","v":25327.628577111256},null,null,0,0,0,{"$f":"SUM(I41:K41)","v":0}]
[]
[]
[null,1,0,0,0,null,null,1,0,0,0]
[null,2,0,0,0,null,null,2,0,0,0]
[null,3,0,0,0,null,null,3,0,0,0]
[null,4,0,0,5724,null,null,4,0,0,0]
[null,5,0,0,5724,null,null,5,0,0,0]
[null,6,0,0,5724,null,null,6,0,0,0]
[null,7,0,0,5724,null,null,7,0,0,0]
[null,8,0,0,5724,null,null,8,0,0,0]
[null,9,0,0,5724,null,null,9,0,0,0]
[null,10,0,0,5724,null,null,10,0,0,0]
[null,11,0,0,5724,null,null,11,0,0,0]
[null,12,0,0,5724,null,null,12,0,0,0]
[null,13,0,0,5724,null,null,13,0,0,0]
[null,14,0,0,5724,null,null,14,0,0,0]
[null,15,0,0,5724,null,null,15,0,0,0]
[null,16,0,0,5724,null,null,16,0,0,0]
[null,17,0,0,5724,null,null,17,0,0,0]
[null,18,0,0,5724,null,null,18,0,0,0]
[null,19,0,0,5724,null,null,19,0,0,0]
[null,20,0,0,5724,null,null,20,0,0,0]
[null,21,0,0,5724,null,null,21,0,0,0]
[null,22,0,0,5724,null,null,22,0,0,0]
[null,23,0,0,5724,null,null,23,0,0,0]
[null,24,0,0,5724,null,null,24,0,0,0]
[null,25,0,0,5724,null,null,25,0,0,0]
[null,26,0,0,5724,null,null,26,0,0,0]
[null,27,0,0,5724,null,null,27,0,0,0]
[null,28,0,0,5724,null,null,28,0,0,0]
[null,29,0,0,5724,null,null,29,0,0,0]
[null,30,0,0,5724,null,null,30,0,0,0]
[null,31,0,0,5724,null,null,31,null,0]
[null,null,{"$f":"SUM(C44:C74)","v":0},{"$f":"SUM(D44:D74)","v":0},{"$f":"SUM(E44:E74)","v":160272},{"$f":"SUM(C75:E75)","v":160272},null,null,{"$f":"SUM(I44:I74)","v":0},{"$f":"SUM(J44:J74)","v":0},{"$f":"SUM(K44:K74)","v":0},{"$f":"SUM(I75:K75)","v":0}]

{"sheet":"Deleted Exhibit 2.5","index":42,"n_rows":32,"n_cols":17,"rows_kept":32,"cut":false,"hidden":true,"merged":[]}
[]
[]
[]
[]
[]
[]
[]
[]
[]
[]
[]
[]
[]
[]
[]
[]
[]
[]
[]
[]
[]
[]
[]
[]
[]
[]
[]
[]
[]
[]
[null,null,null,null,null,null,null,null,null,null,null,null,null,null,{"$f":"'Exhibit 1.1'!O31","v":"DEU Variance Exhibit"},"Docket No. 22-057-02",{"$f":"'Exhibit 1.1'!Q31","v":"Dominion Energy Utah"}]
[null,null,null,null,null,null,null,null,null,null,null,null,null,null,2.5]

{"sheet":"Deleted Exhibit 2.6","index":43,"n_rows":32,"n_cols":17,"rows_kept":32,"cut":false,"hidden":true,"merged":[]}
[]
[]
[]
[]
[]
[]
[]
[]
[]
[]
[]
[]
[]
[]
[]
[]
[]
[]
[]
[]
[]
[]
[]
[]
[]
[]
[]
[]
[]
[]
[null,null,null,null,null,null,null,null,null,null,null,null,null,null,{"$f":"'Exhibit 1.1'!O31","v":"DEU Variance Exhibit"},"Docket No. 22-057-02",{"$f":"'Exhibit 1.1'!Q31","v":"Dominion Energy Utah"}]
[null,null,null,null,null,null,null,null,null,null,null,null,null,null,2.6]